BEGIN:VCALENDAR
VERSION:2.0
PRODID:-//achurchnearyou.com//eventfeed//EN
CALSCALE:GREGORIAN
METHOD:PUBLISH
X-WR-TIMEZONE:UTC
BEGIN:VEVENT
SUMMARY:H2O Women's Event
DTSTART:20250606T183000Z
DTEND:20250606T203000Z
DTSTAMP:20260424T181015Z
UID:11993922025-06-06 18:30:00+00:00achurchnearyou
CATEGORIES:
DESCRIPTION:Friday 6th June @ 7.30pm\, The Lighthouse Church\nJoin us this
  Pentecost to "Fan into Flame the Holy Spirit"\n\nTickets are £10 and inc
 lude a welcome drink & 2 course meal.\nRevd. Jane Beaumont is our guest sp
 eaker and leads Freedom in Christ courses.\n\nBring friends\, it'll be gre
 at! \nPlease book your tickets here
GEO:-3.097111276721183;53.32784607263094
LOCATION:The Lighthouse Church
URL:https://heswallparish.churchsuite.com/events/j9b4o8oq
END:VEVENT
END:VCALENDAR
