BEGIN:VCALENDAR
VERSION:2.0
PRODID:-//achurchnearyou.com//eventfeed//EN
CALSCALE:GREGORIAN
METHOD:PUBLISH
X-WR-TIMEZONE:UTC
BEGIN:VEVENT
SUMMARY:Games Night
DTSTART:20250830T170000Z
DTEND:20250830T190000Z
DTSTAMP:20260424T145404Z
UID:12124922025-08-30 17:00:00+00:00achurchnearyou
CATEGORIES:
DESCRIPTION:Anyone secondary school age is welcome to come along to The Li
 ghthouse Church for a Games Competition on the Saturday. Video games\, Poo
 l\, table football\, air hockey\, and other fun games too! Food\, prizes\,
  and fun!
GEO:-3.097111276721183;53.32784607263094
LOCATION:The Lighthouse Church
URL:https://heswallparish.churchsuite.com/events/mqghhvth
END:VEVENT
END:VCALENDAR
