BEGIN:VCALENDAR
VERSION:2.0
PRODID:-//achurchnearyou.com//eventfeed//EN
CALSCALE:GREGORIAN
METHOD:PUBLISH
X-WR-TIMEZONE:UTC
BEGIN:VEVENT
SUMMARY:Messy Church
DTSTART:20251019T140000Z
DTEND:20251019T160000Z
DTSTAMP:20260424T132809Z
UID:12254112025-10-19 14:00:00+00:00achurchnearyou
CATEGORIES:
DESCRIPTION:Come and join us for stories\, crafts\, games and food!  All a
 ges welcome.\nAll children must be accompanied by an adult.\nVoluntary don
 ation of £3 per child (£7 for 3 or  more children).  Under 2's free.
GEO:-3.097111276721183;53.32784607263094
LOCATION:The Lighthouse Church
URL:https://heswallparish.churchsuite.com/events/q5izowvp
END:VEVENT
END:VCALENDAR
