BEGIN:VCALENDAR
VERSION:2.0
PRODID:-//achurchnearyou.com//eventfeed//EN
CALSCALE:GREGORIAN
METHOD:PUBLISH
X-WR-TIMEZONE:UTC
BEGIN:VEVENT
SUMMARY:Open Door
DTSTART;TZID=Europe/London:20260424T230000
DTEND;TZID=Europe/London:20260424T234500
DTSTAMP:20260423T021421Z
UID:13045882026-04-24 23:00:00+01:00achurchnearyou
CATEGORIES:
DESCRIPTION:If you are out late between 11pm and 3am and need a warm space
 \, a hot drink and a place to talk just drop in.\n\nAll are welcome.
GEO:-3.097111276721183;53.32784607263094
LOCATION:The Lighthouse Church
URL:https://www.heswallparish.co.uk/215/Open-Door
END:VEVENT
BEGIN:VEVENT
SUMMARY:Open Door
DTSTART;TZID=Europe/London:20260501T230000
DTEND;TZID=Europe/London:20260501T234500
DTSTAMP:20260423T021421Z
UID:13045882026-05-01 23:00:00+01:00achurchnearyou
CATEGORIES:
DESCRIPTION:If you are out late between 11pm and 3am and need a warm space
 \, a hot drink and a place to talk just drop in.\n\nAll are welcome.
GEO:-3.097111276721183;53.32784607263094
LOCATION:The Lighthouse Church
URL:https://www.heswallparish.co.uk/215/Open-Door
END:VEVENT
BEGIN:VEVENT
SUMMARY:Open Door
DTSTART;TZID=Europe/London:20260508T230000
DTEND;TZID=Europe/London:20260508T234500
DTSTAMP:20260423T021421Z
UID:13045882026-05-08 23:00:00+01:00achurchnearyou
CATEGORIES:
DESCRIPTION:If you are out late between 11pm and 3am and need a warm space
 \, a hot drink and a place to talk just drop in.\n\nAll are welcome.
GEO:-3.097111276721183;53.32784607263094
LOCATION:The Lighthouse Church
URL:https://www.heswallparish.co.uk/215/Open-Door
END:VEVENT
BEGIN:VEVENT
SUMMARY:Open Door
DTSTART;TZID=Europe/London:20260515T230000
DTEND;TZID=Europe/London:20260515T234500
DTSTAMP:20260423T021421Z
UID:13045882026-05-15 23:00:00+01:00achurchnearyou
CATEGORIES:
DESCRIPTION:If you are out late between 11pm and 3am and need a warm space
 \, a hot drink and a place to talk just drop in.\n\nAll are welcome.
GEO:-3.097111276721183;53.32784607263094
LOCATION:The Lighthouse Church
URL:https://www.heswallparish.co.uk/215/Open-Door
END:VEVENT
BEGIN:VEVENT
SUMMARY:Open Door
DTSTART;TZID=Europe/London:20260522T230000
DTEND;TZID=Europe/London:20260522T234500
DTSTAMP:20260423T021421Z
UID:13045882026-05-22 23:00:00+01:00achurchnearyou
CATEGORIES:
DESCRIPTION:If you are out late between 11pm and 3am and need a warm space
 \, a hot drink and a place to talk just drop in.\n\nAll are welcome.
GEO:-3.097111276721183;53.32784607263094
LOCATION:The Lighthouse Church
URL:https://www.heswallparish.co.uk/215/Open-Door
END:VEVENT
BEGIN:VEVENT
SUMMARY:Open Door
DTSTART;TZID=Europe/London:20260529T230000
DTEND;TZID=Europe/London:20260529T234500
DTSTAMP:20260423T021421Z
UID:13045882026-05-29 23:00:00+01:00achurchnearyou
CATEGORIES:
DESCRIPTION:If you are out late between 11pm and 3am and need a warm space
 \, a hot drink and a place to talk just drop in.\n\nAll are welcome.
GEO:-3.097111276721183;53.32784607263094
LOCATION:The Lighthouse Church
URL:https://www.heswallparish.co.uk/215/Open-Door
END:VEVENT
BEGIN:VEVENT
SUMMARY:Open Door
DTSTART;TZID=Europe/London:20260605T230000
DTEND;TZID=Europe/London:20260605T234500
DTSTAMP:20260423T021421Z
UID:13045882026-06-05 23:00:00+01:00achurchnearyou
CATEGORIES:
DESCRIPTION:If you are out late between 11pm and 3am and need a warm space
 \, a hot drink and a place to talk just drop in.\n\nAll are welcome.
GEO:-3.097111276721183;53.32784607263094
LOCATION:The Lighthouse Church
URL:https://www.heswallparish.co.uk/215/Open-Door
END:VEVENT
BEGIN:VEVENT
SUMMARY:Open Door
DTSTART;TZID=Europe/London:20260612T230000
DTEND;TZID=Europe/London:20260612T234500
DTSTAMP:20260423T021421Z
UID:13045882026-06-12 23:00:00+01:00achurchnearyou
CATEGORIES:
DESCRIPTION:If you are out late between 11pm and 3am and need a warm space
 \, a hot drink and a place to talk just drop in.\n\nAll are welcome.
GEO:-3.097111276721183;53.32784607263094
LOCATION:The Lighthouse Church
URL:https://www.heswallparish.co.uk/215/Open-Door
END:VEVENT
BEGIN:VEVENT
SUMMARY:Open Door
DTSTART;TZID=Europe/London:20260619T230000
DTEND;TZID=Europe/London:20260619T234500
DTSTAMP:20260423T021421Z
UID:13045882026-06-19 23:00:00+01:00achurchnearyou
CATEGORIES:
DESCRIPTION:If you are out late between 11pm and 3am and need a warm space
 \, a hot drink and a place to talk just drop in.\n\nAll are welcome.
GEO:-3.097111276721183;53.32784607263094
LOCATION:The Lighthouse Church
URL:https://www.heswallparish.co.uk/215/Open-Door
END:VEVENT
BEGIN:VEVENT
SUMMARY:Open Door
DTSTART;TZID=Europe/London:20260626T230000
DTEND;TZID=Europe/London:20260626T234500
DTSTAMP:20260423T021421Z
UID:13045882026-06-26 23:00:00+01:00achurchnearyou
CATEGORIES:
DESCRIPTION:If you are out late between 11pm and 3am and need a warm space
 \, a hot drink and a place to talk just drop in.\n\nAll are welcome.
GEO:-3.097111276721183;53.32784607263094
LOCATION:The Lighthouse Church
URL:https://www.heswallparish.co.uk/215/Open-Door
END:VEVENT
BEGIN:VEVENT
SUMMARY:Open Door
DTSTART;TZID=Europe/London:20260703T230000
DTEND;TZID=Europe/London:20260703T234500
DTSTAMP:20260423T021421Z
UID:13045882026-07-03 23:00:00+01:00achurchnearyou
CATEGORIES:
DESCRIPTION:If you are out late between 11pm and 3am and need a warm space
 \, a hot drink and a place to talk just drop in.\n\nAll are welcome.
GEO:-3.097111276721183;53.32784607263094
LOCATION:The Lighthouse Church
URL:https://www.heswallparish.co.uk/215/Open-Door
END:VEVENT
BEGIN:VEVENT
SUMMARY:Open Door
DTSTART;TZID=Europe/London:20260710T230000
DTEND;TZID=Europe/London:20260710T234500
DTSTAMP:20260423T021421Z
UID:13045882026-07-10 23:00:00+01:00achurchnearyou
CATEGORIES:
DESCRIPTION:If you are out late between 11pm and 3am and need a warm space
 \, a hot drink and a place to talk just drop in.\n\nAll are welcome.
GEO:-3.097111276721183;53.32784607263094
LOCATION:The Lighthouse Church
URL:https://www.heswallparish.co.uk/215/Open-Door
END:VEVENT
BEGIN:VEVENT
SUMMARY:Open Door
DTSTART;TZID=Europe/London:20260717T230000
DTEND;TZID=Europe/London:20260717T234500
DTSTAMP:20260423T021421Z
UID:13045882026-07-17 23:00:00+01:00achurchnearyou
CATEGORIES:
DESCRIPTION:If you are out late between 11pm and 3am and need a warm space
 \, a hot drink and a place to talk just drop in.\n\nAll are welcome.
GEO:-3.097111276721183;53.32784607263094
LOCATION:The Lighthouse Church
URL:https://www.heswallparish.co.uk/215/Open-Door
END:VEVENT
BEGIN:VEVENT
SUMMARY:Open Door
DTSTART;TZID=Europe/London:20260724T230000
DTEND;TZID=Europe/London:20260724T234500
DTSTAMP:20260423T021421Z
UID:13045882026-07-24 23:00:00+01:00achurchnearyou
CATEGORIES:
DESCRIPTION:If you are out late between 11pm and 3am and need a warm space
 \, a hot drink and a place to talk just drop in.\n\nAll are welcome.
GEO:-3.097111276721183;53.32784607263094
LOCATION:The Lighthouse Church
URL:https://www.heswallparish.co.uk/215/Open-Door
END:VEVENT
BEGIN:VEVENT
SUMMARY:Open Door
DTSTART;TZID=Europe/London:20260731T230000
DTEND;TZID=Europe/London:20260731T234500
DTSTAMP:20260423T021421Z
UID:13045882026-07-31 23:00:00+01:00achurchnearyou
CATEGORIES:
DESCRIPTION:If you are out late between 11pm and 3am and need a warm space
 \, a hot drink and a place to talk just drop in.\n\nAll are welcome.
GEO:-3.097111276721183;53.32784607263094
LOCATION:The Lighthouse Church
URL:https://www.heswallparish.co.uk/215/Open-Door
END:VEVENT
BEGIN:VEVENT
SUMMARY:Open Door
DTSTART;TZID=Europe/London:20260807T230000
DTEND;TZID=Europe/London:20260807T234500
DTSTAMP:20260423T021421Z
UID:13045882026-08-07 23:00:00+01:00achurchnearyou
CATEGORIES:
DESCRIPTION:If you are out late between 11pm and 3am and need a warm space
 \, a hot drink and a place to talk just drop in.\n\nAll are welcome.
GEO:-3.097111276721183;53.32784607263094
LOCATION:The Lighthouse Church
URL:https://www.heswallparish.co.uk/215/Open-Door
END:VEVENT
BEGIN:VEVENT
SUMMARY:Open Door
DTSTART;TZID=Europe/London:20260814T230000
DTEND;TZID=Europe/London:20260814T234500
DTSTAMP:20260423T021421Z
UID:13045882026-08-14 23:00:00+01:00achurchnearyou
CATEGORIES:
DESCRIPTION:If you are out late between 11pm and 3am and need a warm space
 \, a hot drink and a place to talk just drop in.\n\nAll are welcome.
GEO:-3.097111276721183;53.32784607263094
LOCATION:The Lighthouse Church
URL:https://www.heswallparish.co.uk/215/Open-Door
END:VEVENT
BEGIN:VEVENT
SUMMARY:Open Door
DTSTART;TZID=Europe/London:20260821T230000
DTEND;TZID=Europe/London:20260821T234500
DTSTAMP:20260423T021421Z
UID:13045882026-08-21 23:00:00+01:00achurchnearyou
CATEGORIES:
DESCRIPTION:If you are out late between 11pm and 3am and need a warm space
 \, a hot drink and a place to talk just drop in.\n\nAll are welcome.
GEO:-3.097111276721183;53.32784607263094
LOCATION:The Lighthouse Church
URL:https://www.heswallparish.co.uk/215/Open-Door
END:VEVENT
BEGIN:VEVENT
SUMMARY:Open Door
DTSTART;TZID=Europe/London:20260828T230000
DTEND;TZID=Europe/London:20260828T234500
DTSTAMP:20260423T021421Z
UID:13045882026-08-28 23:00:00+01:00achurchnearyou
CATEGORIES:
DESCRIPTION:If you are out late between 11pm and 3am and need a warm space
 \, a hot drink and a place to talk just drop in.\n\nAll are welcome.
GEO:-3.097111276721183;53.32784607263094
LOCATION:The Lighthouse Church
URL:https://www.heswallparish.co.uk/215/Open-Door
END:VEVENT
BEGIN:VEVENT
SUMMARY:Open Door
DTSTART;TZID=Europe/London:20260904T230000
DTEND;TZID=Europe/London:20260904T234500
DTSTAMP:20260423T021421Z
UID:13045882026-09-04 23:00:00+01:00achurchnearyou
CATEGORIES:
DESCRIPTION:If you are out late between 11pm and 3am and need a warm space
 \, a hot drink and a place to talk just drop in.\n\nAll are welcome.
GEO:-3.097111276721183;53.32784607263094
LOCATION:The Lighthouse Church
URL:https://www.heswallparish.co.uk/215/Open-Door
END:VEVENT
BEGIN:VEVENT
SUMMARY:Open Door
DTSTART;TZID=Europe/London:20260911T230000
DTEND;TZID=Europe/London:20260911T234500
DTSTAMP:20260423T021421Z
UID:13045882026-09-11 23:00:00+01:00achurchnearyou
CATEGORIES:
DESCRIPTION:If you are out late between 11pm and 3am and need a warm space
 \, a hot drink and a place to talk just drop in.\n\nAll are welcome.
GEO:-3.097111276721183;53.32784607263094
LOCATION:The Lighthouse Church
URL:https://www.heswallparish.co.uk/215/Open-Door
END:VEVENT
BEGIN:VEVENT
SUMMARY:Open Door
DTSTART;TZID=Europe/London:20260918T230000
DTEND;TZID=Europe/London:20260918T234500
DTSTAMP:20260423T021421Z
UID:13045882026-09-18 23:00:00+01:00achurchnearyou
CATEGORIES:
DESCRIPTION:If you are out late between 11pm and 3am and need a warm space
 \, a hot drink and a place to talk just drop in.\n\nAll are welcome.
GEO:-3.097111276721183;53.32784607263094
LOCATION:The Lighthouse Church
URL:https://www.heswallparish.co.uk/215/Open-Door
END:VEVENT
BEGIN:VEVENT
SUMMARY:Open Door
DTSTART;TZID=Europe/London:20260925T230000
DTEND;TZID=Europe/London:20260925T234500
DTSTAMP:20260423T021421Z
UID:13045882026-09-25 23:00:00+01:00achurchnearyou
CATEGORIES:
DESCRIPTION:If you are out late between 11pm and 3am and need a warm space
 \, a hot drink and a place to talk just drop in.\n\nAll are welcome.
GEO:-3.097111276721183;53.32784607263094
LOCATION:The Lighthouse Church
URL:https://www.heswallparish.co.uk/215/Open-Door
END:VEVENT
BEGIN:VEVENT
SUMMARY:Open Door
DTSTART;TZID=Europe/London:20261002T230000
DTEND;TZID=Europe/London:20261002T234500
DTSTAMP:20260423T021421Z
UID:13045882026-10-02 23:00:00+01:00achurchnearyou
CATEGORIES:
DESCRIPTION:If you are out late between 11pm and 3am and need a warm space
 \, a hot drink and a place to talk just drop in.\n\nAll are welcome.
GEO:-3.097111276721183;53.32784607263094
LOCATION:The Lighthouse Church
URL:https://www.heswallparish.co.uk/215/Open-Door
END:VEVENT
BEGIN:VEVENT
SUMMARY:Open Door
DTSTART;TZID=Europe/London:20261009T230000
DTEND;TZID=Europe/London:20261009T234500
DTSTAMP:20260423T021421Z
UID:13045882026-10-09 23:00:00+01:00achurchnearyou
CATEGORIES:
DESCRIPTION:If you are out late between 11pm and 3am and need a warm space
 \, a hot drink and a place to talk just drop in.\n\nAll are welcome.
GEO:-3.097111276721183;53.32784607263094
LOCATION:The Lighthouse Church
URL:https://www.heswallparish.co.uk/215/Open-Door
END:VEVENT
BEGIN:VEVENT
SUMMARY:Open Door
DTSTART;TZID=Europe/London:20261016T230000
DTEND;TZID=Europe/London:20261016T234500
DTSTAMP:20260423T021421Z
UID:13045882026-10-16 23:00:00+01:00achurchnearyou
CATEGORIES:
DESCRIPTION:If you are out late between 11pm and 3am and need a warm space
 \, a hot drink and a place to talk just drop in.\n\nAll are welcome.
GEO:-3.097111276721183;53.32784607263094
LOCATION:The Lighthouse Church
URL:https://www.heswallparish.co.uk/215/Open-Door
END:VEVENT
BEGIN:VEVENT
SUMMARY:Open Door
DTSTART;TZID=Europe/London:20261023T230000
DTEND;TZID=Europe/London:20261023T234500
DTSTAMP:20260423T021421Z
UID:13045882026-10-23 23:00:00+01:00achurchnearyou
CATEGORIES:
DESCRIPTION:If you are out late between 11pm and 3am and need a warm space
 \, a hot drink and a place to talk just drop in.\n\nAll are welcome.
GEO:-3.097111276721183;53.32784607263094
LOCATION:The Lighthouse Church
URL:https://www.heswallparish.co.uk/215/Open-Door
END:VEVENT
BEGIN:VEVENT
SUMMARY:Open Door
DTSTART;TZID=Europe/London:20261030T230000
DTEND;TZID=Europe/London:20261030T234500
DTSTAMP:20260423T021421Z
UID:13045882026-10-30 23:00:00+00:00achurchnearyou
CATEGORIES:
DESCRIPTION:If you are out late between 11pm and 3am and need a warm space
 \, a hot drink and a place to talk just drop in.\n\nAll are welcome.
GEO:-3.097111276721183;53.32784607263094
LOCATION:The Lighthouse Church
URL:https://www.heswallparish.co.uk/215/Open-Door
END:VEVENT
BEGIN:VEVENT
SUMMARY:Open Door
DTSTART;TZID=Europe/London:20261106T230000
DTEND;TZID=Europe/London:20261106T234500
DTSTAMP:20260423T021421Z
UID:13045882026-11-06 23:00:00+00:00achurchnearyou
CATEGORIES:
DESCRIPTION:If you are out late between 11pm and 3am and need a warm space
 \, a hot drink and a place to talk just drop in.\n\nAll are welcome.
GEO:-3.097111276721183;53.32784607263094
LOCATION:The Lighthouse Church
URL:https://www.heswallparish.co.uk/215/Open-Door
END:VEVENT
BEGIN:VEVENT
SUMMARY:Open Door
DTSTART;TZID=Europe/London:20261113T230000
DTEND;TZID=Europe/London:20261113T234500
DTSTAMP:20260423T021421Z
UID:13045882026-11-13 23:00:00+00:00achurchnearyou
CATEGORIES:
DESCRIPTION:If you are out late between 11pm and 3am and need a warm space
 \, a hot drink and a place to talk just drop in.\n\nAll are welcome.
GEO:-3.097111276721183;53.32784607263094
LOCATION:The Lighthouse Church
URL:https://www.heswallparish.co.uk/215/Open-Door
END:VEVENT
BEGIN:VEVENT
SUMMARY:Open Door
DTSTART;TZID=Europe/London:20261120T230000
DTEND;TZID=Europe/London:20261120T234500
DTSTAMP:20260423T021421Z
UID:13045882026-11-20 23:00:00+00:00achurchnearyou
CATEGORIES:
DESCRIPTION:If you are out late between 11pm and 3am and need a warm space
 \, a hot drink and a place to talk just drop in.\n\nAll are welcome.
GEO:-3.097111276721183;53.32784607263094
LOCATION:The Lighthouse Church
URL:https://www.heswallparish.co.uk/215/Open-Door
END:VEVENT
BEGIN:VEVENT
SUMMARY:Open Door
DTSTART;TZID=Europe/London:20261127T230000
DTEND;TZID=Europe/London:20261127T234500
DTSTAMP:20260423T021421Z
UID:13045882026-11-27 23:00:00+00:00achurchnearyou
CATEGORIES:
DESCRIPTION:If you are out late between 11pm and 3am and need a warm space
 \, a hot drink and a place to talk just drop in.\n\nAll are welcome.
GEO:-3.097111276721183;53.32784607263094
LOCATION:The Lighthouse Church
URL:https://www.heswallparish.co.uk/215/Open-Door
END:VEVENT
BEGIN:VEVENT
SUMMARY:Open Door
DTSTART;TZID=Europe/London:20261204T230000
DTEND;TZID=Europe/London:20261204T234500
DTSTAMP:20260423T021421Z
UID:13045882026-12-04 23:00:00+00:00achurchnearyou
CATEGORIES:
DESCRIPTION:If you are out late between 11pm and 3am and need a warm space
 \, a hot drink and a place to talk just drop in.\n\nAll are welcome.
GEO:-3.097111276721183;53.32784607263094
LOCATION:The Lighthouse Church
URL:https://www.heswallparish.co.uk/215/Open-Door
END:VEVENT
BEGIN:VEVENT
SUMMARY:Open Door
DTSTART;TZID=Europe/London:20261211T230000
DTEND;TZID=Europe/London:20261211T234500
DTSTAMP:20260423T021421Z
UID:13045882026-12-11 23:00:00+00:00achurchnearyou
CATEGORIES:
DESCRIPTION:If you are out late between 11pm and 3am and need a warm space
 \, a hot drink and a place to talk just drop in.\n\nAll are welcome.
GEO:-3.097111276721183;53.32784607263094
LOCATION:The Lighthouse Church
URL:https://www.heswallparish.co.uk/215/Open-Door
END:VEVENT
BEGIN:VEVENT
SUMMARY:Open Door
DTSTART;TZID=Europe/London:20261218T230000
DTEND;TZID=Europe/London:20261218T234500
DTSTAMP:20260423T021421Z
UID:13045882026-12-18 23:00:00+00:00achurchnearyou
CATEGORIES:
DESCRIPTION:If you are out late between 11pm and 3am and need a warm space
 \, a hot drink and a place to talk just drop in.\n\nAll are welcome.
GEO:-3.097111276721183;53.32784607263094
LOCATION:The Lighthouse Church
URL:https://www.heswallparish.co.uk/215/Open-Door
END:VEVENT
BEGIN:VEVENT
SUMMARY:Open Door
DTSTART;TZID=Europe/London:20261225T230000
DTEND;TZID=Europe/London:20261225T234500
DTSTAMP:20260423T021421Z
UID:13045882026-12-25 23:00:00+00:00achurchnearyou
CATEGORIES:
DESCRIPTION:If you are out late between 11pm and 3am and need a warm space
 \, a hot drink and a place to talk just drop in.\n\nAll are welcome.
GEO:-3.097111276721183;53.32784607263094
LOCATION:The Lighthouse Church
URL:https://www.heswallparish.co.uk/215/Open-Door
END:VEVENT
BEGIN:VEVENT
SUMMARY:Open Door
DTSTART;TZID=Europe/London:20270101T230000
DTEND;TZID=Europe/London:20270101T234500
DTSTAMP:20260423T021421Z
UID:13045882027-01-01 23:00:00+00:00achurchnearyou
CATEGORIES:
DESCRIPTION:If you are out late between 11pm and 3am and need a warm space
 \, a hot drink and a place to talk just drop in.\n\nAll are welcome.
GEO:-3.097111276721183;53.32784607263094
LOCATION:The Lighthouse Church
URL:https://www.heswallparish.co.uk/215/Open-Door
END:VEVENT
BEGIN:VEVENT
SUMMARY:Open Door
DTSTART;TZID=Europe/London:20270108T230000
DTEND;TZID=Europe/London:20270108T234500
DTSTAMP:20260423T021421Z
UID:13045882027-01-08 23:00:00+00:00achurchnearyou
CATEGORIES:
DESCRIPTION:If you are out late between 11pm and 3am and need a warm space
 \, a hot drink and a place to talk just drop in.\n\nAll are welcome.
GEO:-3.097111276721183;53.32784607263094
LOCATION:The Lighthouse Church
URL:https://www.heswallparish.co.uk/215/Open-Door
END:VEVENT
BEGIN:VEVENT
SUMMARY:Open Door
DTSTART;TZID=Europe/London:20270115T230000
DTEND;TZID=Europe/London:20270115T234500
DTSTAMP:20260423T021421Z
UID:13045882027-01-15 23:00:00+00:00achurchnearyou
CATEGORIES:
DESCRIPTION:If you are out late between 11pm and 3am and need a warm space
 \, a hot drink and a place to talk just drop in.\n\nAll are welcome.
GEO:-3.097111276721183;53.32784607263094
LOCATION:The Lighthouse Church
URL:https://www.heswallparish.co.uk/215/Open-Door
END:VEVENT
BEGIN:VEVENT
SUMMARY:Open Door
DTSTART;TZID=Europe/London:20270122T230000
DTEND;TZID=Europe/London:20270122T234500
DTSTAMP:20260423T021421Z
UID:13045882027-01-22 23:00:00+00:00achurchnearyou
CATEGORIES:
DESCRIPTION:If you are out late between 11pm and 3am and need a warm space
 \, a hot drink and a place to talk just drop in.\n\nAll are welcome.
GEO:-3.097111276721183;53.32784607263094
LOCATION:The Lighthouse Church
URL:https://www.heswallparish.co.uk/215/Open-Door
END:VEVENT
BEGIN:VEVENT
SUMMARY:Open Door
DTSTART;TZID=Europe/London:20270129T230000
DTEND;TZID=Europe/London:20270129T234500
DTSTAMP:20260423T021421Z
UID:13045882027-01-29 23:00:00+00:00achurchnearyou
CATEGORIES:
DESCRIPTION:If you are out late between 11pm and 3am and need a warm space
 \, a hot drink and a place to talk just drop in.\n\nAll are welcome.
GEO:-3.097111276721183;53.32784607263094
LOCATION:The Lighthouse Church
URL:https://www.heswallparish.co.uk/215/Open-Door
END:VEVENT
BEGIN:VEVENT
SUMMARY:Open Door
DTSTART;TZID=Europe/London:20270205T230000
DTEND;TZID=Europe/London:20270205T234500
DTSTAMP:20260423T021421Z
UID:13045882027-02-05 23:00:00+00:00achurchnearyou
CATEGORIES:
DESCRIPTION:If you are out late between 11pm and 3am and need a warm space
 \, a hot drink and a place to talk just drop in.\n\nAll are welcome.
GEO:-3.097111276721183;53.32784607263094
LOCATION:The Lighthouse Church
URL:https://www.heswallparish.co.uk/215/Open-Door
END:VEVENT
BEGIN:VEVENT
SUMMARY:Open Door
DTSTART;TZID=Europe/London:20270212T230000
DTEND;TZID=Europe/London:20270212T234500
DTSTAMP:20260423T021421Z
UID:13045882027-02-12 23:00:00+00:00achurchnearyou
CATEGORIES:
DESCRIPTION:If you are out late between 11pm and 3am and need a warm space
 \, a hot drink and a place to talk just drop in.\n\nAll are welcome.
GEO:-3.097111276721183;53.32784607263094
LOCATION:The Lighthouse Church
URL:https://www.heswallparish.co.uk/215/Open-Door
END:VEVENT
BEGIN:VEVENT
SUMMARY:Open Door
DTSTART;TZID=Europe/London:20270219T230000
DTEND;TZID=Europe/London:20270219T234500
DTSTAMP:20260423T021421Z
UID:13045882027-02-19 23:00:00+00:00achurchnearyou
CATEGORIES:
DESCRIPTION:If you are out late between 11pm and 3am and need a warm space
 \, a hot drink and a place to talk just drop in.\n\nAll are welcome.
GEO:-3.097111276721183;53.32784607263094
LOCATION:The Lighthouse Church
URL:https://www.heswallparish.co.uk/215/Open-Door
END:VEVENT
BEGIN:VEVENT
SUMMARY:Open Door
DTSTART;TZID=Europe/London:20270226T230000
DTEND;TZID=Europe/London:20270226T234500
DTSTAMP:20260423T021421Z
UID:13045882027-02-26 23:00:00+00:00achurchnearyou
CATEGORIES:
DESCRIPTION:If you are out late between 11pm and 3am and need a warm space
 \, a hot drink and a place to talk just drop in.\n\nAll are welcome.
GEO:-3.097111276721183;53.32784607263094
LOCATION:The Lighthouse Church
URL:https://www.heswallparish.co.uk/215/Open-Door
END:VEVENT
BEGIN:VEVENT
SUMMARY:Open Door
DTSTART;TZID=Europe/London:20270305T230000
DTEND;TZID=Europe/London:20270305T234500
DTSTAMP:20260423T021421Z
UID:13045882027-03-05 23:00:00+00:00achurchnearyou
CATEGORIES:
DESCRIPTION:If you are out late between 11pm and 3am and need a warm space
 \, a hot drink and a place to talk just drop in.\n\nAll are welcome.
GEO:-3.097111276721183;53.32784607263094
LOCATION:The Lighthouse Church
URL:https://www.heswallparish.co.uk/215/Open-Door
END:VEVENT
BEGIN:VEVENT
SUMMARY:Open Door
DTSTART;TZID=Europe/London:20270312T230000
DTEND;TZID=Europe/London:20270312T234500
DTSTAMP:20260423T021421Z
UID:13045882027-03-12 23:00:00+00:00achurchnearyou
CATEGORIES:
DESCRIPTION:If you are out late between 11pm and 3am and need a warm space
 \, a hot drink and a place to talk just drop in.\n\nAll are welcome.
GEO:-3.097111276721183;53.32784607263094
LOCATION:The Lighthouse Church
URL:https://www.heswallparish.co.uk/215/Open-Door
END:VEVENT
BEGIN:VEVENT
SUMMARY:Open Door
DTSTART;TZID=Europe/London:20270319T230000
DTEND;TZID=Europe/London:20270319T234500
DTSTAMP:20260423T021421Z
UID:13045882027-03-19 23:00:00+00:00achurchnearyou
CATEGORIES:
DESCRIPTION:If you are out late between 11pm and 3am and need a warm space
 \, a hot drink and a place to talk just drop in.\n\nAll are welcome.
GEO:-3.097111276721183;53.32784607263094
LOCATION:The Lighthouse Church
URL:https://www.heswallparish.co.uk/215/Open-Door
END:VEVENT
BEGIN:VEVENT
SUMMARY:Open Door
DTSTART;TZID=Europe/London:20270326T230000
DTEND;TZID=Europe/London:20270326T234500
DTSTAMP:20260423T021421Z
UID:13045882027-03-26 23:00:00+00:00achurchnearyou
CATEGORIES:
DESCRIPTION:If you are out late between 11pm and 3am and need a warm space
 \, a hot drink and a place to talk just drop in.\n\nAll are welcome.
GEO:-3.097111276721183;53.32784607263094
LOCATION:The Lighthouse Church
URL:https://www.heswallparish.co.uk/215/Open-Door
END:VEVENT
BEGIN:VEVENT
SUMMARY:Open Door
DTSTART;TZID=Europe/London:20270402T230000
DTEND;TZID=Europe/London:20270402T234500
DTSTAMP:20260423T021421Z
UID:13045882027-04-02 23:00:00+01:00achurchnearyou
CATEGORIES:
DESCRIPTION:If you are out late between 11pm and 3am and need a warm space
 \, a hot drink and a place to talk just drop in.\n\nAll are welcome.
GEO:-3.097111276721183;53.32784607263094
LOCATION:The Lighthouse Church
URL:https://www.heswallparish.co.uk/215/Open-Door
END:VEVENT
BEGIN:VEVENT
SUMMARY:Open Door
DTSTART;TZID=Europe/London:20270409T230000
DTEND;TZID=Europe/London:20270409T234500
DTSTAMP:20260423T021421Z
UID:13045882027-04-09 23:00:00+01:00achurchnearyou
CATEGORIES:
DESCRIPTION:If you are out late between 11pm and 3am and need a warm space
 \, a hot drink and a place to talk just drop in.\n\nAll are welcome.
GEO:-3.097111276721183;53.32784607263094
LOCATION:The Lighthouse Church
URL:https://www.heswallparish.co.uk/215/Open-Door
END:VEVENT
BEGIN:VEVENT
SUMMARY:Open Door
DTSTART;TZID=Europe/London:20270416T230000
DTEND;TZID=Europe/London:20270416T234500
DTSTAMP:20260423T021421Z
UID:13045882027-04-16 23:00:00+01:00achurchnearyou
CATEGORIES:
DESCRIPTION:If you are out late between 11pm and 3am and need a warm space
 \, a hot drink and a place to talk just drop in.\n\nAll are welcome.
GEO:-3.097111276721183;53.32784607263094
LOCATION:The Lighthouse Church
URL:https://www.heswallparish.co.uk/215/Open-Door
END:VEVENT
BEGIN:VEVENT
SUMMARY:Open Door
DTSTART;TZID=Europe/London:20270423T230000
DTEND;TZID=Europe/London:20270423T234500
DTSTAMP:20260423T021421Z
UID:13045882027-04-23 23:00:00+01:00achurchnearyou
CATEGORIES:
DESCRIPTION:If you are out late between 11pm and 3am and need a warm space
 \, a hot drink and a place to talk just drop in.\n\nAll are welcome.
GEO:-3.097111276721183;53.32784607263094
LOCATION:The Lighthouse Church
URL:https://www.heswallparish.co.uk/215/Open-Door
END:VEVENT
END:VCALENDAR
