BEGIN:VCALENDAR
VERSION:2.0
PRODID:-//achurchnearyou.com//eventfeed//EN
CALSCALE:GREGORIAN
METHOD:PUBLISH
X-WR-TIMEZONE:UTC
BEGIN:VEVENT
SUMMARY:Encounter - Informal Sunday Evening Service
DTSTART;TZID=Europe/London:20260510T183000
DTEND;TZID=Europe/London:20260510T193000
DTSTAMP:20260423T021214Z
UID:13046902026-05-10 18:30:00+01:00achurchnearyou
CATEGORIES:
DESCRIPTION:Every 2nd Sunday of the month - an informal service led by you
 ng people\, for young people\, with everybody welcome. Afterwards Youth Fe
 llowship meet at 7.30pm
GEO:-3.097111276721183;53.32784607263094
LOCATION:The Lighthouse Church
URL:https://www.heswallparish.co.uk/216/Sunday-Services
END:VEVENT
BEGIN:VEVENT
SUMMARY:Encounter - Informal Sunday Evening Service
DTSTART;TZID=Europe/London:20260614T183000
DTEND;TZID=Europe/London:20260614T193000
DTSTAMP:20260423T021214Z
UID:13046902026-06-14 18:30:00+01:00achurchnearyou
CATEGORIES:
DESCRIPTION:Every 2nd Sunday of the month - an informal service led by you
 ng people\, for young people\, with everybody welcome. Afterwards Youth Fe
 llowship meet at 7.30pm
GEO:-3.097111276721183;53.32784607263094
LOCATION:The Lighthouse Church
URL:https://www.heswallparish.co.uk/216/Sunday-Services
END:VEVENT
BEGIN:VEVENT
SUMMARY:Encounter - Informal Sunday Evening Service
DTSTART;TZID=Europe/London:20260712T183000
DTEND;TZID=Europe/London:20260712T193000
DTSTAMP:20260423T021214Z
UID:13046902026-07-12 18:30:00+01:00achurchnearyou
CATEGORIES:
DESCRIPTION:Every 2nd Sunday of the month - an informal service led by you
 ng people\, for young people\, with everybody welcome. Afterwards Youth Fe
 llowship meet at 7.30pm
GEO:-3.097111276721183;53.32784607263094
LOCATION:The Lighthouse Church
URL:https://www.heswallparish.co.uk/216/Sunday-Services
END:VEVENT
BEGIN:VEVENT
SUMMARY:Encounter - Informal Sunday Evening Service
DTSTART;TZID=Europe/London:20260809T183000
DTEND;TZID=Europe/London:20260809T193000
DTSTAMP:20260423T021214Z
UID:13046902026-08-09 18:30:00+01:00achurchnearyou
CATEGORIES:
DESCRIPTION:Every 2nd Sunday of the month - an informal service led by you
 ng people\, for young people\, with everybody welcome. Afterwards Youth Fe
 llowship meet at 7.30pm
GEO:-3.097111276721183;53.32784607263094
LOCATION:The Lighthouse Church
URL:https://www.heswallparish.co.uk/216/Sunday-Services
END:VEVENT
BEGIN:VEVENT
SUMMARY:Encounter - Informal Sunday Evening Service
DTSTART;TZID=Europe/London:20260913T183000
DTEND;TZID=Europe/London:20260913T193000
DTSTAMP:20260423T021214Z
UID:13046902026-09-13 18:30:00+01:00achurchnearyou
CATEGORIES:
DESCRIPTION:Every 2nd Sunday of the month - an informal service led by you
 ng people\, for young people\, with everybody welcome. Afterwards Youth Fe
 llowship meet at 7.30pm
GEO:-3.097111276721183;53.32784607263094
LOCATION:The Lighthouse Church
URL:https://www.heswallparish.co.uk/216/Sunday-Services
END:VEVENT
BEGIN:VEVENT
SUMMARY:Encounter - Informal Sunday Evening Service
DTSTART;TZID=Europe/London:20261011T183000
DTEND;TZID=Europe/London:20261011T193000
DTSTAMP:20260423T021214Z
UID:13046902026-10-11 18:30:00+01:00achurchnearyou
CATEGORIES:
DESCRIPTION:Every 2nd Sunday of the month - an informal service led by you
 ng people\, for young people\, with everybody welcome. Afterwards Youth Fe
 llowship meet at 7.30pm
GEO:-3.097111276721183;53.32784607263094
LOCATION:The Lighthouse Church
URL:https://www.heswallparish.co.uk/216/Sunday-Services
END:VEVENT
BEGIN:VEVENT
SUMMARY:Encounter - Informal Sunday Evening Service
DTSTART;TZID=Europe/London:20261108T183000
DTEND;TZID=Europe/London:20261108T193000
DTSTAMP:20260423T021214Z
UID:13046902026-11-08 18:30:00+00:00achurchnearyou
CATEGORIES:
DESCRIPTION:Every 2nd Sunday of the month - an informal service led by you
 ng people\, for young people\, with everybody welcome. Afterwards Youth Fe
 llowship meet at 7.30pm
GEO:-3.097111276721183;53.32784607263094
LOCATION:The Lighthouse Church
URL:https://www.heswallparish.co.uk/216/Sunday-Services
END:VEVENT
BEGIN:VEVENT
SUMMARY:Encounter - Informal Sunday Evening Service
DTSTART;TZID=Europe/London:20261213T183000
DTEND;TZID=Europe/London:20261213T193000
DTSTAMP:20260423T021214Z
UID:13046902026-12-13 18:30:00+00:00achurchnearyou
CATEGORIES:
DESCRIPTION:Every 2nd Sunday of the month - an informal service led by you
 ng people\, for young people\, with everybody welcome. Afterwards Youth Fe
 llowship meet at 7.30pm
GEO:-3.097111276721183;53.32784607263094
LOCATION:The Lighthouse Church
URL:https://www.heswallparish.co.uk/216/Sunday-Services
END:VEVENT
BEGIN:VEVENT
SUMMARY:Encounter - Informal Sunday Evening Service
DTSTART;TZID=Europe/London:20270110T183000
DTEND;TZID=Europe/London:20270110T193000
DTSTAMP:20260423T021214Z
UID:13046902027-01-10 18:30:00+00:00achurchnearyou
CATEGORIES:
DESCRIPTION:Every 2nd Sunday of the month - an informal service led by you
 ng people\, for young people\, with everybody welcome. Afterwards Youth Fe
 llowship meet at 7.30pm
GEO:-3.097111276721183;53.32784607263094
LOCATION:The Lighthouse Church
URL:https://www.heswallparish.co.uk/216/Sunday-Services
END:VEVENT
BEGIN:VEVENT
SUMMARY:Encounter - Informal Sunday Evening Service
DTSTART;TZID=Europe/London:20270214T183000
DTEND;TZID=Europe/London:20270214T193000
DTSTAMP:20260423T021214Z
UID:13046902027-02-14 18:30:00+00:00achurchnearyou
CATEGORIES:
DESCRIPTION:Every 2nd Sunday of the month - an informal service led by you
 ng people\, for young people\, with everybody welcome. Afterwards Youth Fe
 llowship meet at 7.30pm
GEO:-3.097111276721183;53.32784607263094
LOCATION:The Lighthouse Church
URL:https://www.heswallparish.co.uk/216/Sunday-Services
END:VEVENT
BEGIN:VEVENT
SUMMARY:Encounter - Informal Sunday Evening Service
DTSTART;TZID=Europe/London:20270314T183000
DTEND;TZID=Europe/London:20270314T193000
DTSTAMP:20260423T021214Z
UID:13046902027-03-14 18:30:00+00:00achurchnearyou
CATEGORIES:
DESCRIPTION:Every 2nd Sunday of the month - an informal service led by you
 ng people\, for young people\, with everybody welcome. Afterwards Youth Fe
 llowship meet at 7.30pm
GEO:-3.097111276721183;53.32784607263094
LOCATION:The Lighthouse Church
URL:https://www.heswallparish.co.uk/216/Sunday-Services
END:VEVENT
BEGIN:VEVENT
SUMMARY:Encounter - Informal Sunday Evening Service
DTSTART;TZID=Europe/London:20270411T183000
DTEND;TZID=Europe/London:20270411T193000
DTSTAMP:20260423T021214Z
UID:13046902027-04-11 18:30:00+01:00achurchnearyou
CATEGORIES:
DESCRIPTION:Every 2nd Sunday of the month - an informal service led by you
 ng people\, for young people\, with everybody welcome. Afterwards Youth Fe
 llowship meet at 7.30pm
GEO:-3.097111276721183;53.32784607263094
LOCATION:The Lighthouse Church
URL:https://www.heswallparish.co.uk/216/Sunday-Services
END:VEVENT
END:VCALENDAR
