BEGIN:VCALENDAR
VERSION:2.0
PRODID:-//achurchnearyou.com//eventfeed//EN
CALSCALE:GREGORIAN
METHOD:PUBLISH
X-WR-TIMEZONE:UTC
BEGIN:VEVENT
SUMMARY:Uganda Pub Quiz
DTSTART:20260320T190000Z
DTEND:20260320T220000Z
DTSTAMP:20260423T133415Z
UID:13066582026-03-20 19:00:00+00:00achurchnearyou
CATEGORIES:
DESCRIPTION:Join us for a brilliant evening of friendly competition as we 
 raise support for YF Uganda Mission 2026. Bring a team or join one on the
  night—everyone's welcome.\n\n£5 entry includes a hot dog\nBar availabl
 e\nFun quiz\, fun prizes\nInvite friends\, family\, neighbours\n\nCome alo
 ng for a great night and support the mission ahead!
GEO:-3.097111276721183;53.32784607263094
LOCATION:The Lighthouse Church
URL:https://heswallparish.churchsuite.com/events/ek1fzlmu
END:VEVENT
END:VCALENDAR
