BEGIN:VCALENDAR
VERSION:2.0
PRODID:-//achurchnearyou.com//eventfeed//EN
CALSCALE:GREGORIAN
METHOD:PUBLISH
X-WR-TIMEZONE:UTC
BEGIN:VEVENT
SUMMARY:Sunday Service
DTSTART;TZID=Europe/London:20260308T160000
DTEND;TZID=Europe/London:20260308T180000
DTSTAMP:20260423T204034Z
UID:13057262026-03-08 16:00:00+00:00achurchnearyou
CATEGORIES:
DESCRIPTION:This is our weekly opportunity to meet with God as a community
 . \nAll welcome. We look forward to meeting you this Sunday.
GEO:-0.1171296;51.4718151
LOCATION:Well City Church
URL:https://www.achurchnearyou.com/church/33568/service-and-events/events/
 1305726/
END:VEVENT
BEGIN:VEVENT
SUMMARY:Sunday Service
DTSTART;TZID=Europe/London:20260315T160000
DTEND;TZID=Europe/London:20260315T180000
DTSTAMP:20260423T204034Z
UID:13057262026-03-15 16:00:00+00:00achurchnearyou
CATEGORIES:
DESCRIPTION:This is our weekly opportunity to meet with God as a community
 . \nAll welcome. We look forward to meeting you this Sunday.
GEO:-0.1171296;51.4718151
LOCATION:Well City Church
URL:https://www.achurchnearyou.com/church/33568/service-and-events/events/
 1305726/
END:VEVENT
BEGIN:VEVENT
SUMMARY:Sunday Service
DTSTART;TZID=Europe/London:20260322T160000
DTEND;TZID=Europe/London:20260322T180000
DTSTAMP:20260423T204034Z
UID:13057262026-03-22 16:00:00+00:00achurchnearyou
CATEGORIES:
DESCRIPTION:This is our weekly opportunity to meet with God as a community
 . \nAll welcome. We look forward to meeting you this Sunday.
GEO:-0.1171296;51.4718151
LOCATION:Well City Church
URL:https://www.achurchnearyou.com/church/33568/service-and-events/events/
 1305726/
END:VEVENT
BEGIN:VEVENT
SUMMARY:Sunday Service
DTSTART;TZID=Europe/London:20260329T160000
DTEND;TZID=Europe/London:20260329T180000
DTSTAMP:20260423T204034Z
UID:13057262026-03-29 16:00:00+01:00achurchnearyou
CATEGORIES:
DESCRIPTION:This is our weekly opportunity to meet with God as a community
 . \nAll welcome. We look forward to meeting you this Sunday.
GEO:-0.1171296;51.4718151
LOCATION:Well City Church
URL:https://www.achurchnearyou.com/church/33568/service-and-events/events/
 1305726/
END:VEVENT
BEGIN:VEVENT
SUMMARY:Sunday Service
DTSTART;TZID=Europe/London:20260405T160000
DTEND;TZID=Europe/London:20260405T180000
DTSTAMP:20260423T204034Z
UID:13057262026-04-05 16:00:00+01:00achurchnearyou
CATEGORIES:
DESCRIPTION:This is our weekly opportunity to meet with God as a community
 . \nAll welcome. We look forward to meeting you this Sunday.
GEO:-0.1171296;51.4718151
LOCATION:Well City Church
URL:https://www.achurchnearyou.com/church/33568/service-and-events/events/
 1305726/
END:VEVENT
BEGIN:VEVENT
SUMMARY:Sunday Service
DTSTART;TZID=Europe/London:20260412T160000
DTEND;TZID=Europe/London:20260412T180000
DTSTAMP:20260423T204034Z
UID:13057262026-04-12 16:00:00+01:00achurchnearyou
CATEGORIES:
DESCRIPTION:This is our weekly opportunity to meet with God as a community
 . \nAll welcome. We look forward to meeting you this Sunday.
GEO:-0.1171296;51.4718151
LOCATION:Well City Church
URL:https://www.achurchnearyou.com/church/33568/service-and-events/events/
 1305726/
END:VEVENT
BEGIN:VEVENT
SUMMARY:Sunday Service
DTSTART;TZID=Europe/London:20260419T160000
DTEND;TZID=Europe/London:20260419T180000
DTSTAMP:20260423T204034Z
UID:13057262026-04-19 16:00:00+01:00achurchnearyou
CATEGORIES:
DESCRIPTION:This is our weekly opportunity to meet with God as a community
 . \nAll welcome. We look forward to meeting you this Sunday.
GEO:-0.1171296;51.4718151
LOCATION:Well City Church
URL:https://www.achurchnearyou.com/church/33568/service-and-events/events/
 1305726/
END:VEVENT
BEGIN:VEVENT
SUMMARY:Sunday Service
DTSTART;TZID=Europe/London:20260426T160000
DTEND;TZID=Europe/London:20260426T180000
DTSTAMP:20260423T204034Z
UID:13057262026-04-26 16:00:00+01:00achurchnearyou
CATEGORIES:
DESCRIPTION:This is our weekly opportunity to meet with God as a community
 . \nAll welcome. We look forward to meeting you this Sunday.
GEO:-0.1171296;51.4718151
LOCATION:Well City Church
URL:https://www.achurchnearyou.com/church/33568/service-and-events/events/
 1305726/
END:VEVENT
BEGIN:VEVENT
SUMMARY:Sunday Service
DTSTART;TZID=Europe/London:20260503T160000
DTEND;TZID=Europe/London:20260503T180000
DTSTAMP:20260423T204034Z
UID:13057262026-05-03 16:00:00+01:00achurchnearyou
CATEGORIES:
DESCRIPTION:This is our weekly opportunity to meet with God as a community
 . \nAll welcome. We look forward to meeting you this Sunday.
GEO:-0.1171296;51.4718151
LOCATION:Well City Church
URL:https://www.achurchnearyou.com/church/33568/service-and-events/events/
 1305726/
END:VEVENT
BEGIN:VEVENT
SUMMARY:Sunday Service
DTSTART;TZID=Europe/London:20260510T160000
DTEND;TZID=Europe/London:20260510T180000
DTSTAMP:20260423T204034Z
UID:13057262026-05-10 16:00:00+01:00achurchnearyou
CATEGORIES:
DESCRIPTION:This is our weekly opportunity to meet with God as a community
 . \nAll welcome. We look forward to meeting you this Sunday.
GEO:-0.1171296;51.4718151
LOCATION:Well City Church
URL:https://www.achurchnearyou.com/church/33568/service-and-events/events/
 1305726/
END:VEVENT
END:VCALENDAR
