BEGIN:VCALENDAR
VERSION:2.0
PRODID:-//achurchnearyou.com//eventfeed//EN
CALSCALE:GREGORIAN
METHOD:PUBLISH
X-WR-TIMEZONE:UTC
BEGIN:VEVENT
SUMMARY:Bible study
DTSTART;TZID=Europe/London:20260401T193000
DTEND;TZID=Europe/London:20260401T210000
DTSTAMP:20260423T104827Z
UID:9492771775068200.0achurchnearyou
CATEGORIES:
DESCRIPTION:informal exploration of the Bible with a small number of peopl
 e online: no previous knowledge of the Bible assumed.
LOCATION:on Zoom
URL:https://www.achurchnearyou.com/church/3368/service-and-events/events/9
 49277/
END:VEVENT
BEGIN:VEVENT
SUMMARY:Maundy Thursday Holy Communion
DTSTART;TZID=Europe/London:20260402T193000
DTEND;TZID=Europe/London:20260402T210000
DTSTAMP:20260423T104827Z
UID:13161221775154600.0achurchnearyou
CATEGORIES:
DESCRIPTION:Benefice Holy Communion
GEO:-1.61528;54.136462
LOCATION:Winksley: St Cuthbert & St Oswald
URL:https://www.achurchnearyou.com/church/3368/service-and-events/events/1
 316122/
END:VEVENT
BEGIN:VEVENT
SUMMARY:Good Friday Meditation
DTSTART;TZID=Europe/London:20260403T020000
DTEND;TZID=Europe/London:20260403T030000
DTSTAMP:20260423T104827Z
UID:13211531775178000.0achurchnearyou
CATEGORIES:
DESCRIPTION:Meditation before the Cross
LOCATION:Sawley: St Michael & All Angels
URL:https://www.achurchnearyou.com/church/3368/service-and-events/events/1
 321153/
END:VEVENT
BEGIN:VEVENT
SUMMARY:Meditation
DTSTART;TZID=Europe/London:20260403T103000
DTEND;TZID=Europe/London:20260403T113000
DTSTAMP:20260423T104827Z
UID:13211461775208600.0achurchnearyou
CATEGORIES:
DESCRIPTION:Good Friday Meditation
LOCATION:Aldfield: St Lawrence
URL:https://www.achurchnearyou.com/church/3368/service-and-events/events/1
 321146/
END:VEVENT
BEGIN:VEVENT
SUMMARY:Meditation
DTSTART;TZID=Europe/London:20260403T140000
DTEND;TZID=Europe/London:20260403T150000
DTSTAMP:20260423T104827Z
UID:13216671775221200.0achurchnearyou
CATEGORIES:
DESCRIPTION:Meditation before the Cross
LOCATION:Sawley: St Michael & All Angels
URL:https://www.achurchnearyou.com/church/3368/service-and-events/events/1
 321667/
END:VEVENT
BEGIN:VEVENT
SUMMARY:Kettle's On
DTSTART;TZID=Europe/London:20260404T140000
DTEND;TZID=Europe/London:20260404T160000
DTSTAMP:20260423T104827Z
UID:8382171775307600.0achurchnearyou
CATEGORIES:
DESCRIPTION:tea\, wonderful cakes\, meeting friends
LOCATION:Church Room\, Winksley
URL:https://www.achurchnearyou.com/church/3368/service-and-events/events/8
 38217/
END:VEVENT
BEGIN:VEVENT
SUMMARY:Holy Communion
DTSTART;TZID=Europe/London:20260405T090000
DTEND;TZID=Europe/London:20260405T100000
DTSTAMP:20260423T104827Z
UID:13216801775376000.0achurchnearyou
CATEGORIES:
DESCRIPTION:Easter Day Holy Communion Service\, Mickley
GEO:-1.61528;54.136462
LOCATION:Mickley: St John the Evangelist
URL:https://www.achurchnearyou.com/church/3368/service-and-events/events/1
 321680/
END:VEVENT
BEGIN:VEVENT
SUMMARY:Holy Communion
DTSTART;TZID=Europe/London:20260405T103000
DTEND;TZID=Europe/London:20260405T120000
DTSTAMP:20260423T104827Z
UID:13216601775381400.0achurchnearyou
CATEGORIES:
DESCRIPTION:Holy Communion Easter Morning (by Extn in Kirkby Malzeard and 
 Winksley)
GEO:-1.61528;54.136462
LOCATION:Grewelthorpe: St James\nWinksley: St Cuthbert & St Oswald\nKirkby
  Malzeard: St Andrew
URL:https://www.achurchnearyou.com/church/3368/service-and-events/events/1
 321660/
END:VEVENT
BEGIN:VEVENT
SUMMARY:Bible study
DTSTART;TZID=Europe/London:20260408T193000
DTEND;TZID=Europe/London:20260408T210000
DTSTAMP:20260423T104827Z
UID:9492771775673000.0achurchnearyou
CATEGORIES:
DESCRIPTION:informal exploration of the Bible with a small number of peopl
 e online: no previous knowledge of the Bible assumed.
LOCATION:on Zoom
URL:https://www.achurchnearyou.com/church/3368/service-and-events/events/9
 49277/
END:VEVENT
BEGIN:VEVENT
SUMMARY:Bible study
DTSTART;TZID=Europe/London:20260415T193000
DTEND;TZID=Europe/London:20260415T210000
DTSTAMP:20260423T104827Z
UID:9492771776277800.0achurchnearyou
CATEGORIES:
DESCRIPTION:informal exploration of the Bible with a small number of peopl
 e online: no previous knowledge of the Bible assumed.
LOCATION:on Zoom
URL:https://www.achurchnearyou.com/church/3368/service-and-events/events/9
 49277/
END:VEVENT
BEGIN:VEVENT
SUMMARY:Bible study
DTSTART;TZID=Europe/London:20260422T193000
DTEND;TZID=Europe/London:20260422T210000
DTSTAMP:20260423T104827Z
UID:9492771776882600.0achurchnearyou
CATEGORIES:
DESCRIPTION:informal exploration of the Bible with a small number of peopl
 e online: no previous knowledge of the Bible assumed.
LOCATION:on Zoom
URL:https://www.achurchnearyou.com/church/3368/service-and-events/events/9
 49277/
END:VEVENT
BEGIN:VEVENT
SUMMARY:Bible study
DTSTART;TZID=Europe/London:20260429T193000
DTEND;TZID=Europe/London:20260429T210000
DTSTAMP:20260423T104827Z
UID:9492771777487400.0achurchnearyou
CATEGORIES:
DESCRIPTION:informal exploration of the Bible with a small number of peopl
 e online: no previous knowledge of the Bible assumed.
LOCATION:on Zoom
URL:https://www.achurchnearyou.com/church/3368/service-and-events/events/9
 49277/
END:VEVENT
BEGIN:VEVENT
SUMMARY:Kettle's On
DTSTART;TZID=Europe/London:20260502T140000
DTEND;TZID=Europe/London:20260502T160000
DTSTAMP:20260423T104827Z
UID:8382171777726800.0achurchnearyou
CATEGORIES:
DESCRIPTION:tea\, wonderful cakes\, meeting friends
LOCATION:Church Room\, Winksley
URL:https://www.achurchnearyou.com/church/3368/service-and-events/events/8
 38217/
END:VEVENT
BEGIN:VEVENT
SUMMARY:Bible study
DTSTART;TZID=Europe/London:20260506T193000
DTEND;TZID=Europe/London:20260506T210000
DTSTAMP:20260423T104827Z
UID:9492771778092200.0achurchnearyou
CATEGORIES:
DESCRIPTION:informal exploration of the Bible with a small number of peopl
 e online: no previous knowledge of the Bible assumed.
LOCATION:on Zoom
URL:https://www.achurchnearyou.com/church/3368/service-and-events/events/9
 49277/
END:VEVENT
BEGIN:VEVENT
SUMMARY:Bible study
DTSTART;TZID=Europe/London:20260513T193000
DTEND;TZID=Europe/London:20260513T210000
DTSTAMP:20260423T104827Z
UID:9492771778697000.0achurchnearyou
CATEGORIES:
DESCRIPTION:informal exploration of the Bible with a small number of peopl
 e online: no previous knowledge of the Bible assumed.
LOCATION:on Zoom
URL:https://www.achurchnearyou.com/church/3368/service-and-events/events/9
 49277/
END:VEVENT
BEGIN:VEVENT
SUMMARY:Bible study
DTSTART;TZID=Europe/London:20260520T193000
DTEND;TZID=Europe/London:20260520T210000
DTSTAMP:20260423T104827Z
UID:9492771779301800.0achurchnearyou
CATEGORIES:
DESCRIPTION:informal exploration of the Bible with a small number of peopl
 e online: no previous knowledge of the Bible assumed.
LOCATION:on Zoom
URL:https://www.achurchnearyou.com/church/3368/service-and-events/events/9
 49277/
END:VEVENT
BEGIN:VEVENT
SUMMARY:Bible study
DTSTART;TZID=Europe/London:20260527T193000
DTEND;TZID=Europe/London:20260527T210000
DTSTAMP:20260423T104827Z
UID:9492771779906600.0achurchnearyou
CATEGORIES:
DESCRIPTION:informal exploration of the Bible with a small number of peopl
 e online: no previous knowledge of the Bible assumed.
LOCATION:on Zoom
URL:https://www.achurchnearyou.com/church/3368/service-and-events/events/9
 49277/
END:VEVENT
BEGIN:VEVENT
SUMMARY:Bible study
DTSTART;TZID=Europe/London:20260603T193000
DTEND;TZID=Europe/London:20260603T210000
DTSTAMP:20260423T104827Z
UID:9492771780511400.0achurchnearyou
CATEGORIES:
DESCRIPTION:informal exploration of the Bible with a small number of peopl
 e online: no previous knowledge of the Bible assumed.
LOCATION:on Zoom
URL:https://www.achurchnearyou.com/church/3368/service-and-events/events/9
 49277/
END:VEVENT
BEGIN:VEVENT
SUMMARY:Kettle's On
DTSTART;TZID=Europe/London:20260606T140000
DTEND;TZID=Europe/London:20260606T160000
DTSTAMP:20260423T104827Z
UID:8382171780750800.0achurchnearyou
CATEGORIES:
DESCRIPTION:tea\, wonderful cakes\, meeting friends
LOCATION:Church Room\, Winksley
URL:https://www.achurchnearyou.com/church/3368/service-and-events/events/8
 38217/
END:VEVENT
BEGIN:VEVENT
SUMMARY:Bible study
DTSTART;TZID=Europe/London:20260610T193000
DTEND;TZID=Europe/London:20260610T210000
DTSTAMP:20260423T104827Z
UID:9492771781116200.0achurchnearyou
CATEGORIES:
DESCRIPTION:informal exploration of the Bible with a small number of peopl
 e online: no previous knowledge of the Bible assumed.
LOCATION:on Zoom
URL:https://www.achurchnearyou.com/church/3368/service-and-events/events/9
 49277/
END:VEVENT
BEGIN:VEVENT
SUMMARY:Bible study
DTSTART;TZID=Europe/London:20260617T193000
DTEND;TZID=Europe/London:20260617T210000
DTSTAMP:20260423T104827Z
UID:9492771781721000.0achurchnearyou
CATEGORIES:
DESCRIPTION:informal exploration of the Bible with a small number of peopl
 e online: no previous knowledge of the Bible assumed.
LOCATION:on Zoom
URL:https://www.achurchnearyou.com/church/3368/service-and-events/events/9
 49277/
END:VEVENT
BEGIN:VEVENT
SUMMARY:Bible study
DTSTART;TZID=Europe/London:20260624T193000
DTEND;TZID=Europe/London:20260624T210000
DTSTAMP:20260423T104827Z
UID:9492771782325800.0achurchnearyou
CATEGORIES:
DESCRIPTION:informal exploration of the Bible with a small number of peopl
 e online: no previous knowledge of the Bible assumed.
LOCATION:on Zoom
URL:https://www.achurchnearyou.com/church/3368/service-and-events/events/9
 49277/
END:VEVENT
BEGIN:VEVENT
SUMMARY:Bible study
DTSTART;TZID=Europe/London:20260701T193000
DTEND;TZID=Europe/London:20260701T210000
DTSTAMP:20260423T104827Z
UID:9492771782930600.0achurchnearyou
CATEGORIES:
DESCRIPTION:informal exploration of the Bible with a small number of peopl
 e online: no previous knowledge of the Bible assumed.
LOCATION:on Zoom
URL:https://www.achurchnearyou.com/church/3368/service-and-events/events/9
 49277/
END:VEVENT
BEGIN:VEVENT
SUMMARY:Kettle's On
DTSTART;TZID=Europe/London:20260704T140000
DTEND;TZID=Europe/London:20260704T160000
DTSTAMP:20260423T104827Z
UID:8382171783170000.0achurchnearyou
CATEGORIES:
DESCRIPTION:tea\, wonderful cakes\, meeting friends
LOCATION:Church Room\, Winksley
URL:https://www.achurchnearyou.com/church/3368/service-and-events/events/8
 38217/
END:VEVENT
BEGIN:VEVENT
SUMMARY:Bible study
DTSTART;TZID=Europe/London:20260708T193000
DTEND;TZID=Europe/London:20260708T210000
DTSTAMP:20260423T104827Z
UID:9492771783535400.0achurchnearyou
CATEGORIES:
DESCRIPTION:informal exploration of the Bible with a small number of peopl
 e online: no previous knowledge of the Bible assumed.
LOCATION:on Zoom
URL:https://www.achurchnearyou.com/church/3368/service-and-events/events/9
 49277/
END:VEVENT
BEGIN:VEVENT
SUMMARY:Bible study
DTSTART;TZID=Europe/London:20260715T193000
DTEND;TZID=Europe/London:20260715T210000
DTSTAMP:20260423T104827Z
UID:9492771784140200.0achurchnearyou
CATEGORIES:
DESCRIPTION:informal exploration of the Bible with a small number of peopl
 e online: no previous knowledge of the Bible assumed.
LOCATION:on Zoom
URL:https://www.achurchnearyou.com/church/3368/service-and-events/events/9
 49277/
END:VEVENT
BEGIN:VEVENT
SUMMARY:Bible study
DTSTART;TZID=Europe/London:20260722T193000
DTEND;TZID=Europe/London:20260722T210000
DTSTAMP:20260423T104827Z
UID:9492771784745000.0achurchnearyou
CATEGORIES:
DESCRIPTION:informal exploration of the Bible with a small number of peopl
 e online: no previous knowledge of the Bible assumed.
LOCATION:on Zoom
URL:https://www.achurchnearyou.com/church/3368/service-and-events/events/9
 49277/
END:VEVENT
BEGIN:VEVENT
SUMMARY:Bible study
DTSTART;TZID=Europe/London:20260729T193000
DTEND;TZID=Europe/London:20260729T210000
DTSTAMP:20260423T104827Z
UID:9492771785349800.0achurchnearyou
CATEGORIES:
DESCRIPTION:informal exploration of the Bible with a small number of peopl
 e online: no previous knowledge of the Bible assumed.
LOCATION:on Zoom
URL:https://www.achurchnearyou.com/church/3368/service-and-events/events/9
 49277/
END:VEVENT
BEGIN:VEVENT
SUMMARY:Kettle's On
DTSTART;TZID=Europe/London:20260801T140000
DTEND;TZID=Europe/London:20260801T160000
DTSTAMP:20260423T104827Z
UID:8382171785589200.0achurchnearyou
CATEGORIES:
DESCRIPTION:tea\, wonderful cakes\, meeting friends
LOCATION:Church Room\, Winksley
URL:https://www.achurchnearyou.com/church/3368/service-and-events/events/8
 38217/
END:VEVENT
BEGIN:VEVENT
SUMMARY:Bible study
DTSTART;TZID=Europe/London:20260805T193000
DTEND;TZID=Europe/London:20260805T210000
DTSTAMP:20260423T104827Z
UID:9492771785954600.0achurchnearyou
CATEGORIES:
DESCRIPTION:informal exploration of the Bible with a small number of peopl
 e online: no previous knowledge of the Bible assumed.
LOCATION:on Zoom
URL:https://www.achurchnearyou.com/church/3368/service-and-events/events/9
 49277/
END:VEVENT
BEGIN:VEVENT
SUMMARY:Bible study
DTSTART;TZID=Europe/London:20260812T193000
DTEND;TZID=Europe/London:20260812T210000
DTSTAMP:20260423T104827Z
UID:9492771786559400.0achurchnearyou
CATEGORIES:
DESCRIPTION:informal exploration of the Bible with a small number of peopl
 e online: no previous knowledge of the Bible assumed.
LOCATION:on Zoom
URL:https://www.achurchnearyou.com/church/3368/service-and-events/events/9
 49277/
END:VEVENT
BEGIN:VEVENT
SUMMARY:Bible study
DTSTART;TZID=Europe/London:20260819T193000
DTEND;TZID=Europe/London:20260819T210000
DTSTAMP:20260423T104827Z
UID:9492771787164200.0achurchnearyou
CATEGORIES:
DESCRIPTION:informal exploration of the Bible with a small number of peopl
 e online: no previous knowledge of the Bible assumed.
LOCATION:on Zoom
URL:https://www.achurchnearyou.com/church/3368/service-and-events/events/9
 49277/
END:VEVENT
BEGIN:VEVENT
SUMMARY:Bible study
DTSTART;TZID=Europe/London:20260826T193000
DTEND;TZID=Europe/London:20260826T210000
DTSTAMP:20260423T104827Z
UID:9492771787769000.0achurchnearyou
CATEGORIES:
DESCRIPTION:informal exploration of the Bible with a small number of peopl
 e online: no previous knowledge of the Bible assumed.
LOCATION:on Zoom
URL:https://www.achurchnearyou.com/church/3368/service-and-events/events/9
 49277/
END:VEVENT
BEGIN:VEVENT
SUMMARY:Bible study
DTSTART;TZID=Europe/London:20260902T193000
DTEND;TZID=Europe/London:20260902T210000
DTSTAMP:20260423T104827Z
UID:9492771788373800.0achurchnearyou
CATEGORIES:
DESCRIPTION:informal exploration of the Bible with a small number of peopl
 e online: no previous knowledge of the Bible assumed.
LOCATION:on Zoom
URL:https://www.achurchnearyou.com/church/3368/service-and-events/events/9
 49277/
END:VEVENT
BEGIN:VEVENT
SUMMARY:Kettle's On
DTSTART;TZID=Europe/London:20260905T140000
DTEND;TZID=Europe/London:20260905T160000
DTSTAMP:20260423T104827Z
UID:8382171788613200.0achurchnearyou
CATEGORIES:
DESCRIPTION:tea\, wonderful cakes\, meeting friends
LOCATION:Church Room\, Winksley
URL:https://www.achurchnearyou.com/church/3368/service-and-events/events/8
 38217/
END:VEVENT
BEGIN:VEVENT
SUMMARY:Bible study
DTSTART;TZID=Europe/London:20260909T193000
DTEND;TZID=Europe/London:20260909T210000
DTSTAMP:20260423T104827Z
UID:9492771788978600.0achurchnearyou
CATEGORIES:
DESCRIPTION:informal exploration of the Bible with a small number of peopl
 e online: no previous knowledge of the Bible assumed.
LOCATION:on Zoom
URL:https://www.achurchnearyou.com/church/3368/service-and-events/events/9
 49277/
END:VEVENT
BEGIN:VEVENT
SUMMARY:Bible study
DTSTART;TZID=Europe/London:20260916T193000
DTEND;TZID=Europe/London:20260916T210000
DTSTAMP:20260423T104827Z
UID:9492771789583400.0achurchnearyou
CATEGORIES:
DESCRIPTION:informal exploration of the Bible with a small number of peopl
 e online: no previous knowledge of the Bible assumed.
LOCATION:on Zoom
URL:https://www.achurchnearyou.com/church/3368/service-and-events/events/9
 49277/
END:VEVENT
BEGIN:VEVENT
SUMMARY:Bible study
DTSTART;TZID=Europe/London:20260923T193000
DTEND;TZID=Europe/London:20260923T210000
DTSTAMP:20260423T104827Z
UID:9492771790188200.0achurchnearyou
CATEGORIES:
DESCRIPTION:informal exploration of the Bible with a small number of peopl
 e online: no previous knowledge of the Bible assumed.
LOCATION:on Zoom
URL:https://www.achurchnearyou.com/church/3368/service-and-events/events/9
 49277/
END:VEVENT
BEGIN:VEVENT
SUMMARY:Bible study
DTSTART;TZID=Europe/London:20260930T193000
DTEND;TZID=Europe/London:20260930T210000
DTSTAMP:20260423T104827Z
UID:9492771790793000.0achurchnearyou
CATEGORIES:
DESCRIPTION:informal exploration of the Bible with a small number of peopl
 e online: no previous knowledge of the Bible assumed.
LOCATION:on Zoom
URL:https://www.achurchnearyou.com/church/3368/service-and-events/events/9
 49277/
END:VEVENT
END:VCALENDAR
