BEGIN:VCALENDAR
VERSION:2.0
PRODID:-//achurchnearyou.com//eventfeed//EN
CALSCALE:GREGORIAN
METHOD:PUBLISH
X-WR-TIMEZONE:UTC
BEGIN:VEVENT
SUMMARY:Easter Family Holy Communion
DTSTART:20250420T093000Z
DTEND:20250420T103000Z
DTSTAMP:20260424T161011Z
UID:11884882025-04-20 09:30:00+00:00achurchnearyou
CATEGORIES:
DESCRIPTION:fairly informal service to celebrate Easter\, followed by egg 
 hunt
GEO:-1.640862;54.166017
LOCATION:Kirkby Malzeard: St Andrew
URL:https://www.achurchnearyou.com/church/3377/service-and-events/events/1
 188488/
END:VEVENT
END:VCALENDAR
