BEGIN:VCALENDAR
VERSION:2.0
PRODID:-//achurchnearyou.com//eventfeed//EN
CALSCALE:GREGORIAN
METHOD:PUBLISH
X-WR-TIMEZONE:UTC
BEGIN:VEVENT
SUMMARY:Morning Worship
DTSTART:20250803T083000Z
DTEND:20250803T093000Z
DTSTAMP:20260424T173837Z
UID:12080522025-08-03 08:30:00+00:00achurchnearyou
CATEGORIES:
DESCRIPTION:Relaxed\, informal service with refreshments after.
LOCATION:Great Smeaton: St Eloy
URL:https://www.achurchnearyou.com/church/3380/service-and-events/events/1
 208052/
END:VEVENT
END:VCALENDAR
