BEGIN:VCALENDAR
VERSION:2.0
PRODID:-//achurchnearyou.com//eventfeed//EN
CALSCALE:GREGORIAN
METHOD:PUBLISH
X-WR-TIMEZONE:UTC
BEGIN:VEVENT
SUMMARY:Three hours at the Cross
DTSTART:20250418T110000Z
DTEND:20250418T140000Z
DTSTAMP:20260420T001629Z
UID:11730702025-04-18 11:00:00+00:00achurchnearyou
CATEGORIES:
DESCRIPTION:Good Friday contemplation. Come for one or more hours.
GEO:-1.536155;53.981973
LOCATION:St Mark's Church\, Harrogate
URL:https://www.smch.org.uk/easter
END:VEVENT
END:VCALENDAR
