BEGIN:VCALENDAR
VERSION:2.0
PRODID:-//achurchnearyou.com//eventfeed//EN
CALSCALE:GREGORIAN
METHOD:PUBLISH
X-WR-TIMEZONE:UTC
BEGIN:VEVENT
SUMMARY:Manfield and Cleasby (at Manfield) Remembrance Sunday service
DTSTART:20251109T093000Z
DTEND:20251109T103000Z
DTSTAMP:20260420T011101Z
UID:12328422025-11-09 09:30:00+00:00achurchnearyou
CATEGORIES:
DESCRIPTION:We come together to remember.
GEO:-1.657712;54.515187
LOCATION:Manfield: All Saints
URL:https://www.achurchnearyou.com/church/3398/service-and-events/events/1
 232842/
END:VEVENT
END:VCALENDAR
