BEGIN:VCALENDAR
VERSION:2.0
PRODID:-//achurchnearyou.com//eventfeed//EN
CALSCALE:GREGORIAN
METHOD:PUBLISH
X-WR-TIMEZONE:UTC
BEGIN:VEVENT
SUMMARY:Prayer Group
DTSTART;TZID=Europe/London:20260403T093000
DTEND;TZID=Europe/London:20260403T100000
DTSTAMP:20260422T175744Z
UID:10268251775205000.0achurchnearyou
CATEGORIES:
DESCRIPTION:Join us for half an hour on a Friday morning for a small infor
 mal prayer group.  We are currently praying for God’s guidance and suppo
 rt as we search for a new Rector in the Benefice.
GEO:-2.277454;51.038113
LOCATION:St Mary the Virgin\, Gillingham
URL:https://www.achurchnearyou.com/church/6802/service-and-events/events/1
 026825/
END:VEVENT
BEGIN:VEVENT
SUMMARY:Prayer Group
DTSTART;TZID=Europe/London:20260410T093000
DTEND;TZID=Europe/London:20260410T100000
DTSTAMP:20260422T175744Z
UID:10268251775809800.0achurchnearyou
CATEGORIES:
DESCRIPTION:Join us for half an hour on a Friday morning for a small infor
 mal prayer group.  We are currently praying for God’s guidance and suppo
 rt as we search for a new Rector in the Benefice.
GEO:-2.277454;51.038113
LOCATION:St Mary the Virgin\, Gillingham
URL:https://www.achurchnearyou.com/church/6802/service-and-events/events/1
 026825/
END:VEVENT
BEGIN:VEVENT
SUMMARY:Prayer Group
DTSTART;TZID=Europe/London:20260417T093000
DTEND;TZID=Europe/London:20260417T100000
DTSTAMP:20260422T175744Z
UID:10268251776414600.0achurchnearyou
CATEGORIES:
DESCRIPTION:Join us for half an hour on a Friday morning for a small infor
 mal prayer group.  We are currently praying for God’s guidance and suppo
 rt as we search for a new Rector in the Benefice.
GEO:-2.277454;51.038113
LOCATION:St Mary the Virgin\, Gillingham
URL:https://www.achurchnearyou.com/church/6802/service-and-events/events/1
 026825/
END:VEVENT
BEGIN:VEVENT
SUMMARY:Prayer Group
DTSTART;TZID=Europe/London:20260424T093000
DTEND;TZID=Europe/London:20260424T100000
DTSTAMP:20260422T175744Z
UID:10268251777019400.0achurchnearyou
CATEGORIES:
DESCRIPTION:Join us for half an hour on a Friday morning for a small infor
 mal prayer group.  We are currently praying for God’s guidance and suppo
 rt as we search for a new Rector in the Benefice.
GEO:-2.277454;51.038113
LOCATION:St Mary the Virgin\, Gillingham
URL:https://www.achurchnearyou.com/church/6802/service-and-events/events/1
 026825/
END:VEVENT
BEGIN:VEVENT
SUMMARY:Prayer Group
DTSTART;TZID=Europe/London:20260501T093000
DTEND;TZID=Europe/London:20260501T100000
DTSTAMP:20260422T175744Z
UID:10268251777624200.0achurchnearyou
CATEGORIES:
DESCRIPTION:Join us for half an hour on a Friday morning for a small infor
 mal prayer group.  We are currently praying for God’s guidance and suppo
 rt as we search for a new Rector in the Benefice.
GEO:-2.277454;51.038113
LOCATION:St Mary the Virgin\, Gillingham
URL:https://www.achurchnearyou.com/church/6802/service-and-events/events/1
 026825/
END:VEVENT
BEGIN:VEVENT
SUMMARY:Prayer Group
DTSTART;TZID=Europe/London:20260508T093000
DTEND;TZID=Europe/London:20260508T100000
DTSTAMP:20260422T175744Z
UID:10268251778229000.0achurchnearyou
CATEGORIES:
DESCRIPTION:Join us for half an hour on a Friday morning for a small infor
 mal prayer group.  We are currently praying for God’s guidance and suppo
 rt as we search for a new Rector in the Benefice.
GEO:-2.277454;51.038113
LOCATION:St Mary the Virgin\, Gillingham
URL:https://www.achurchnearyou.com/church/6802/service-and-events/events/1
 026825/
END:VEVENT
BEGIN:VEVENT
SUMMARY:Prayer Group
DTSTART;TZID=Europe/London:20260515T093000
DTEND;TZID=Europe/London:20260515T100000
DTSTAMP:20260422T175744Z
UID:10268251778833800.0achurchnearyou
CATEGORIES:
DESCRIPTION:Join us for half an hour on a Friday morning for a small infor
 mal prayer group.  We are currently praying for God’s guidance and suppo
 rt as we search for a new Rector in the Benefice.
GEO:-2.277454;51.038113
LOCATION:St Mary the Virgin\, Gillingham
URL:https://www.achurchnearyou.com/church/6802/service-and-events/events/1
 026825/
END:VEVENT
BEGIN:VEVENT
SUMMARY:Prayer Group
DTSTART;TZID=Europe/London:20260522T093000
DTEND;TZID=Europe/London:20260522T100000
DTSTAMP:20260422T175744Z
UID:10268251779438600.0achurchnearyou
CATEGORIES:
DESCRIPTION:Join us for half an hour on a Friday morning for a small infor
 mal prayer group.  We are currently praying for God’s guidance and suppo
 rt as we search for a new Rector in the Benefice.
GEO:-2.277454;51.038113
LOCATION:St Mary the Virgin\, Gillingham
URL:https://www.achurchnearyou.com/church/6802/service-and-events/events/1
 026825/
END:VEVENT
BEGIN:VEVENT
SUMMARY:Prayer Group
DTSTART;TZID=Europe/London:20260529T093000
DTEND;TZID=Europe/London:20260529T100000
DTSTAMP:20260422T175744Z
UID:10268251780043400.0achurchnearyou
CATEGORIES:
DESCRIPTION:Join us for half an hour on a Friday morning for a small infor
 mal prayer group.  We are currently praying for God’s guidance and suppo
 rt as we search for a new Rector in the Benefice.
GEO:-2.277454;51.038113
LOCATION:St Mary the Virgin\, Gillingham
URL:https://www.achurchnearyou.com/church/6802/service-and-events/events/1
 026825/
END:VEVENT
BEGIN:VEVENT
SUMMARY:Benefice Holy Communion
DTSTART;TZID=Europe/London:20260531T103000
DTEND;TZID=Europe/London:20260531T113000
DTSTAMP:20260422T175744Z
UID:9832621780219800.0achurchnearyou
CATEGORIES:
DESCRIPTION:On the 5th Sunday of the month\, the 3 churches of the Benefic
 e come together to share Holy Communion.  The service takes place at eithe
 r 10am (when in St Mary's Gillingham) or 10:30am (when in St Simon & Jude\
 , Milton on Stour or St Nicholas\, Silton).\nThis is the only service in t
 he benefice this Sunday morning and everyone from the three parishes is en
 couraged to attend to demonstrate our unity\, fellowship and love for one 
 another in Christ as a single benefice.
GEO:-2.277454;51.038113
LOCATION:St Mary the Virgin\, Gillingham\nSt Simon & St Jude\, Milton on S
 tour\nSt Nicholas\, Silton
URL:https://www.achurchnearyou.com/church/6802/service-and-events/events/9
 83262/
END:VEVENT
END:VCALENDAR
