BEGIN:VCALENDAR
VERSION:2.0
PRODID:-//achurchnearyou.com//eventfeed//EN
CALSCALE:GREGORIAN
METHOD:PUBLISH
X-WR-TIMEZONE:UTC
BEGIN:VEVENT
SUMMARY:Service of Holy Communion
DTSTART:20260222T100000Z
DTEND:20260222T110000Z
DTSTAMP:20260423T223729Z
UID:12883852026-02-22 10:00:00+00:00achurchnearyou
CATEGORIES:
DESCRIPTION:Hutton Magna - Service of Holy Communion
GEO:-1.806425;54.507398
LOCATION:Hutton Magna: St Mary
URL:https://www.achurchnearyou.com/church/3400/service-and-events/events/1
 288385/
END:VEVENT
END:VCALENDAR
