BEGIN:VCALENDAR
VERSION:2.0
PRODID:-//achurchnearyou.com//eventfeed//EN
CALSCALE:GREGORIAN
METHOD:PUBLISH
X-WR-TIMEZONE:UTC
BEGIN:VEVENT
SUMMARY:Ash Wednesday
DTSTART:20250305T170000Z
DTEND:20250305T180000Z
DTSTAMP:20260422T071912Z
UID:11629362025-03-05 17:00:00+00:00achurchnearyou
CATEGORIES:
DESCRIPTION:Eucharist with Imposition of Ashes
GEO:-1.375308;51.959877
LOCATION:Over Worton: Holy Trinity
URL:https://www.achurchnearyou.com/church/3414/service-and-events/events/1
 162936/
END:VEVENT
END:VCALENDAR
