BEGIN:VCALENDAR
VERSION:2.0
PRODID:-//achurchnearyou.com//eventfeed//EN
CALSCALE:GREGORIAN
METHOD:PUBLISH
X-WR-TIMEZONE:UTC
BEGIN:VEVENT
SUMMARY:Ash Wednesday Service of Holy Communion and imposition of ashes.
DTSTART:20260218T193000Z
DTEND:20260218T203000Z
DTSTAMP:20260423T235758Z
UID:12931552026-02-18 19:30:00+00:00achurchnearyou
CATEGORIES:
DESCRIPTION:Ash Wednesday  marks the start of Lent\, the 40-day season of 
 prayer and fasting before Easter. It  is a solemn\, reflective service foc
 used on repentance\, humility\, and acknowledging human mortality. Our cho
 ir will be singing beautifully reflective anthems and music from Schubert'
 s Mass.
GEO:-0.891209;52.873966
LOCATION:Harby: St Mary the Virgin
URL:https://www.achurchnearyou.com/church/3434/service-and-events/events/1
 293155/
END:VEVENT
END:VCALENDAR
