BEGIN:VCALENDAR
VERSION:2.0
PRODID:-//achurchnearyou.com//eventfeed//EN
CALSCALE:GREGORIAN
METHOD:PUBLISH
X-WR-TIMEZONE:UTC
BEGIN:VEVENT
SUMMARY:Tower Bellringing practice
DTSTART;TZID=Europe/London:20250613T190000
DTEND;TZID=Europe/London:20250613T203000
DTSTAMP:20260422T061359Z
UID:12041582025-06-13 19:00:00+01:00achurchnearyou
CATEGORIES:
DESCRIPTION:Tower Bellringing practices take place on the 2nd and 4th Frid
 ays of every month\, from 7:00pm to 8:30pm. Please either get in touch or 
 turn up at the church\, if you are interested in getting involved and lear
 ning to bell ring.
GEO:-0.937692;52.756983
LOCATION:Kirby Bellars: St Peter
URL:https://www.achurchnearyou.com/church/3475/service-and-events/events/1
 204158/
END:VEVENT
BEGIN:VEVENT
SUMMARY:Tower Bellringing practice
DTSTART;TZID=Europe/London:20250627T190000
DTEND;TZID=Europe/London:20250627T203000
DTSTAMP:20260422T061359Z
UID:12041582025-06-27 19:00:00+01:00achurchnearyou
CATEGORIES:
DESCRIPTION:Tower Bellringing practices take place on the 2nd and 4th Frid
 ays of every month\, from 7:00pm to 8:30pm. Please either get in touch or 
 turn up at the church\, if you are interested in getting involved and lear
 ning to bell ring.
GEO:-0.937692;52.756983
LOCATION:Kirby Bellars: St Peter
URL:https://www.achurchnearyou.com/church/3475/service-and-events/events/1
 204158/
END:VEVENT
BEGIN:VEVENT
SUMMARY:Tower Bellringing practice
DTSTART;TZID=Europe/London:20250711T190000
DTEND;TZID=Europe/London:20250711T203000
DTSTAMP:20260422T061359Z
UID:12041582025-07-11 19:00:00+01:00achurchnearyou
CATEGORIES:
DESCRIPTION:Tower Bellringing practices take place on the 2nd and 4th Frid
 ays of every month\, from 7:00pm to 8:30pm. Please either get in touch or 
 turn up at the church\, if you are interested in getting involved and lear
 ning to bell ring.
GEO:-0.937692;52.756983
LOCATION:Kirby Bellars: St Peter
URL:https://www.achurchnearyou.com/church/3475/service-and-events/events/1
 204158/
END:VEVENT
BEGIN:VEVENT
SUMMARY:Tower Bellringing practice
DTSTART;TZID=Europe/London:20250725T190000
DTEND;TZID=Europe/London:20250725T203000
DTSTAMP:20260422T061359Z
UID:12041582025-07-25 19:00:00+01:00achurchnearyou
CATEGORIES:
DESCRIPTION:Tower Bellringing practices take place on the 2nd and 4th Frid
 ays of every month\, from 7:00pm to 8:30pm. Please either get in touch or 
 turn up at the church\, if you are interested in getting involved and lear
 ning to bell ring.
GEO:-0.937692;52.756983
LOCATION:Kirby Bellars: St Peter
URL:https://www.achurchnearyou.com/church/3475/service-and-events/events/1
 204158/
END:VEVENT
BEGIN:VEVENT
SUMMARY:Tower Bellringing practice
DTSTART;TZID=Europe/London:20250808T190000
DTEND;TZID=Europe/London:20250808T203000
DTSTAMP:20260422T061359Z
UID:12041582025-08-08 19:00:00+01:00achurchnearyou
CATEGORIES:
DESCRIPTION:Tower Bellringing practices take place on the 2nd and 4th Frid
 ays of every month\, from 7:00pm to 8:30pm. Please either get in touch or 
 turn up at the church\, if you are interested in getting involved and lear
 ning to bell ring.
GEO:-0.937692;52.756983
LOCATION:Kirby Bellars: St Peter
URL:https://www.achurchnearyou.com/church/3475/service-and-events/events/1
 204158/
END:VEVENT
BEGIN:VEVENT
SUMMARY:Tower Bellringing practice
DTSTART;TZID=Europe/London:20250822T190000
DTEND;TZID=Europe/London:20250822T203000
DTSTAMP:20260422T061359Z
UID:12041582025-08-22 19:00:00+01:00achurchnearyou
CATEGORIES:
DESCRIPTION:Tower Bellringing practices take place on the 2nd and 4th Frid
 ays of every month\, from 7:00pm to 8:30pm. Please either get in touch or 
 turn up at the church\, if you are interested in getting involved and lear
 ning to bell ring.
GEO:-0.937692;52.756983
LOCATION:Kirby Bellars: St Peter
URL:https://www.achurchnearyou.com/church/3475/service-and-events/events/1
 204158/
END:VEVENT
BEGIN:VEVENT
SUMMARY:Tower Bellringing practice
DTSTART;TZID=Europe/London:20250912T190000
DTEND;TZID=Europe/London:20250912T203000
DTSTAMP:20260422T061359Z
UID:12041582025-09-12 19:00:00+01:00achurchnearyou
CATEGORIES:
DESCRIPTION:Tower Bellringing practices take place on the 2nd and 4th Frid
 ays of every month\, from 7:00pm to 8:30pm. Please either get in touch or 
 turn up at the church\, if you are interested in getting involved and lear
 ning to bell ring.
GEO:-0.937692;52.756983
LOCATION:Kirby Bellars: St Peter
URL:https://www.achurchnearyou.com/church/3475/service-and-events/events/1
 204158/
END:VEVENT
BEGIN:VEVENT
SUMMARY:Tower Bellringing practice
DTSTART;TZID=Europe/London:20250926T190000
DTEND;TZID=Europe/London:20250926T203000
DTSTAMP:20260422T061359Z
UID:12041582025-09-26 19:00:00+01:00achurchnearyou
CATEGORIES:
DESCRIPTION:Tower Bellringing practices take place on the 2nd and 4th Frid
 ays of every month\, from 7:00pm to 8:30pm. Please either get in touch or 
 turn up at the church\, if you are interested in getting involved and lear
 ning to bell ring.
GEO:-0.937692;52.756983
LOCATION:Kirby Bellars: St Peter
URL:https://www.achurchnearyou.com/church/3475/service-and-events/events/1
 204158/
END:VEVENT
BEGIN:VEVENT
SUMMARY:Tower Bellringing practice
DTSTART;TZID=Europe/London:20251010T190000
DTEND;TZID=Europe/London:20251010T203000
DTSTAMP:20260422T061359Z
UID:12041582025-10-10 19:00:00+01:00achurchnearyou
CATEGORIES:
DESCRIPTION:Tower Bellringing practices take place on the 2nd and 4th Frid
 ays of every month\, from 7:00pm to 8:30pm. Please either get in touch or 
 turn up at the church\, if you are interested in getting involved and lear
 ning to bell ring.
GEO:-0.937692;52.756983
LOCATION:Kirby Bellars: St Peter
URL:https://www.achurchnearyou.com/church/3475/service-and-events/events/1
 204158/
END:VEVENT
BEGIN:VEVENT
SUMMARY:Tower Bellringing practice
DTSTART;TZID=Europe/London:20251024T190000
DTEND;TZID=Europe/London:20251024T203000
DTSTAMP:20260422T061359Z
UID:12041582025-10-24 19:00:00+01:00achurchnearyou
CATEGORIES:
DESCRIPTION:Tower Bellringing practices take place on the 2nd and 4th Frid
 ays of every month\, from 7:00pm to 8:30pm. Please either get in touch or 
 turn up at the church\, if you are interested in getting involved and lear
 ning to bell ring.
GEO:-0.937692;52.756983
LOCATION:Kirby Bellars: St Peter
URL:https://www.achurchnearyou.com/church/3475/service-and-events/events/1
 204158/
END:VEVENT
BEGIN:VEVENT
SUMMARY:Tower Bellringing practice
DTSTART;TZID=Europe/London:20251114T190000
DTEND;TZID=Europe/London:20251114T203000
DTSTAMP:20260422T061359Z
UID:12041582025-11-14 19:00:00+00:00achurchnearyou
CATEGORIES:
DESCRIPTION:Tower Bellringing practices take place on the 2nd and 4th Frid
 ays of every month\, from 7:00pm to 8:30pm. Please either get in touch or 
 turn up at the church\, if you are interested in getting involved and lear
 ning to bell ring.
GEO:-0.937692;52.756983
LOCATION:Kirby Bellars: St Peter
URL:https://www.achurchnearyou.com/church/3475/service-and-events/events/1
 204158/
END:VEVENT
BEGIN:VEVENT
SUMMARY:Tower Bellringing practice
DTSTART;TZID=Europe/London:20251128T190000
DTEND;TZID=Europe/London:20251128T203000
DTSTAMP:20260422T061359Z
UID:12041582025-11-28 19:00:00+00:00achurchnearyou
CATEGORIES:
DESCRIPTION:Tower Bellringing practices take place on the 2nd and 4th Frid
 ays of every month\, from 7:00pm to 8:30pm. Please either get in touch or 
 turn up at the church\, if you are interested in getting involved and lear
 ning to bell ring.
GEO:-0.937692;52.756983
LOCATION:Kirby Bellars: St Peter
URL:https://www.achurchnearyou.com/church/3475/service-and-events/events/1
 204158/
END:VEVENT
BEGIN:VEVENT
SUMMARY:Tower Bellringing practice
DTSTART;TZID=Europe/London:20251212T190000
DTEND;TZID=Europe/London:20251212T203000
DTSTAMP:20260422T061359Z
UID:12041582025-12-12 19:00:00+00:00achurchnearyou
CATEGORIES:
DESCRIPTION:Tower Bellringing practices take place on the 2nd and 4th Frid
 ays of every month\, from 7:00pm to 8:30pm. Please either get in touch or 
 turn up at the church\, if you are interested in getting involved and lear
 ning to bell ring.
GEO:-0.937692;52.756983
LOCATION:Kirby Bellars: St Peter
URL:https://www.achurchnearyou.com/church/3475/service-and-events/events/1
 204158/
END:VEVENT
BEGIN:VEVENT
SUMMARY:Tower Bellringing practice
DTSTART;TZID=Europe/London:20251226T190000
DTEND;TZID=Europe/London:20251226T203000
DTSTAMP:20260422T061359Z
UID:12041582025-12-26 19:00:00+00:00achurchnearyou
CATEGORIES:
DESCRIPTION:Tower Bellringing practices take place on the 2nd and 4th Frid
 ays of every month\, from 7:00pm to 8:30pm. Please either get in touch or 
 turn up at the church\, if you are interested in getting involved and lear
 ning to bell ring.
GEO:-0.937692;52.756983
LOCATION:Kirby Bellars: St Peter
URL:https://www.achurchnearyou.com/church/3475/service-and-events/events/1
 204158/
END:VEVENT
END:VCALENDAR
