BEGIN:VCALENDAR
VERSION:2.0
PRODID:-//achurchnearyou.com//eventfeed//EN
CALSCALE:GREGORIAN
METHOD:PUBLISH
X-WR-TIMEZONE:UTC
BEGIN:VEVENT
SUMMARY:Remembrance Service at Waltham War Memorial and Church
DTSTART:20231112T104500Z
DTEND:20231112T114500Z
DTSTAMP:20260421T033604Z
UID:9801232023-11-12 10:45:00+00:00achurchnearyou
CATEGORIES:
DESCRIPTION:Remembrance Service in Waltham on the Wolds
GEO:-0.810627;52.816886
LOCATION:Waltham-on-the-Wolds: St Mary Magdalene
URL:https://www.achurchnearyou.com/church/3477/service-and-events/events/9
 80123/
END:VEVENT
END:VCALENDAR
