BEGIN:VCALENDAR
VERSION:2.0
PRODID:-//achurchnearyou.com//eventfeed//EN
CALSCALE:GREGORIAN
METHOD:PUBLISH
X-WR-TIMEZONE:UTC
BEGIN:VEVENT
SUMMARY:Easter Day Sunday 5th April 9am Easter Day Holy Communion Service
DTSTART:20260405T083000Z
DTEND:20260405T093000Z
DTSTAMP:20260424T165535Z
UID:10436602026-04-05 08:30:00+00:00achurchnearyou
CATEGORIES:
DESCRIPTION:Come and join us for a special service to celebrate Easter Day
 ! All are welcome.
GEO:-0.906163;52.616493
LOCATION:Skeffington: St Thomas a Becket
URL:https://www.achurchnearyou.com/church/3502/service-and-events/events/1
 043660/
END:VEVENT
END:VCALENDAR
