BEGIN:VCALENDAR
VERSION:2.0
PRODID:-//achurchnearyou.com//eventfeed//EN
CALSCALE:GREGORIAN
METHOD:PUBLISH
X-WR-TIMEZONE:UTC
BEGIN:VEVENT
SUMMARY:Festival of Psalms
DTSTART:20250622T170000Z
DTEND:20250622T183000Z
DTSTAMP:20260424T073221Z
UID:12056672025-06-22 17:00:00+00:00achurchnearyou
CATEGORIES:
DESCRIPTION:This service takes a journey of the soul\, from acknowledging 
 God\, to penitence\, lament over struggles in life and the world\, reflect
 ing on wisdom and God as king to allow a move to trust\, thanksgiving and 
 exultation.\n\nIt will involve psalms sung by the choir\, hymns and prayer
 s inspired by the psalms\, and liturgy drawn direct from the Psalter.
GEO:-0.921212;52.47888
LOCATION:St Dionysius\, Market Harborough
URL:https://www.achurchnearyou.com/church/3512/service-and-events/events/1
 205667/
END:VEVENT
END:VCALENDAR
