BEGIN:VCALENDAR
VERSION:2.0
PRODID:-//achurchnearyou.com//eventfeed//EN
CALSCALE:GREGORIAN
METHOD:PUBLISH
X-WR-TIMEZONE:UTC
BEGIN:VEVENT
SUMMARY:Searchers
DTSTART;TZID=Europe/London:20260426T110000
DTEND;TZID=Europe/London:20260426T120000
DTSTAMP:20260423T103942Z
UID:12740622026-04-26 11:00:00+01:00achurchnearyou
CATEGORIES:
DESCRIPTION:Join us for games\, singing\, stories and activities.
LOCATION:Harborough Theatre Lounge
URL:https://www.achurchnearyou.com/church/3512/service-and-events/events/1
 274062/
END:VEVENT
BEGIN:VEVENT
SUMMARY:Searchers
DTSTART;TZID=Europe/London:20260510T110000
DTEND;TZID=Europe/London:20260510T120000
DTSTAMP:20260423T103942Z
UID:12740622026-05-10 11:00:00+01:00achurchnearyou
CATEGORIES:
DESCRIPTION:Join us for games\, singing\, stories and activities.
LOCATION:Harborough Theatre Lounge
URL:https://www.achurchnearyou.com/church/3512/service-and-events/events/1
 274062/
END:VEVENT
BEGIN:VEVENT
SUMMARY:Searchers
DTSTART;TZID=Europe/London:20260607T110000
DTEND;TZID=Europe/London:20260607T120000
DTSTAMP:20260423T103942Z
UID:12740622026-06-07 11:00:00+01:00achurchnearyou
CATEGORIES:
DESCRIPTION:Join us for games\, singing\, stories and activities.
LOCATION:Harborough Theatre Lounge
URL:https://www.achurchnearyou.com/church/3512/service-and-events/events/1
 274062/
END:VEVENT
BEGIN:VEVENT
SUMMARY:Searchers
DTSTART;TZID=Europe/London:20260614T110000
DTEND;TZID=Europe/London:20260614T120000
DTSTAMP:20260423T103942Z
UID:12740622026-06-14 11:00:00+01:00achurchnearyou
CATEGORIES:
DESCRIPTION:Join us for games\, singing\, stories and activities.
LOCATION:Harborough Theatre Lounge
URL:https://www.achurchnearyou.com/church/3512/service-and-events/events/1
 274062/
END:VEVENT
BEGIN:VEVENT
SUMMARY:Searchers
DTSTART;TZID=Europe/London:20260628T110000
DTEND;TZID=Europe/London:20260628T120000
DTSTAMP:20260423T103942Z
UID:12740622026-06-28 11:00:00+01:00achurchnearyou
CATEGORIES:
DESCRIPTION:Join us for games\, singing\, stories and activities.
LOCATION:Harborough Theatre Lounge
URL:https://www.achurchnearyou.com/church/3512/service-and-events/events/1
 274062/
END:VEVENT
BEGIN:VEVENT
SUMMARY:Searchers
DTSTART;TZID=Europe/London:20260705T110000
DTEND;TZID=Europe/London:20260705T120000
DTSTAMP:20260423T103942Z
UID:12740622026-07-05 11:00:00+01:00achurchnearyou
CATEGORIES:
DESCRIPTION:Join us for games\, singing\, stories and activities.
LOCATION:Harborough Theatre Lounge
URL:https://www.achurchnearyou.com/church/3512/service-and-events/events/1
 274062/
END:VEVENT
END:VCALENDAR
