BEGIN:VCALENDAR
VERSION:2.0
PRODID:-//achurchnearyou.com//eventfeed//EN
CALSCALE:GREGORIAN
METHOD:PUBLISH
X-WR-TIMEZONE:UTC
BEGIN:VEVENT
SUMMARY:Bubble church
DTSTART;TZID=Europe/London:20260510T160000
DTEND;TZID=Europe/London:20260510T163000
DTSTAMP:20260420T093420Z
UID:12437312026-05-10 16:00:00+01:00achurchnearyou
CATEGORIES:
DESCRIPTION:Bubble Church is a Sunday church service\, especially for babi
 es\, toddlers and young families. It’s a puppet-packed\, Jesus-centred\,
  30 minute kids and families’s adventure.
GEO:1.290961;51.123304
LOCATION:Dover: St Martin
URL:https://www.achurchnearyou.com/church/3525/service-and-events/events/1
 243731/
END:VEVENT
BEGIN:VEVENT
SUMMARY:Bubble church
DTSTART;TZID=Europe/London:20260614T160000
DTEND;TZID=Europe/London:20260614T163000
DTSTAMP:20260420T093420Z
UID:12437312026-06-14 16:00:00+01:00achurchnearyou
CATEGORIES:
DESCRIPTION:Bubble Church is a Sunday church service\, especially for babi
 es\, toddlers and young families. It’s a puppet-packed\, Jesus-centred\,
  30 minute kids and families’s adventure.
GEO:1.290961;51.123304
LOCATION:Dover: St Martin
URL:https://www.achurchnearyou.com/church/3525/service-and-events/events/1
 243731/
END:VEVENT
BEGIN:VEVENT
SUMMARY:Bubble church
DTSTART;TZID=Europe/London:20260712T160000
DTEND;TZID=Europe/London:20260712T163000
DTSTAMP:20260420T093420Z
UID:12437312026-07-12 16:00:00+01:00achurchnearyou
CATEGORIES:
DESCRIPTION:Bubble Church is a Sunday church service\, especially for babi
 es\, toddlers and young families. It’s a puppet-packed\, Jesus-centred\,
  30 minute kids and families’s adventure.
GEO:1.290961;51.123304
LOCATION:Dover: St Martin
URL:https://www.achurchnearyou.com/church/3525/service-and-events/events/1
 243731/
END:VEVENT
BEGIN:VEVENT
SUMMARY:Bubble church
DTSTART;TZID=Europe/London:20260809T160000
DTEND;TZID=Europe/London:20260809T163000
DTSTAMP:20260420T093420Z
UID:12437312026-08-09 16:00:00+01:00achurchnearyou
CATEGORIES:
DESCRIPTION:Bubble Church is a Sunday church service\, especially for babi
 es\, toddlers and young families. It’s a puppet-packed\, Jesus-centred\,
  30 minute kids and families’s adventure.
GEO:1.290961;51.123304
LOCATION:Dover: St Martin
URL:https://www.achurchnearyou.com/church/3525/service-and-events/events/1
 243731/
END:VEVENT
BEGIN:VEVENT
SUMMARY:Bubble church
DTSTART;TZID=Europe/London:20260913T160000
DTEND;TZID=Europe/London:20260913T163000
DTSTAMP:20260420T093420Z
UID:12437312026-09-13 16:00:00+01:00achurchnearyou
CATEGORIES:
DESCRIPTION:Bubble Church is a Sunday church service\, especially for babi
 es\, toddlers and young families. It’s a puppet-packed\, Jesus-centred\,
  30 minute kids and families’s adventure.
GEO:1.290961;51.123304
LOCATION:Dover: St Martin
URL:https://www.achurchnearyou.com/church/3525/service-and-events/events/1
 243731/
END:VEVENT
BEGIN:VEVENT
SUMMARY:Bubble church
DTSTART;TZID=Europe/London:20261011T160000
DTEND;TZID=Europe/London:20261011T163000
DTSTAMP:20260420T093420Z
UID:12437312026-10-11 16:00:00+01:00achurchnearyou
CATEGORIES:
DESCRIPTION:Bubble Church is a Sunday church service\, especially for babi
 es\, toddlers and young families. It’s a puppet-packed\, Jesus-centred\,
  30 minute kids and families’s adventure.
GEO:1.290961;51.123304
LOCATION:Dover: St Martin
URL:https://www.achurchnearyou.com/church/3525/service-and-events/events/1
 243731/
END:VEVENT
BEGIN:VEVENT
SUMMARY:Bubble church
DTSTART;TZID=Europe/London:20261108T160000
DTEND;TZID=Europe/London:20261108T163000
DTSTAMP:20260420T093420Z
UID:12437312026-11-08 16:00:00+00:00achurchnearyou
CATEGORIES:
DESCRIPTION:Bubble Church is a Sunday church service\, especially for babi
 es\, toddlers and young families. It’s a puppet-packed\, Jesus-centred\,
  30 minute kids and families’s adventure.
GEO:1.290961;51.123304
LOCATION:Dover: St Martin
URL:https://www.achurchnearyou.com/church/3525/service-and-events/events/1
 243731/
END:VEVENT
BEGIN:VEVENT
SUMMARY:Bubble church
DTSTART;TZID=Europe/London:20261213T160000
DTEND;TZID=Europe/London:20261213T163000
DTSTAMP:20260420T093420Z
UID:12437312026-12-13 16:00:00+00:00achurchnearyou
CATEGORIES:
DESCRIPTION:Bubble Church is a Sunday church service\, especially for babi
 es\, toddlers and young families. It’s a puppet-packed\, Jesus-centred\,
  30 minute kids and families’s adventure.
GEO:1.290961;51.123304
LOCATION:Dover: St Martin
URL:https://www.achurchnearyou.com/church/3525/service-and-events/events/1
 243731/
END:VEVENT
BEGIN:VEVENT
SUMMARY:Bubble church
DTSTART;TZID=Europe/London:20270110T160000
DTEND;TZID=Europe/London:20270110T163000
DTSTAMP:20260420T093420Z
UID:12437312027-01-10 16:00:00+00:00achurchnearyou
CATEGORIES:
DESCRIPTION:Bubble Church is a Sunday church service\, especially for babi
 es\, toddlers and young families. It’s a puppet-packed\, Jesus-centred\,
  30 minute kids and families’s adventure.
GEO:1.290961;51.123304
LOCATION:Dover: St Martin
URL:https://www.achurchnearyou.com/church/3525/service-and-events/events/1
 243731/
END:VEVENT
BEGIN:VEVENT
SUMMARY:Bubble church
DTSTART;TZID=Europe/London:20270214T160000
DTEND;TZID=Europe/London:20270214T163000
DTSTAMP:20260420T093420Z
UID:12437312027-02-14 16:00:00+00:00achurchnearyou
CATEGORIES:
DESCRIPTION:Bubble Church is a Sunday church service\, especially for babi
 es\, toddlers and young families. It’s a puppet-packed\, Jesus-centred\,
  30 minute kids and families’s adventure.
GEO:1.290961;51.123304
LOCATION:Dover: St Martin
URL:https://www.achurchnearyou.com/church/3525/service-and-events/events/1
 243731/
END:VEVENT
BEGIN:VEVENT
SUMMARY:Bubble church
DTSTART;TZID=Europe/London:20270314T160000
DTEND;TZID=Europe/London:20270314T163000
DTSTAMP:20260420T093420Z
UID:12437312027-03-14 16:00:00+00:00achurchnearyou
CATEGORIES:
DESCRIPTION:Bubble Church is a Sunday church service\, especially for babi
 es\, toddlers and young families. It’s a puppet-packed\, Jesus-centred\,
  30 minute kids and families’s adventure.
GEO:1.290961;51.123304
LOCATION:Dover: St Martin
URL:https://www.achurchnearyou.com/church/3525/service-and-events/events/1
 243731/
END:VEVENT
BEGIN:VEVENT
SUMMARY:Bubble church
DTSTART;TZID=Europe/London:20270411T160000
DTEND;TZID=Europe/London:20270411T163000
DTSTAMP:20260420T093420Z
UID:12437312027-04-11 16:00:00+01:00achurchnearyou
CATEGORIES:
DESCRIPTION:Bubble Church is a Sunday church service\, especially for babi
 es\, toddlers and young families. It’s a puppet-packed\, Jesus-centred\,
  30 minute kids and families’s adventure.
GEO:1.290961;51.123304
LOCATION:Dover: St Martin
URL:https://www.achurchnearyou.com/church/3525/service-and-events/events/1
 243731/
END:VEVENT
END:VCALENDAR
