BEGIN:VCALENDAR
VERSION:2.0
PRODID:-//achurchnearyou.com//eventfeed//EN
CALSCALE:GREGORIAN
METHOD:PUBLISH
X-WR-TIMEZONE:UTC
BEGIN:VEVENT
SUMMARY:Easter @ Emmanuel
DTSTART:20250305T103000Z
DTEND:20250420T113000Z
DTSTAMP:20260425T025138Z
UID:11603692025-03-05 10:30:00+00:00achurchnearyou
CATEGORIES:
DESCRIPTION:An overview of events and services approaching Easter.
GEO:-4.129447;50.388078
LOCATION:Emmanuel Church
URL:http://www.emmanuelplymouth.co.uk/
END:VEVENT
END:VCALENDAR
