BEGIN:VCALENDAR
VERSION:2.0
PRODID:-//achurchnearyou.com//eventfeed//EN
CALSCALE:GREGORIAN
METHOD:PUBLISH
X-WR-TIMEZONE:UTC
BEGIN:VEVENT
SUMMARY:Quiet Christmas Carols
DTSTART:20251221T183000Z
DTEND:20251221T193000Z
DTSTAMP:20260424T071532Z
UID:12431202025-12-21 18:30:00+00:00achurchnearyou
CATEGORIES:
DESCRIPTION:A gentle space to pause\, remember\, and find comfort amidst t
 he season.\nExperience the hope of Christmas through calm music\, candleli
 ght\, and stillness.
GEO:-4.129447;50.388078
LOCATION:Emmanuel Church
URL:https://emmanuelplymouth.co.uk/christmas
END:VEVENT
END:VCALENDAR
