BEGIN:VCALENDAR
VERSION:2.0
PRODID:-//achurchnearyou.com//eventfeed//EN
CALSCALE:GREGORIAN
METHOD:PUBLISH
X-WR-TIMEZONE:UTC
BEGIN:VEVENT
SUMMARY:Easter Sunday Communion
DTSTART:20260405T093000Z
DTEND:20260405T110000Z
DTSTAMP:20260423T173535Z
UID:13076712026-04-05 09:30:00+00:00achurchnearyou
CATEGORIES:
DESCRIPTION:A joyous service with communion and baptisms.
GEO:-4.129447;50.388078
LOCATION:Emmanuel Church
URL:https://www.achurchnearyou.com/church/3532/service-and-events/events/1
 307671/
END:VEVENT
END:VCALENDAR
