BEGIN:VCALENDAR
VERSION:2.0
PRODID:-//achurchnearyou.com//eventfeed//EN
CALSCALE:GREGORIAN
METHOD:PUBLISH
X-WR-TIMEZONE:UTC
BEGIN:VEVENT
SUMMARY:Carol Service
DTSTART:20251222T180000Z
DTEND:20251222T190000Z
DTSTAMP:20260425T122559Z
UID:12546082025-12-22 18:00:00+00:00achurchnearyou
CATEGORIES:
DESCRIPTION:A service of readings and carols for Christmas
GEO:-1.677985;51.788688
LOCATION:Westwell St Mary
URL:http://www.svbb.org.uk
END:VEVENT
END:VCALENDAR
