BEGIN:VCALENDAR
VERSION:2.0
PRODID:-//achurchnearyou.com//eventfeed//EN
CALSCALE:GREGORIAN
METHOD:PUBLISH
X-WR-TIMEZONE:UTC
BEGIN:VEVENT
SUMMARY:All Age Service for Good Friday
DTSTART:20250418T100000Z
DTEND:20250418T104500Z
DTSTAMP:20260421T193858Z
UID:11834172025-04-18 10:00:00+00:00achurchnearyou
CATEGORIES:
DESCRIPTION:A service for all ages for Good Friday\, with readings and hym
 ns and prayers. We tell the story using our Easter Garden in the church an
 d extinguish the ‘Christ light’ as we remember Jesus’ death.\nArrive
  from 10:30am for hot cross buns in The Cornerstone and then come to churc
 h for 11am start.\nThis service will be followed by the chance to take par
 t in a walk of witness following a large wooden cross through town – whe
 re there will be a short service.
GEO:-0.829344;51.412414
LOCATION:All Saints Church Wokingham
URL:https://www.allsaintswokingham.org.uk/events/all-age-servcie/
END:VEVENT
END:VCALENDAR
