BEGIN:VCALENDAR
VERSION:2.0
PRODID:-//achurchnearyou.com//eventfeed//EN
CALSCALE:GREGORIAN
METHOD:PUBLISH
X-WR-TIMEZONE:UTC
BEGIN:VEVENT
SUMMARY:All Age Parish Communion
DTSTART:20250420T083000Z
DTEND:20250420T093000Z
DTSTAMP:20260421T193745Z
UID:11837572025-04-20 08:30:00+00:00achurchnearyou
CATEGORIES:
DESCRIPTION:A special celebration for Easter Day\, suitable for all ages! 
 With a service of holy communion\, joyful hymns led by our singing group\,
  an all age talk and service of holy communion to which all are welcome. W
 e hope that you will join us for this wonderful celebration of Jesus’ re
 surrection!
GEO:-0.829344;51.412414
LOCATION:All Saints Church Wokingham
URL:https://www.allsaintswokingham.org.uk/events/easter-sunday-all-age-par
 ish-communion/
END:VEVENT
END:VCALENDAR
