BEGIN:VCALENDAR
VERSION:2.0
PRODID:-//achurchnearyou.com//eventfeed//EN
CALSCALE:GREGORIAN
METHOD:PUBLISH
X-WR-TIMEZONE:UTC
BEGIN:VEVENT
SUMMARY:Parish Communion followed by Donkey procession
DTSTART:20250413T083000Z
DTEND:20250413T120000Z
DTSTAMP:20260421T193753Z
UID:11837612025-04-13 08:30:00+00:00achurchnearyou
CATEGORIES:
DESCRIPTION:Parish Communion at 9:30 with children's colouring and craft a
 vailable \nJoin us this Palm Sunday as we welcome a donkey for our Palm Su
 nday procession around town.\nWe will hold our parish communion service as
  normal on 13th April but then after the service we will follow the donkey
  through town\, stopping at other churches including the Methodists\, The 
 Salvation Army and the Baptist\, as we remember Jesus’ humble entry in J
 erusalem on this day. We will leave All Saints about 10:30am and return ab
 out 12noon where we will share in a simple lunch and children’s Palm Sun
 day craft activities. All welcome\, no cost\, join us for all or part of t
 his special celebration!
GEO:-0.829344;51.412414
LOCATION:All Saints Church Wokingham
URL:https://www.allsaintswokingham.org.uk/events/palm-sunday-parish-commun
 ion-donkey-procession/
END:VEVENT
END:VCALENDAR
