BEGIN:VCALENDAR
VERSION:2.0
PRODID:-//achurchnearyou.com//eventfeed//EN
CALSCALE:GREGORIAN
METHOD:PUBLISH
X-WR-TIMEZONE:UTC
BEGIN:VEVENT
SUMMARY:Good Friday Solemn Liturgy
DTSTART:20260403T081500Z
DTEND:20260403T091500Z
DTSTAMP:20260420T212707Z
UID:13033582026-04-03 08:15:00+00:00achurchnearyou
CATEGORIES:
DESCRIPTION:A solemn and reflective service recalling Jesus' death on the 
 cross- with anthems from the choir and a meditation before the cross
GEO:-0.829344;51.412414
LOCATION:All Saints Church Wokingham
URL:https://www.allsaintswokingham.org.uk/services/
END:VEVENT
END:VCALENDAR
