BEGIN:VCALENDAR
VERSION:2.0
PRODID:-//achurchnearyou.com//eventfeed//EN
CALSCALE:GREGORIAN
METHOD:PUBLISH
X-WR-TIMEZONE:UTC
BEGIN:VEVENT
SUMMARY:Maundy Thursday Service
DTSTART:20260402T190000Z
DTEND:20260402T200000Z
DTSTAMP:20260421T233032Z
UID:12899162026-04-02 19:00:00+00:00achurchnearyou
CATEGORIES:
DESCRIPTION:Maundy Thursday marks the beginning of the sacred journey towa
 rd the cross. On this night\, we remember Jesus’ final meal with his dis
 ciples\, his command to love one another\, and his humble act of washing t
 heir feet. Through Scripture and prayer\, we are invited to reflect on Chr
 ist’s self-giving love and the call to serve others.\n\nThis service mov
 es us from light into shadow\, preparing our hearts for Good Friday. All a
 re welcome to come\, worship\, and remember.
GEO:-0.816573;51.382128
LOCATION:Parish of Wokingham St Sebastian's
URL:https://www.achurchnearyou.com/church/366/service-and-events/events/12
 89916/
END:VEVENT
END:VCALENDAR
