BEGIN:VCALENDAR
VERSION:2.0
PRODID:-//achurchnearyou.com//eventfeed//EN
CALSCALE:GREGORIAN
METHOD:PUBLISH
X-WR-TIMEZONE:UTC
BEGIN:VEVENT
SUMMARY:Benefice joint communion service
DTSTART;TZID=Europe/London:20260426T101500
DTEND;TZID=Europe/London:20260426T111500
DTSTAMP:20260420T195959Z
UID:3411112026-04-26 10:15:00+01:00achurchnearyou
CATEGORIES:
DESCRIPTION:During the summer\, fifth Sundays of the month\, Ash Wednesday
 \, Maundy Thursday\, Good Friday\, Ascension and Rogation the four churche
 s in the Benefice [ Worminghall\, Ickford\, Oakley and Shabbington] rotate
  the  Services to each church\, to be able to join together and enjoy the 
 shared communion and fellowship.  All visitors are welcome.\nPlease check 
 the individual Churches for timings as they may vary.
GEO:-1.070459;51.767256
LOCATION:SS Peter and Paul
URL:https://www.achurchnearyou.com/church/371/service-and-events/events/34
 1111/
END:VEVENT
BEGIN:VEVENT
SUMMARY:Benefice joint communion service
DTSTART;TZID=Europe/London:20260531T101500
DTEND;TZID=Europe/London:20260531T111500
DTSTAMP:20260420T195959Z
UID:3411112026-05-31 10:15:00+01:00achurchnearyou
CATEGORIES:
DESCRIPTION:During the summer\, fifth Sundays of the month\, Ash Wednesday
 \, Maundy Thursday\, Good Friday\, Ascension and Rogation the four churche
 s in the Benefice [ Worminghall\, Ickford\, Oakley and Shabbington] rotate
  the  Services to each church\, to be able to join together and enjoy the 
 shared communion and fellowship.  All visitors are welcome.\nPlease check 
 the individual Churches for timings as they may vary.
GEO:-1.070459;51.767256
LOCATION:SS Peter and Paul
URL:https://www.achurchnearyou.com/church/371/service-and-events/events/34
 1111/
END:VEVENT
BEGIN:VEVENT
SUMMARY:Benefice joint communion service
DTSTART;TZID=Europe/London:20260628T101500
DTEND;TZID=Europe/London:20260628T111500
DTSTAMP:20260420T195959Z
UID:3411112026-06-28 10:15:00+01:00achurchnearyou
CATEGORIES:
DESCRIPTION:During the summer\, fifth Sundays of the month\, Ash Wednesday
 \, Maundy Thursday\, Good Friday\, Ascension and Rogation the four churche
 s in the Benefice [ Worminghall\, Ickford\, Oakley and Shabbington] rotate
  the  Services to each church\, to be able to join together and enjoy the 
 shared communion and fellowship.  All visitors are welcome.\nPlease check 
 the individual Churches for timings as they may vary.
GEO:-1.070459;51.767256
LOCATION:SS Peter and Paul
URL:https://www.achurchnearyou.com/church/371/service-and-events/events/34
 1111/
END:VEVENT
BEGIN:VEVENT
SUMMARY:Benefice joint communion service
DTSTART;TZID=Europe/London:20260726T101500
DTEND;TZID=Europe/London:20260726T111500
DTSTAMP:20260420T195959Z
UID:3411112026-07-26 10:15:00+01:00achurchnearyou
CATEGORIES:
DESCRIPTION:During the summer\, fifth Sundays of the month\, Ash Wednesday
 \, Maundy Thursday\, Good Friday\, Ascension and Rogation the four churche
 s in the Benefice [ Worminghall\, Ickford\, Oakley and Shabbington] rotate
  the  Services to each church\, to be able to join together and enjoy the 
 shared communion and fellowship.  All visitors are welcome.\nPlease check 
 the individual Churches for timings as they may vary.
GEO:-1.070459;51.767256
LOCATION:SS Peter and Paul
URL:https://www.achurchnearyou.com/church/371/service-and-events/events/34
 1111/
END:VEVENT
BEGIN:VEVENT
SUMMARY:Benefice joint communion service
DTSTART;TZID=Europe/London:20260830T101500
DTEND;TZID=Europe/London:20260830T111500
DTSTAMP:20260420T195959Z
UID:3411112026-08-30 10:15:00+01:00achurchnearyou
CATEGORIES:
DESCRIPTION:During the summer\, fifth Sundays of the month\, Ash Wednesday
 \, Maundy Thursday\, Good Friday\, Ascension and Rogation the four churche
 s in the Benefice [ Worminghall\, Ickford\, Oakley and Shabbington] rotate
  the  Services to each church\, to be able to join together and enjoy the 
 shared communion and fellowship.  All visitors are welcome.\nPlease check 
 the individual Churches for timings as they may vary.
GEO:-1.070459;51.767256
LOCATION:SS Peter and Paul
URL:https://www.achurchnearyou.com/church/371/service-and-events/events/34
 1111/
END:VEVENT
BEGIN:VEVENT
SUMMARY:Benefice joint communion service
DTSTART;TZID=Europe/London:20260927T101500
DTEND;TZID=Europe/London:20260927T111500
DTSTAMP:20260420T195959Z
UID:3411112026-09-27 10:15:00+01:00achurchnearyou
CATEGORIES:
DESCRIPTION:During the summer\, fifth Sundays of the month\, Ash Wednesday
 \, Maundy Thursday\, Good Friday\, Ascension and Rogation the four churche
 s in the Benefice [ Worminghall\, Ickford\, Oakley and Shabbington] rotate
  the  Services to each church\, to be able to join together and enjoy the 
 shared communion and fellowship.  All visitors are welcome.\nPlease check 
 the individual Churches for timings as they may vary.
GEO:-1.070459;51.767256
LOCATION:SS Peter and Paul
URL:https://www.achurchnearyou.com/church/371/service-and-events/events/34
 1111/
END:VEVENT
BEGIN:VEVENT
SUMMARY:Benefice joint communion service
DTSTART;TZID=Europe/London:20261025T101500
DTEND;TZID=Europe/London:20261025T111500
DTSTAMP:20260420T195959Z
UID:3411112026-10-25 10:15:00+00:00achurchnearyou
CATEGORIES:
DESCRIPTION:During the summer\, fifth Sundays of the month\, Ash Wednesday
 \, Maundy Thursday\, Good Friday\, Ascension and Rogation the four churche
 s in the Benefice [ Worminghall\, Ickford\, Oakley and Shabbington] rotate
  the  Services to each church\, to be able to join together and enjoy the 
 shared communion and fellowship.  All visitors are welcome.\nPlease check 
 the individual Churches for timings as they may vary.
GEO:-1.070459;51.767256
LOCATION:SS Peter and Paul
URL:https://www.achurchnearyou.com/church/371/service-and-events/events/34
 1111/
END:VEVENT
BEGIN:VEVENT
SUMMARY:Benefice joint communion service
DTSTART;TZID=Europe/London:20261129T101500
DTEND;TZID=Europe/London:20261129T111500
DTSTAMP:20260420T195959Z
UID:3411112026-11-29 10:15:00+00:00achurchnearyou
CATEGORIES:
DESCRIPTION:During the summer\, fifth Sundays of the month\, Ash Wednesday
 \, Maundy Thursday\, Good Friday\, Ascension and Rogation the four churche
 s in the Benefice [ Worminghall\, Ickford\, Oakley and Shabbington] rotate
  the  Services to each church\, to be able to join together and enjoy the 
 shared communion and fellowship.  All visitors are welcome.\nPlease check 
 the individual Churches for timings as they may vary.
GEO:-1.070459;51.767256
LOCATION:SS Peter and Paul
URL:https://www.achurchnearyou.com/church/371/service-and-events/events/34
 1111/
END:VEVENT
BEGIN:VEVENT
SUMMARY:Benefice joint communion service
DTSTART;TZID=Europe/London:20261227T101500
DTEND;TZID=Europe/London:20261227T111500
DTSTAMP:20260420T195959Z
UID:3411112026-12-27 10:15:00+00:00achurchnearyou
CATEGORIES:
DESCRIPTION:During the summer\, fifth Sundays of the month\, Ash Wednesday
 \, Maundy Thursday\, Good Friday\, Ascension and Rogation the four churche
 s in the Benefice [ Worminghall\, Ickford\, Oakley and Shabbington] rotate
  the  Services to each church\, to be able to join together and enjoy the 
 shared communion and fellowship.  All visitors are welcome.\nPlease check 
 the individual Churches for timings as they may vary.
GEO:-1.070459;51.767256
LOCATION:SS Peter and Paul
URL:https://www.achurchnearyou.com/church/371/service-and-events/events/34
 1111/
END:VEVENT
BEGIN:VEVENT
SUMMARY:Benefice joint communion service
DTSTART;TZID=Europe/London:20270131T101500
DTEND;TZID=Europe/London:20270131T111500
DTSTAMP:20260420T195959Z
UID:3411112027-01-31 10:15:00+00:00achurchnearyou
CATEGORIES:
DESCRIPTION:During the summer\, fifth Sundays of the month\, Ash Wednesday
 \, Maundy Thursday\, Good Friday\, Ascension and Rogation the four churche
 s in the Benefice [ Worminghall\, Ickford\, Oakley and Shabbington] rotate
  the  Services to each church\, to be able to join together and enjoy the 
 shared communion and fellowship.  All visitors are welcome.\nPlease check 
 the individual Churches for timings as they may vary.
GEO:-1.070459;51.767256
LOCATION:SS Peter and Paul
URL:https://www.achurchnearyou.com/church/371/service-and-events/events/34
 1111/
END:VEVENT
BEGIN:VEVENT
SUMMARY:Benefice joint communion service
DTSTART;TZID=Europe/London:20270228T101500
DTEND;TZID=Europe/London:20270228T111500
DTSTAMP:20260420T195959Z
UID:3411112027-02-28 10:15:00+00:00achurchnearyou
CATEGORIES:
DESCRIPTION:During the summer\, fifth Sundays of the month\, Ash Wednesday
 \, Maundy Thursday\, Good Friday\, Ascension and Rogation the four churche
 s in the Benefice [ Worminghall\, Ickford\, Oakley and Shabbington] rotate
  the  Services to each church\, to be able to join together and enjoy the 
 shared communion and fellowship.  All visitors are welcome.\nPlease check 
 the individual Churches for timings as they may vary.
GEO:-1.070459;51.767256
LOCATION:SS Peter and Paul
URL:https://www.achurchnearyou.com/church/371/service-and-events/events/34
 1111/
END:VEVENT
BEGIN:VEVENT
SUMMARY:Benefice joint communion service
DTSTART;TZID=Europe/London:20270328T101500
DTEND;TZID=Europe/London:20270328T111500
DTSTAMP:20260420T195959Z
UID:3411112027-03-28 10:15:00+01:00achurchnearyou
CATEGORIES:
DESCRIPTION:During the summer\, fifth Sundays of the month\, Ash Wednesday
 \, Maundy Thursday\, Good Friday\, Ascension and Rogation the four churche
 s in the Benefice [ Worminghall\, Ickford\, Oakley and Shabbington] rotate
  the  Services to each church\, to be able to join together and enjoy the 
 shared communion and fellowship.  All visitors are welcome.\nPlease check 
 the individual Churches for timings as they may vary.
GEO:-1.070459;51.767256
LOCATION:SS Peter and Paul
URL:https://www.achurchnearyou.com/church/371/service-and-events/events/34
 1111/
END:VEVENT
END:VCALENDAR
