BEGIN:VCALENDAR
VERSION:2.0
PRODID:-//achurchnearyou.com//eventfeed//EN
CALSCALE:GREGORIAN
METHOD:PUBLISH
X-WR-TIMEZONE:UTC
BEGIN:VEVENT
SUMMARY:Holy Communion
DTSTART;TZID=Europe/London:20260405T093000
DTEND;TZID=Europe/London:20260405T103000
DTSTAMP:20260424T183426Z
UID:11683081775377800.0achurchnearyou
CATEGORIES:
DESCRIPTION:Please join us for our service of Holy Communion - you will be
  made very welcome.\nEASTER SUNDAY = APRIL 5TH
LOCATION:Coverack: St Peter
URL:https://www.achurchnearyou.com/church/2394/service-and-events/events/1
 168308/
END:VEVENT
BEGIN:VEVENT
SUMMARY:Holy Communion
DTSTART;TZID=Europe/London:20260405T093000
DTEND;TZID=Europe/London:20260405T103000
DTSTAMP:20260424T183426Z
UID:11683101775377800.0achurchnearyou
CATEGORIES:
DESCRIPTION:All are very welcome at this service of Holy Communion - pleas
 e join us.\n1st Sunday - follows BCP service.\nPLEASE NOTE - APRIL 19TH WI
 LL BE A SERVICE OF MORNING PRAYER.
GEO:-5.193045;49.970249
LOCATION:St Wynwallow Church\, Landewednack
URL:https://www.achurchnearyou.com/church/2385/service-and-events/events/1
 168310/
END:VEVENT
BEGIN:VEVENT
SUMMARY:Holy Communion
DTSTART;TZID=Europe/London:20260405T100000
DTEND;TZID=Europe/London:20260405T110000
DTSTAMP:20260424T183426Z
UID:11683141775379600.0achurchnearyou
CATEGORIES:
DESCRIPTION:Please join us for this special service of Holy Communion for 
 Easter Sunday at 10am - you will be made very welcome.
GEO:-5.086866;50.050745
LOCATION:St Keverne Parish Church : St Keverne
URL:https://www.achurchnearyou.com/church/2394/service-and-events/events/1
 168314/
END:VEVENT
BEGIN:VEVENT
SUMMARY:Morning Prayer
DTSTART;TZID=Europe/London:20260405T111500
DTEND;TZID=Europe/London:20260405T121500
DTSTAMP:20260424T183426Z
UID:12409631775384100.0achurchnearyou
CATEGORIES:
DESCRIPTION:Please join us for our service of Morning Prayer.\nAll are ver
 y welcome.
LOCATION:Ruan Minor: St Rumon
URL:https://www.achurchnearyou.com/church/2385/service-and-events/events/1
 240963/
END:VEVENT
BEGIN:VEVENT
SUMMARY:Holy Communion
DTSTART;TZID=Europe/London:20260412T093000
DTEND;TZID=Europe/London:20260412T103000
DTSTAMP:20260424T183426Z
UID:11732651775982600.0achurchnearyou
CATEGORIES:
DESCRIPTION:Please join us to celebrate Holy Communion - you will be made 
 very welcome.
LOCATION:Ruan Minor: St Rumon
URL:https://www.achurchnearyou.com/church/2385/service-and-events/events/1
 173265/
END:VEVENT
BEGIN:VEVENT
SUMMARY:Morning Praise
DTSTART;TZID=Europe/London:20260412T093000
DTEND;TZID=Europe/London:20260412T103000
DTSTAMP:20260424T183426Z
UID:11732601775982600.0achurchnearyou
CATEGORIES:
DESCRIPTION:Please join us for our service of Morning Praise - you will be
  made very welcome.
LOCATION:Coverack: St Peter
URL:https://www.achurchnearyou.com/church/2394/service-and-events/events/1
 173260/
END:VEVENT
BEGIN:VEVENT
SUMMARY:Holy Communion
DTSTART;TZID=Europe/London:20260412T110000
DTEND;TZID=Europe/London:20260412T120000
DTSTAMP:20260424T183426Z
UID:11732691775988000.0achurchnearyou
CATEGORIES:
DESCRIPTION:Please join us as we celebrate Holy Communion. All are very we
 lcome.
GEO:-5.086866;50.050745
LOCATION:St Keverne Parish Church : St Keverne
URL:https://www.achurchnearyou.com/church/2394/service-and-events/events/1
 173269/
END:VEVENT
BEGIN:VEVENT
SUMMARY:Cafe Church
DTSTART;TZID=Europe/London:20260412T111500
DTEND;TZID=Europe/London:20260412T121500
DTSTAMP:20260424T183426Z
UID:12772591775988900.0achurchnearyou
CATEGORIES:
DESCRIPTION:Come and join us for this more relaxed style of worship held i
 n our coffee corner - April 12th + 26th.\nAll are very welcome.
GEO:-5.193045;49.970249
LOCATION:St Wynwallow Church\, Landewednack
URL:https://www.achurchnearyou.com/church/2385/service-and-events/events/1
 277259/
END:VEVENT
BEGIN:VEVENT
SUMMARY:Evening Prayer 6pm
DTSTART;TZID=Europe/London:20260412T180000
DTEND;TZID=Europe/London:20260412T190000
DTSTAMP:20260424T183426Z
UID:9529081776013200.0achurchnearyou
CATEGORIES:
DESCRIPTION:A service of Evensong taken from The Book of Common Prayer. Se
 rvices are held from April to November - 6pm (Oct + Nov = 3pm). There is n
 o electricity at this beautiful little church so candles and gas lights ar
 e used.
LOCATION:Grade: St Grada & Holy Cross
URL:https://www.achurchnearyou.com/church/2385/service-and-events/events/9
 52908/
END:VEVENT
BEGIN:VEVENT
SUMMARY:Holy Communion
DTSTART;TZID=Europe/London:20260419T093000
DTEND;TZID=Europe/London:20260419T103000
DTSTAMP:20260424T183426Z
UID:11683081776587400.0achurchnearyou
CATEGORIES:
DESCRIPTION:Please join us for our service of Holy Communion - you will be
  made very welcome.\nEASTER SUNDAY = APRIL 5TH
LOCATION:Coverack: St Peter
URL:https://www.achurchnearyou.com/church/2394/service-and-events/events/1
 168308/
END:VEVENT
BEGIN:VEVENT
SUMMARY:Holy Communion
DTSTART;TZID=Europe/London:20260419T093000
DTEND;TZID=Europe/London:20260419T103000
DTSTAMP:20260424T183426Z
UID:11683101776587400.0achurchnearyou
CATEGORIES:
DESCRIPTION:All are very welcome at this service of Holy Communion - pleas
 e join us.\n1st Sunday - follows BCP service.\nPLEASE NOTE - APRIL 19TH WI
 LL BE A SERVICE OF MORNING PRAYER.
GEO:-5.193045;49.970249
LOCATION:St Wynwallow Church\, Landewednack
URL:https://www.achurchnearyou.com/church/2385/service-and-events/events/1
 168310/
END:VEVENT
BEGIN:VEVENT
SUMMARY:Family Service
DTSTART;TZID=Europe/London:20260419T111500
DTEND;TZID=Europe/London:20260419T121500
DTSTAMP:20260424T183426Z
UID:11683161776593700.0achurchnearyou
CATEGORIES:
DESCRIPTION:All are very welcome at our Family Service.
LOCATION:Ruan Minor: St Rumon
URL:https://www.achurchnearyou.com/church/2385/service-and-events/events/1
 168316/
END:VEVENT
BEGIN:VEVENT
SUMMARY:Holy Communion
DTSTART;TZID=Europe/London:20260426T093000
DTEND;TZID=Europe/London:20260426T103000
DTSTAMP:20260424T183426Z
UID:11732651777192200.0achurchnearyou
CATEGORIES:
DESCRIPTION:Please join us to celebrate Holy Communion - you will be made 
 very welcome.
LOCATION:Ruan Minor: St Rumon
URL:https://www.achurchnearyou.com/church/2385/service-and-events/events/1
 173265/
END:VEVENT
BEGIN:VEVENT
SUMMARY:Morning Praise
DTSTART;TZID=Europe/London:20260426T093000
DTEND;TZID=Europe/London:20260426T103000
DTSTAMP:20260424T183426Z
UID:11732601777192200.0achurchnearyou
CATEGORIES:
DESCRIPTION:Please join us for our service of Morning Praise - you will be
  made very welcome.
LOCATION:Coverack: St Peter
URL:https://www.achurchnearyou.com/church/2394/service-and-events/events/1
 173260/
END:VEVENT
BEGIN:VEVENT
SUMMARY:Holy Communion
DTSTART;TZID=Europe/London:20260426T110000
DTEND;TZID=Europe/London:20260426T120000
DTSTAMP:20260424T183426Z
UID:11732691777197600.0achurchnearyou
CATEGORIES:
DESCRIPTION:Please join us as we celebrate Holy Communion. All are very we
 lcome.
GEO:-5.086866;50.050745
LOCATION:St Keverne Parish Church : St Keverne
URL:https://www.achurchnearyou.com/church/2394/service-and-events/events/1
 173269/
END:VEVENT
BEGIN:VEVENT
SUMMARY:Cafe Church
DTSTART;TZID=Europe/London:20260426T111500
DTEND;TZID=Europe/London:20260426T121500
DTSTAMP:20260424T183426Z
UID:12772591777198500.0achurchnearyou
CATEGORIES:
DESCRIPTION:Come and join us for this more relaxed style of worship held i
 n our coffee corner - April 12th + 26th.\nAll are very welcome.
GEO:-5.193045;49.970249
LOCATION:St Wynwallow Church\, Landewednack
URL:https://www.achurchnearyou.com/church/2385/service-and-events/events/1
 277259/
END:VEVENT
BEGIN:VEVENT
SUMMARY:Holy Communion
DTSTART;TZID=Europe/London:20260503T093000
DTEND;TZID=Europe/London:20260503T103000
DTSTAMP:20260424T183426Z
UID:11683081777797000.0achurchnearyou
CATEGORIES:
DESCRIPTION:Please join us for our service of Holy Communion - you will be
  made very welcome.\nEASTER SUNDAY = APRIL 5TH
LOCATION:Coverack: St Peter
URL:https://www.achurchnearyou.com/church/2394/service-and-events/events/1
 168308/
END:VEVENT
BEGIN:VEVENT
SUMMARY:Holy Communion
DTSTART;TZID=Europe/London:20260503T093000
DTEND;TZID=Europe/London:20260503T103000
DTSTAMP:20260424T183426Z
UID:11683101777797000.0achurchnearyou
CATEGORIES:
DESCRIPTION:All are very welcome at this service of Holy Communion - pleas
 e join us.\n1st Sunday - follows BCP service.\nPLEASE NOTE - APRIL 19TH WI
 LL BE A SERVICE OF MORNING PRAYER.
GEO:-5.193045;49.970249
LOCATION:St Wynwallow Church\, Landewednack
URL:https://www.achurchnearyou.com/church/2385/service-and-events/events/1
 168310/
END:VEVENT
BEGIN:VEVENT
SUMMARY:Holy Communion
DTSTART;TZID=Europe/London:20260503T100000
DTEND;TZID=Europe/London:20260503T110000
DTSTAMP:20260424T183426Z
UID:11683141777798800.0achurchnearyou
CATEGORIES:
DESCRIPTION:Please join us for this special service of Holy Communion for 
 Easter Sunday at 10am - you will be made very welcome.
GEO:-5.086866;50.050745
LOCATION:St Keverne Parish Church : St Keverne
URL:https://www.achurchnearyou.com/church/2394/service-and-events/events/1
 168314/
END:VEVENT
BEGIN:VEVENT
SUMMARY:Morning Prayer
DTSTART;TZID=Europe/London:20260503T111500
DTEND;TZID=Europe/London:20260503T121500
DTSTAMP:20260424T183426Z
UID:12409631777803300.0achurchnearyou
CATEGORIES:
DESCRIPTION:Please join us for our service of Morning Prayer.\nAll are ver
 y welcome.
LOCATION:Ruan Minor: St Rumon
URL:https://www.achurchnearyou.com/church/2385/service-and-events/events/1
 240963/
END:VEVENT
BEGIN:VEVENT
SUMMARY:Holy Communion
DTSTART;TZID=Europe/London:20260510T093000
DTEND;TZID=Europe/London:20260510T103000
DTSTAMP:20260424T183426Z
UID:11732651778401800.0achurchnearyou
CATEGORIES:
DESCRIPTION:Please join us to celebrate Holy Communion - you will be made 
 very welcome.
LOCATION:Ruan Minor: St Rumon
URL:https://www.achurchnearyou.com/church/2385/service-and-events/events/1
 173265/
END:VEVENT
BEGIN:VEVENT
SUMMARY:Morning Praise
DTSTART;TZID=Europe/London:20260510T093000
DTEND;TZID=Europe/London:20260510T103000
DTSTAMP:20260424T183426Z
UID:11732601778401800.0achurchnearyou
CATEGORIES:
DESCRIPTION:Please join us for our service of Morning Praise - you will be
  made very welcome.
LOCATION:Coverack: St Peter
URL:https://www.achurchnearyou.com/church/2394/service-and-events/events/1
 173260/
END:VEVENT
BEGIN:VEVENT
SUMMARY:Holy Communion
DTSTART;TZID=Europe/London:20260510T110000
DTEND;TZID=Europe/London:20260510T120000
DTSTAMP:20260424T183426Z
UID:11732691778407200.0achurchnearyou
CATEGORIES:
DESCRIPTION:Please join us as we celebrate Holy Communion. All are very we
 lcome.
GEO:-5.086866;50.050745
LOCATION:St Keverne Parish Church : St Keverne
URL:https://www.achurchnearyou.com/church/2394/service-and-events/events/1
 173269/
END:VEVENT
BEGIN:VEVENT
SUMMARY:Cafe Church
DTSTART;TZID=Europe/London:20260510T111500
DTEND;TZID=Europe/London:20260510T121500
DTSTAMP:20260424T183426Z
UID:12772591778408100.0achurchnearyou
CATEGORIES:
DESCRIPTION:Come and join us for this more relaxed style of worship held i
 n our coffee corner - April 12th + 26th.\nAll are very welcome.
GEO:-5.193045;49.970249
LOCATION:St Wynwallow Church\, Landewednack
URL:https://www.achurchnearyou.com/church/2385/service-and-events/events/1
 277259/
END:VEVENT
BEGIN:VEVENT
SUMMARY:Evening Prayer 6pm
DTSTART;TZID=Europe/London:20260510T180000
DTEND;TZID=Europe/London:20260510T190000
DTSTAMP:20260424T183426Z
UID:9529081778432400.0achurchnearyou
CATEGORIES:
DESCRIPTION:A service of Evensong taken from The Book of Common Prayer. Se
 rvices are held from April to November - 6pm (Oct + Nov = 3pm). There is n
 o electricity at this beautiful little church so candles and gas lights ar
 e used.
LOCATION:Grade: St Grada & Holy Cross
URL:https://www.achurchnearyou.com/church/2385/service-and-events/events/9
 52908/
END:VEVENT
BEGIN:VEVENT
SUMMARY:Holy Communion
DTSTART;TZID=Europe/London:20260517T093000
DTEND;TZID=Europe/London:20260517T103000
DTSTAMP:20260424T183426Z
UID:11683081779006600.0achurchnearyou
CATEGORIES:
DESCRIPTION:Please join us for our service of Holy Communion - you will be
  made very welcome.\nEASTER SUNDAY = APRIL 5TH
LOCATION:Coverack: St Peter
URL:https://www.achurchnearyou.com/church/2394/service-and-events/events/1
 168308/
END:VEVENT
BEGIN:VEVENT
SUMMARY:Holy Communion
DTSTART;TZID=Europe/London:20260517T093000
DTEND;TZID=Europe/London:20260517T103000
DTSTAMP:20260424T183426Z
UID:11683101779006600.0achurchnearyou
CATEGORIES:
DESCRIPTION:All are very welcome at this service of Holy Communion - pleas
 e join us.\n1st Sunday - follows BCP service.\nPLEASE NOTE - APRIL 19TH WI
 LL BE A SERVICE OF MORNING PRAYER.
GEO:-5.193045;49.970249
LOCATION:St Wynwallow Church\, Landewednack
URL:https://www.achurchnearyou.com/church/2385/service-and-events/events/1
 168310/
END:VEVENT
BEGIN:VEVENT
SUMMARY:Family Service
DTSTART;TZID=Europe/London:20260517T111500
DTEND;TZID=Europe/London:20260517T121500
DTSTAMP:20260424T183426Z
UID:11683161779012900.0achurchnearyou
CATEGORIES:
DESCRIPTION:All are very welcome at our Family Service.
LOCATION:Ruan Minor: St Rumon
URL:https://www.achurchnearyou.com/church/2385/service-and-events/events/1
 168316/
END:VEVENT
BEGIN:VEVENT
SUMMARY:Holy Communion
DTSTART;TZID=Europe/London:20260524T093000
DTEND;TZID=Europe/London:20260524T103000
DTSTAMP:20260424T183426Z
UID:11732651779611400.0achurchnearyou
CATEGORIES:
DESCRIPTION:Please join us to celebrate Holy Communion - you will be made 
 very welcome.
LOCATION:Ruan Minor: St Rumon
URL:https://www.achurchnearyou.com/church/2385/service-and-events/events/1
 173265/
END:VEVENT
BEGIN:VEVENT
SUMMARY:Morning Praise
DTSTART;TZID=Europe/London:20260524T093000
DTEND;TZID=Europe/London:20260524T103000
DTSTAMP:20260424T183426Z
UID:11732601779611400.0achurchnearyou
CATEGORIES:
DESCRIPTION:Please join us for our service of Morning Praise - you will be
  made very welcome.
LOCATION:Coverack: St Peter
URL:https://www.achurchnearyou.com/church/2394/service-and-events/events/1
 173260/
END:VEVENT
BEGIN:VEVENT
SUMMARY:Holy Communion
DTSTART;TZID=Europe/London:20260524T110000
DTEND;TZID=Europe/London:20260524T120000
DTSTAMP:20260424T183426Z
UID:11732691779616800.0achurchnearyou
CATEGORIES:
DESCRIPTION:Please join us as we celebrate Holy Communion. All are very we
 lcome.
GEO:-5.086866;50.050745
LOCATION:St Keverne Parish Church : St Keverne
URL:https://www.achurchnearyou.com/church/2394/service-and-events/events/1
 173269/
END:VEVENT
BEGIN:VEVENT
SUMMARY:Cafe Church
DTSTART;TZID=Europe/London:20260524T111500
DTEND;TZID=Europe/London:20260524T121500
DTSTAMP:20260424T183426Z
UID:12772591779617700.0achurchnearyou
CATEGORIES:
DESCRIPTION:Come and join us for this more relaxed style of worship held i
 n our coffee corner - April 12th + 26th.\nAll are very welcome.
GEO:-5.193045;49.970249
LOCATION:St Wynwallow Church\, Landewednack
URL:https://www.achurchnearyou.com/church/2385/service-and-events/events/1
 277259/
END:VEVENT
END:VCALENDAR
