BEGIN:VCALENDAR
VERSION:2.0
PRODID:-//achurchnearyou.com//eventfeed//EN
CALSCALE:GREGORIAN
METHOD:PUBLISH
X-WR-TIMEZONE:UTC
BEGIN:VEVENT
SUMMARY:Parish Communion
DTSTART;TZID=Europe/London:20260405T100000
DTEND;TZID=Europe/London:20260405T110000
DTSTAMP:20260423T072633Z
UID:5669461775379600.0achurchnearyou
CATEGORIES:
DESCRIPTION:We celebrate Holy Communion every Sunday.
GEO:-1.229308;51.712134
LOCATION:Sandford-on-Thames: St Andrew
URL:https://www.achurchnearyou.com/church/4111/service-and-events/events/5
 66946/
END:VEVENT
BEGIN:VEVENT
SUMMARY:Parish Communion
DTSTART;TZID=Europe/London:20260412T100000
DTEND;TZID=Europe/London:20260412T110000
DTSTAMP:20260423T072633Z
UID:5669461775984400.0achurchnearyou
CATEGORIES:
DESCRIPTION:We celebrate Holy Communion every Sunday.
GEO:-1.229308;51.712134
LOCATION:Sandford-on-Thames: St Andrew
URL:https://www.achurchnearyou.com/church/4111/service-and-events/events/5
 66946/
END:VEVENT
BEGIN:VEVENT
SUMMARY:Parish Communion
DTSTART;TZID=Europe/London:20260419T100000
DTEND;TZID=Europe/London:20260419T110000
DTSTAMP:20260423T072633Z
UID:5669461776589200.0achurchnearyou
CATEGORIES:
DESCRIPTION:We celebrate Holy Communion every Sunday.
GEO:-1.229308;51.712134
LOCATION:Sandford-on-Thames: St Andrew
URL:https://www.achurchnearyou.com/church/4111/service-and-events/events/5
 66946/
END:VEVENT
BEGIN:VEVENT
SUMMARY:Westward Communion: a more informal eucharist on the last Sunday o
 f the month
DTSTART;TZID=Europe/London:20260426T100000
DTEND;TZID=Europe/London:20260426T104500
DTSTAMP:20260423T072633Z
UID:4742081777194000.0achurchnearyou
CATEGORIES:
DESCRIPTION:
GEO:-1.229308;51.712134
LOCATION:Sandford-on-Thames: St Andrew
URL:https://www.achurchnearyou.com/church/4111/service-and-events/events/4
 74208/
END:VEVENT
BEGIN:VEVENT
SUMMARY:Parish Communion
DTSTART;TZID=Europe/London:20260426T100000
DTEND;TZID=Europe/London:20260426T110000
DTSTAMP:20260423T072633Z
UID:5669461777194000.0achurchnearyou
CATEGORIES:
DESCRIPTION:We celebrate Holy Communion every Sunday.
GEO:-1.229308;51.712134
LOCATION:Sandford-on-Thames: St Andrew
URL:https://www.achurchnearyou.com/church/4111/service-and-events/events/5
 66946/
END:VEVENT
BEGIN:VEVENT
SUMMARY:Parish Communion
DTSTART;TZID=Europe/London:20260503T100000
DTEND;TZID=Europe/London:20260503T110000
DTSTAMP:20260423T072633Z
UID:5669461777798800.0achurchnearyou
CATEGORIES:
DESCRIPTION:We celebrate Holy Communion every Sunday.
GEO:-1.229308;51.712134
LOCATION:Sandford-on-Thames: St Andrew
URL:https://www.achurchnearyou.com/church/4111/service-and-events/events/5
 66946/
END:VEVENT
BEGIN:VEVENT
SUMMARY:Parish Communion
DTSTART;TZID=Europe/London:20260510T100000
DTEND;TZID=Europe/London:20260510T110000
DTSTAMP:20260423T072633Z
UID:5669461778403600.0achurchnearyou
CATEGORIES:
DESCRIPTION:We celebrate Holy Communion every Sunday.
GEO:-1.229308;51.712134
LOCATION:Sandford-on-Thames: St Andrew
URL:https://www.achurchnearyou.com/church/4111/service-and-events/events/5
 66946/
END:VEVENT
BEGIN:VEVENT
SUMMARY:Parish Communion
DTSTART;TZID=Europe/London:20260517T100000
DTEND;TZID=Europe/London:20260517T110000
DTSTAMP:20260423T072633Z
UID:5669461779008400.0achurchnearyou
CATEGORIES:
DESCRIPTION:We celebrate Holy Communion every Sunday.
GEO:-1.229308;51.712134
LOCATION:Sandford-on-Thames: St Andrew
URL:https://www.achurchnearyou.com/church/4111/service-and-events/events/5
 66946/
END:VEVENT
BEGIN:VEVENT
SUMMARY:Parish Communion
DTSTART;TZID=Europe/London:20260524T100000
DTEND;TZID=Europe/London:20260524T110000
DTSTAMP:20260423T072633Z
UID:5669461779613200.0achurchnearyou
CATEGORIES:
DESCRIPTION:We celebrate Holy Communion every Sunday.
GEO:-1.229308;51.712134
LOCATION:Sandford-on-Thames: St Andrew
URL:https://www.achurchnearyou.com/church/4111/service-and-events/events/5
 66946/
END:VEVENT
BEGIN:VEVENT
SUMMARY:Westward Communion: a more informal eucharist on the last Sunday o
 f the month
DTSTART;TZID=Europe/London:20260531T100000
DTEND;TZID=Europe/London:20260531T104500
DTSTAMP:20260423T072633Z
UID:4742081780218000.0achurchnearyou
CATEGORIES:
DESCRIPTION:
GEO:-1.229308;51.712134
LOCATION:Sandford-on-Thames: St Andrew
URL:https://www.achurchnearyou.com/church/4111/service-and-events/events/4
 74208/
END:VEVENT
BEGIN:VEVENT
SUMMARY:Parish Communion
DTSTART;TZID=Europe/London:20260531T100000
DTEND;TZID=Europe/London:20260531T110000
DTSTAMP:20260423T072633Z
UID:5669461780218000.0achurchnearyou
CATEGORIES:
DESCRIPTION:We celebrate Holy Communion every Sunday.
GEO:-1.229308;51.712134
LOCATION:Sandford-on-Thames: St Andrew
URL:https://www.achurchnearyou.com/church/4111/service-and-events/events/5
 66946/
END:VEVENT
BEGIN:VEVENT
SUMMARY:Parish Communion
DTSTART;TZID=Europe/London:20260607T100000
DTEND;TZID=Europe/London:20260607T110000
DTSTAMP:20260423T072633Z
UID:5669461780822800.0achurchnearyou
CATEGORIES:
DESCRIPTION:We celebrate Holy Communion every Sunday.
GEO:-1.229308;51.712134
LOCATION:Sandford-on-Thames: St Andrew
URL:https://www.achurchnearyou.com/church/4111/service-and-events/events/5
 66946/
END:VEVENT
BEGIN:VEVENT
SUMMARY:Parish Communion
DTSTART;TZID=Europe/London:20260614T100000
DTEND;TZID=Europe/London:20260614T110000
DTSTAMP:20260423T072633Z
UID:5669461781427600.0achurchnearyou
CATEGORIES:
DESCRIPTION:We celebrate Holy Communion every Sunday.
GEO:-1.229308;51.712134
LOCATION:Sandford-on-Thames: St Andrew
URL:https://www.achurchnearyou.com/church/4111/service-and-events/events/5
 66946/
END:VEVENT
BEGIN:VEVENT
SUMMARY:Parish Communion
DTSTART;TZID=Europe/London:20260621T100000
DTEND;TZID=Europe/London:20260621T110000
DTSTAMP:20260423T072633Z
UID:5669461782032400.0achurchnearyou
CATEGORIES:
DESCRIPTION:We celebrate Holy Communion every Sunday.
GEO:-1.229308;51.712134
LOCATION:Sandford-on-Thames: St Andrew
URL:https://www.achurchnearyou.com/church/4111/service-and-events/events/5
 66946/
END:VEVENT
BEGIN:VEVENT
SUMMARY:Westward Communion: a more informal eucharist on the last Sunday o
 f the month
DTSTART;TZID=Europe/London:20260628T100000
DTEND;TZID=Europe/London:20260628T104500
DTSTAMP:20260423T072633Z
UID:4742081782637200.0achurchnearyou
CATEGORIES:
DESCRIPTION:
GEO:-1.229308;51.712134
LOCATION:Sandford-on-Thames: St Andrew
URL:https://www.achurchnearyou.com/church/4111/service-and-events/events/4
 74208/
END:VEVENT
BEGIN:VEVENT
SUMMARY:Parish Communion
DTSTART;TZID=Europe/London:20260628T100000
DTEND;TZID=Europe/London:20260628T110000
DTSTAMP:20260423T072633Z
UID:5669461782637200.0achurchnearyou
CATEGORIES:
DESCRIPTION:We celebrate Holy Communion every Sunday.
GEO:-1.229308;51.712134
LOCATION:Sandford-on-Thames: St Andrew
URL:https://www.achurchnearyou.com/church/4111/service-and-events/events/5
 66946/
END:VEVENT
BEGIN:VEVENT
SUMMARY:Parish Communion
DTSTART;TZID=Europe/London:20260705T100000
DTEND;TZID=Europe/London:20260705T110000
DTSTAMP:20260423T072633Z
UID:5669461783242000.0achurchnearyou
CATEGORIES:
DESCRIPTION:We celebrate Holy Communion every Sunday.
GEO:-1.229308;51.712134
LOCATION:Sandford-on-Thames: St Andrew
URL:https://www.achurchnearyou.com/church/4111/service-and-events/events/5
 66946/
END:VEVENT
BEGIN:VEVENT
SUMMARY:Parish Communion
DTSTART;TZID=Europe/London:20260712T100000
DTEND;TZID=Europe/London:20260712T110000
DTSTAMP:20260423T072633Z
UID:5669461783846800.0achurchnearyou
CATEGORIES:
DESCRIPTION:We celebrate Holy Communion every Sunday.
GEO:-1.229308;51.712134
LOCATION:Sandford-on-Thames: St Andrew
URL:https://www.achurchnearyou.com/church/4111/service-and-events/events/5
 66946/
END:VEVENT
BEGIN:VEVENT
SUMMARY:Parish Communion
DTSTART;TZID=Europe/London:20260719T100000
DTEND;TZID=Europe/London:20260719T110000
DTSTAMP:20260423T072633Z
UID:5669461784451600.0achurchnearyou
CATEGORIES:
DESCRIPTION:We celebrate Holy Communion every Sunday.
GEO:-1.229308;51.712134
LOCATION:Sandford-on-Thames: St Andrew
URL:https://www.achurchnearyou.com/church/4111/service-and-events/events/5
 66946/
END:VEVENT
BEGIN:VEVENT
SUMMARY:Westward Communion: a more informal eucharist on the last Sunday o
 f the month
DTSTART;TZID=Europe/London:20260726T100000
DTEND;TZID=Europe/London:20260726T104500
DTSTAMP:20260423T072633Z
UID:4742081785056400.0achurchnearyou
CATEGORIES:
DESCRIPTION:
GEO:-1.229308;51.712134
LOCATION:Sandford-on-Thames: St Andrew
URL:https://www.achurchnearyou.com/church/4111/service-and-events/events/4
 74208/
END:VEVENT
BEGIN:VEVENT
SUMMARY:Parish Communion
DTSTART;TZID=Europe/London:20260726T100000
DTEND;TZID=Europe/London:20260726T110000
DTSTAMP:20260423T072633Z
UID:5669461785056400.0achurchnearyou
CATEGORIES:
DESCRIPTION:We celebrate Holy Communion every Sunday.
GEO:-1.229308;51.712134
LOCATION:Sandford-on-Thames: St Andrew
URL:https://www.achurchnearyou.com/church/4111/service-and-events/events/5
 66946/
END:VEVENT
BEGIN:VEVENT
SUMMARY:Parish Communion
DTSTART;TZID=Europe/London:20260802T100000
DTEND;TZID=Europe/London:20260802T110000
DTSTAMP:20260423T072633Z
UID:5669461785661200.0achurchnearyou
CATEGORIES:
DESCRIPTION:We celebrate Holy Communion every Sunday.
GEO:-1.229308;51.712134
LOCATION:Sandford-on-Thames: St Andrew
URL:https://www.achurchnearyou.com/church/4111/service-and-events/events/5
 66946/
END:VEVENT
BEGIN:VEVENT
SUMMARY:Parish Communion
DTSTART;TZID=Europe/London:20260809T100000
DTEND;TZID=Europe/London:20260809T110000
DTSTAMP:20260423T072633Z
UID:5669461786266000.0achurchnearyou
CATEGORIES:
DESCRIPTION:We celebrate Holy Communion every Sunday.
GEO:-1.229308;51.712134
LOCATION:Sandford-on-Thames: St Andrew
URL:https://www.achurchnearyou.com/church/4111/service-and-events/events/5
 66946/
END:VEVENT
BEGIN:VEVENT
SUMMARY:Parish Communion
DTSTART;TZID=Europe/London:20260816T100000
DTEND;TZID=Europe/London:20260816T110000
DTSTAMP:20260423T072633Z
UID:5669461786870800.0achurchnearyou
CATEGORIES:
DESCRIPTION:We celebrate Holy Communion every Sunday.
GEO:-1.229308;51.712134
LOCATION:Sandford-on-Thames: St Andrew
URL:https://www.achurchnearyou.com/church/4111/service-and-events/events/5
 66946/
END:VEVENT
BEGIN:VEVENT
SUMMARY:Parish Communion
DTSTART;TZID=Europe/London:20260823T100000
DTEND;TZID=Europe/London:20260823T110000
DTSTAMP:20260423T072633Z
UID:5669461787475600.0achurchnearyou
CATEGORIES:
DESCRIPTION:We celebrate Holy Communion every Sunday.
GEO:-1.229308;51.712134
LOCATION:Sandford-on-Thames: St Andrew
URL:https://www.achurchnearyou.com/church/4111/service-and-events/events/5
 66946/
END:VEVENT
BEGIN:VEVENT
SUMMARY:Westward Communion: a more informal eucharist on the last Sunday o
 f the month
DTSTART;TZID=Europe/London:20260830T100000
DTEND;TZID=Europe/London:20260830T104500
DTSTAMP:20260423T072633Z
UID:4742081788080400.0achurchnearyou
CATEGORIES:
DESCRIPTION:
GEO:-1.229308;51.712134
LOCATION:Sandford-on-Thames: St Andrew
URL:https://www.achurchnearyou.com/church/4111/service-and-events/events/4
 74208/
END:VEVENT
BEGIN:VEVENT
SUMMARY:Parish Communion
DTSTART;TZID=Europe/London:20260830T100000
DTEND;TZID=Europe/London:20260830T110000
DTSTAMP:20260423T072633Z
UID:5669461788080400.0achurchnearyou
CATEGORIES:
DESCRIPTION:We celebrate Holy Communion every Sunday.
GEO:-1.229308;51.712134
LOCATION:Sandford-on-Thames: St Andrew
URL:https://www.achurchnearyou.com/church/4111/service-and-events/events/5
 66946/
END:VEVENT
BEGIN:VEVENT
SUMMARY:Parish Communion
DTSTART;TZID=Europe/London:20260906T100000
DTEND;TZID=Europe/London:20260906T110000
DTSTAMP:20260423T072633Z
UID:5669461788685200.0achurchnearyou
CATEGORIES:
DESCRIPTION:We celebrate Holy Communion every Sunday.
GEO:-1.229308;51.712134
LOCATION:Sandford-on-Thames: St Andrew
URL:https://www.achurchnearyou.com/church/4111/service-and-events/events/5
 66946/
END:VEVENT
BEGIN:VEVENT
SUMMARY:Parish Communion
DTSTART;TZID=Europe/London:20260913T100000
DTEND;TZID=Europe/London:20260913T110000
DTSTAMP:20260423T072633Z
UID:5669461789290000.0achurchnearyou
CATEGORIES:
DESCRIPTION:We celebrate Holy Communion every Sunday.
GEO:-1.229308;51.712134
LOCATION:Sandford-on-Thames: St Andrew
URL:https://www.achurchnearyou.com/church/4111/service-and-events/events/5
 66946/
END:VEVENT
BEGIN:VEVENT
SUMMARY:Parish Communion
DTSTART;TZID=Europe/London:20260920T100000
DTEND;TZID=Europe/London:20260920T110000
DTSTAMP:20260423T072633Z
UID:5669461789894800.0achurchnearyou
CATEGORIES:
DESCRIPTION:We celebrate Holy Communion every Sunday.
GEO:-1.229308;51.712134
LOCATION:Sandford-on-Thames: St Andrew
URL:https://www.achurchnearyou.com/church/4111/service-and-events/events/5
 66946/
END:VEVENT
BEGIN:VEVENT
SUMMARY:Westward Communion: a more informal eucharist on the last Sunday o
 f the month
DTSTART;TZID=Europe/London:20260927T100000
DTEND;TZID=Europe/London:20260927T104500
DTSTAMP:20260423T072633Z
UID:4742081790499600.0achurchnearyou
CATEGORIES:
DESCRIPTION:
GEO:-1.229308;51.712134
LOCATION:Sandford-on-Thames: St Andrew
URL:https://www.achurchnearyou.com/church/4111/service-and-events/events/4
 74208/
END:VEVENT
BEGIN:VEVENT
SUMMARY:Parish Communion
DTSTART;TZID=Europe/London:20260927T100000
DTEND;TZID=Europe/London:20260927T110000
DTSTAMP:20260423T072633Z
UID:5669461790499600.0achurchnearyou
CATEGORIES:
DESCRIPTION:We celebrate Holy Communion every Sunday.
GEO:-1.229308;51.712134
LOCATION:Sandford-on-Thames: St Andrew
URL:https://www.achurchnearyou.com/church/4111/service-and-events/events/5
 66946/
END:VEVENT
END:VCALENDAR
