BEGIN:VCALENDAR
VERSION:2.0
PRODID:-//achurchnearyou.com//eventfeed//EN
CALSCALE:GREGORIAN
METHOD:PUBLISH
X-WR-TIMEZONE:UTC
BEGIN:VEVENT
SUMMARY:Joint Benefice Service- Adbaston
DTSTART:20251228T103000Z
DTEND:20251228T113000Z
DTSTAMP:20260419T145333Z
UID:11761952025-12-28 10:30:00+00:00achurchnearyou
CATEGORIES:
DESCRIPTION:You are welcome to join us for a joint service between all our
  Church’s held at Adbaston Church this Sunday. Everyone is very welcome.
GEO:-2.354586;52.848284
LOCATION:Adbaston St Michael and All Angels
URL:https://www.achurchnearyou.com/church/4115/service-and-events/events/1
 176195/
END:VEVENT
END:VCALENDAR
