BEGIN:VCALENDAR
VERSION:2.0
PRODID:-//achurchnearyou.com//eventfeed//EN
CALSCALE:GREGORIAN
METHOD:PUBLISH
X-WR-TIMEZONE:UTC
BEGIN:VEVENT
SUMMARY:Maundy Thursday
DTSTART;TZID=Europe/London:20260402T193000
DTEND;TZID=Europe/London:20260402T203000
DTSTAMP:20260422T113228Z
UID:13007141775154600.0achurchnearyou
CATEGORIES:
DESCRIPTION:We hold a Benefice Service for Maundy Thursday at All Saints\,
  Alrewas where we commemorate the Last Supper before Good Friday
GEO:-1.768233;52.718362
LOCATION:St Stephen's Fradley
URL:https://www.achurchnearyou.com/church/4123/service-and-events/events/1
 300714/
END:VEVENT
BEGIN:VEVENT
SUMMARY:Good Friday 3rd April 2026
DTSTART;TZID=Europe/London:20260403T100000
DTEND;TZID=Europe/London:20260403T110000
DTSTAMP:20260422T113228Z
UID:13007191775206800.0achurchnearyou
CATEGORIES:
DESCRIPTION:We commemorate Good Friday with an Early Communion at 8.30am f
 rom the reserved sacrament \nYoung people are invited to join us in buildi
 ng the Easter Garden in the churchyard.\nCoffee and hot cross buns proved!
GEO:-1.768233;52.718362
LOCATION:St Stephen's Fradley
URL:https://www.achurchnearyou.com/church/4123/service-and-events/events/1
 300719/
END:VEVENT
BEGIN:VEVENT
SUMMARY:Holy Communion
DTSTART;TZID=Europe/London:20260405T090000
DTEND;TZID=Europe/London:20260405T094500
DTSTAMP:20260422T113228Z
UID:4130981775376000.0achurchnearyou
CATEGORIES:
DESCRIPTION:A said service of Holy Communion following the Book of Common 
 Prayer
GEO:-1.768233;52.718362
LOCATION:St Stephen's Fradley
URL:https://www.achurchnearyou.com/church/4123/service-and-events/events/4
 13098/
END:VEVENT
BEGIN:VEVENT
SUMMARY:All-age Worship
DTSTART;TZID=Europe/London:20260405T103000
DTEND;TZID=Europe/London:20260405T112000
DTSTAMP:20260422T113228Z
UID:4131031775381400.0achurchnearyou
CATEGORIES:
DESCRIPTION:A more informal service with music led by the Music Group
GEO:-1.768233;52.718362
LOCATION:St Stephen's Fradley
URL:https://www.achurchnearyou.com/church/4123/service-and-events/events/4
 13103/
END:VEVENT
BEGIN:VEVENT
SUMMARY:Easter Sunday Celebrations
DTSTART;TZID=Europe/London:20260405T103000
DTEND;TZID=Europe/London:20260405T113000
DTSTAMP:20260422T113228Z
UID:12885521775381400.0achurchnearyou
CATEGORIES:
DESCRIPTION:Join us as we celebrate the great festival of Easter with Fami
 ly Communion\, Blessing of the Easter Garden and an Easter Egg Hunt for ch
 ildren and the young at heart!
GEO:-1.768233;52.718362
LOCATION:St Stephen's Fradley
URL:https://www.achurchnearyou.com/church/4123/service-and-events/events/1
 288552/
END:VEVENT
BEGIN:VEVENT
SUMMARY:Sunday Services
DTSTART;TZID=Europe/London:20260412T103000
DTEND;TZID=Europe/London:20260412T113000
DTSTAMP:20260422T113228Z
UID:4130941775986200.0achurchnearyou
CATEGORIES:
DESCRIPTION:A service of Communion from Common Worship\, with hymns and so
 ngs\nAll welcome
GEO:-1.768233;52.718362
LOCATION:St Stephen's Fradley
URL:https://www.achurchnearyou.com/church/4123/service-and-events/events/4
 13094/
END:VEVENT
BEGIN:VEVENT
SUMMARY:Quiz Night and Fish & Chips
DTSTART;TZID=Europe/London:20260418T190000
DTEND;TZID=Europe/London:20260418T220000
DTSTAMP:20260422T113228Z
UID:13217741776535200.0achurchnearyou
CATEGORIES:
DESCRIPTION:An imaginative quiz! Do join us to have a fun evening and supp
 er at St Stephen's Tickets only £10. Teams of 4.
GEO:-1.768233;52.718362
LOCATION:St Stephen's Fradley
URL:https://www.achurchnearyou.com/church/4123/service-and-events/events/1
 321774/
END:VEVENT
BEGIN:VEVENT
SUMMARY:Sunday Services
DTSTART;TZID=Europe/London:20260419T103000
DTEND;TZID=Europe/London:20260419T113000
DTSTAMP:20260422T113228Z
UID:4130941776591000.0achurchnearyou
CATEGORIES:
DESCRIPTION:A service of Communion from Common Worship\, with hymns and so
 ngs\nAll welcome
GEO:-1.768233;52.718362
LOCATION:St Stephen's Fradley
URL:https://www.achurchnearyou.com/church/4123/service-and-events/events/4
 13094/
END:VEVENT
BEGIN:VEVENT
SUMMARY:Sunday Services
DTSTART;TZID=Europe/London:20260426T103000
DTEND;TZID=Europe/London:20260426T113000
DTSTAMP:20260422T113228Z
UID:4130941777195800.0achurchnearyou
CATEGORIES:
DESCRIPTION:A service of Communion from Common Worship\, with hymns and so
 ngs\nAll welcome
GEO:-1.768233;52.718362
LOCATION:St Stephen's Fradley
URL:https://www.achurchnearyou.com/church/4123/service-and-events/events/4
 13094/
END:VEVENT
BEGIN:VEVENT
SUMMARY:Holy Communion
DTSTART;TZID=Europe/London:20260503T090000
DTEND;TZID=Europe/London:20260503T094500
DTSTAMP:20260422T113228Z
UID:4130981777795200.0achurchnearyou
CATEGORIES:
DESCRIPTION:A said service of Holy Communion following the Book of Common 
 Prayer
GEO:-1.768233;52.718362
LOCATION:St Stephen's Fradley
URL:https://www.achurchnearyou.com/church/4123/service-and-events/events/4
 13098/
END:VEVENT
BEGIN:VEVENT
SUMMARY:All-age Worship
DTSTART;TZID=Europe/London:20260503T103000
DTEND;TZID=Europe/London:20260503T112000
DTSTAMP:20260422T113228Z
UID:4131031777800600.0achurchnearyou
CATEGORIES:
DESCRIPTION:A more informal service with music led by the Music Group
GEO:-1.768233;52.718362
LOCATION:St Stephen's Fradley
URL:https://www.achurchnearyou.com/church/4123/service-and-events/events/4
 13103/
END:VEVENT
BEGIN:VEVENT
SUMMARY:Sunday Services
DTSTART;TZID=Europe/London:20260510T103000
DTEND;TZID=Europe/London:20260510T113000
DTSTAMP:20260422T113228Z
UID:4130941778405400.0achurchnearyou
CATEGORIES:
DESCRIPTION:A service of Communion from Common Worship\, with hymns and so
 ngs\nAll welcome
GEO:-1.768233;52.718362
LOCATION:St Stephen's Fradley
URL:https://www.achurchnearyou.com/church/4123/service-and-events/events/4
 13094/
END:VEVENT
BEGIN:VEVENT
SUMMARY:Sunday Services
DTSTART;TZID=Europe/London:20260517T103000
DTEND;TZID=Europe/London:20260517T113000
DTSTAMP:20260422T113228Z
UID:4130941779010200.0achurchnearyou
CATEGORIES:
DESCRIPTION:A service of Communion from Common Worship\, with hymns and so
 ngs\nAll welcome
GEO:-1.768233;52.718362
LOCATION:St Stephen's Fradley
URL:https://www.achurchnearyou.com/church/4123/service-and-events/events/4
 13094/
END:VEVENT
BEGIN:VEVENT
SUMMARY:Sunday Services
DTSTART;TZID=Europe/London:20260524T103000
DTEND;TZID=Europe/London:20260524T113000
DTSTAMP:20260422T113228Z
UID:4130941779615000.0achurchnearyou
CATEGORIES:
DESCRIPTION:A service of Communion from Common Worship\, with hymns and so
 ngs\nAll welcome
GEO:-1.768233;52.718362
LOCATION:St Stephen's Fradley
URL:https://www.achurchnearyou.com/church/4123/service-and-events/events/4
 13094/
END:VEVENT
BEGIN:VEVENT
SUMMARY:Sunday Services
DTSTART;TZID=Europe/London:20260531T103000
DTEND;TZID=Europe/London:20260531T113000
DTSTAMP:20260422T113228Z
UID:4130941780219800.0achurchnearyou
CATEGORIES:
DESCRIPTION:A service of Communion from Common Worship\, with hymns and so
 ngs\nAll welcome
GEO:-1.768233;52.718362
LOCATION:St Stephen's Fradley
URL:https://www.achurchnearyou.com/church/4123/service-and-events/events/4
 13094/
END:VEVENT
BEGIN:VEVENT
SUMMARY:Holy Communion
DTSTART;TZID=Europe/London:20260607T090000
DTEND;TZID=Europe/London:20260607T094500
DTSTAMP:20260422T113228Z
UID:4130981780819200.0achurchnearyou
CATEGORIES:
DESCRIPTION:A said service of Holy Communion following the Book of Common 
 Prayer
GEO:-1.768233;52.718362
LOCATION:St Stephen's Fradley
URL:https://www.achurchnearyou.com/church/4123/service-and-events/events/4
 13098/
END:VEVENT
BEGIN:VEVENT
SUMMARY:All-age Worship
DTSTART;TZID=Europe/London:20260607T103000
DTEND;TZID=Europe/London:20260607T112000
DTSTAMP:20260422T113228Z
UID:4131031780824600.0achurchnearyou
CATEGORIES:
DESCRIPTION:A more informal service with music led by the Music Group
GEO:-1.768233;52.718362
LOCATION:St Stephen's Fradley
URL:https://www.achurchnearyou.com/church/4123/service-and-events/events/4
 13103/
END:VEVENT
BEGIN:VEVENT
SUMMARY:Sunday Services
DTSTART;TZID=Europe/London:20260614T103000
DTEND;TZID=Europe/London:20260614T113000
DTSTAMP:20260422T113228Z
UID:4130941781429400.0achurchnearyou
CATEGORIES:
DESCRIPTION:A service of Communion from Common Worship\, with hymns and so
 ngs\nAll welcome
GEO:-1.768233;52.718362
LOCATION:St Stephen's Fradley
URL:https://www.achurchnearyou.com/church/4123/service-and-events/events/4
 13094/
END:VEVENT
BEGIN:VEVENT
SUMMARY:Sunday Services
DTSTART;TZID=Europe/London:20260621T103000
DTEND;TZID=Europe/London:20260621T113000
DTSTAMP:20260422T113228Z
UID:4130941782034200.0achurchnearyou
CATEGORIES:
DESCRIPTION:A service of Communion from Common Worship\, with hymns and so
 ngs\nAll welcome
GEO:-1.768233;52.718362
LOCATION:St Stephen's Fradley
URL:https://www.achurchnearyou.com/church/4123/service-and-events/events/4
 13094/
END:VEVENT
BEGIN:VEVENT
SUMMARY:Sunday Services
DTSTART;TZID=Europe/London:20260628T103000
DTEND;TZID=Europe/London:20260628T113000
DTSTAMP:20260422T113228Z
UID:4130941782639000.0achurchnearyou
CATEGORIES:
DESCRIPTION:A service of Communion from Common Worship\, with hymns and so
 ngs\nAll welcome
GEO:-1.768233;52.718362
LOCATION:St Stephen's Fradley
URL:https://www.achurchnearyou.com/church/4123/service-and-events/events/4
 13094/
END:VEVENT
BEGIN:VEVENT
SUMMARY:Holy Communion
DTSTART;TZID=Europe/London:20260705T090000
DTEND;TZID=Europe/London:20260705T094500
DTSTAMP:20260422T113228Z
UID:4130981783238400.0achurchnearyou
CATEGORIES:
DESCRIPTION:A said service of Holy Communion following the Book of Common 
 Prayer
GEO:-1.768233;52.718362
LOCATION:St Stephen's Fradley
URL:https://www.achurchnearyou.com/church/4123/service-and-events/events/4
 13098/
END:VEVENT
BEGIN:VEVENT
SUMMARY:All-age Worship
DTSTART;TZID=Europe/London:20260705T103000
DTEND;TZID=Europe/London:20260705T112000
DTSTAMP:20260422T113228Z
UID:4131031783243800.0achurchnearyou
CATEGORIES:
DESCRIPTION:A more informal service with music led by the Music Group
GEO:-1.768233;52.718362
LOCATION:St Stephen's Fradley
URL:https://www.achurchnearyou.com/church/4123/service-and-events/events/4
 13103/
END:VEVENT
BEGIN:VEVENT
SUMMARY:Sunday Services
DTSTART;TZID=Europe/London:20260712T103000
DTEND;TZID=Europe/London:20260712T113000
DTSTAMP:20260422T113228Z
UID:4130941783848600.0achurchnearyou
CATEGORIES:
DESCRIPTION:A service of Communion from Common Worship\, with hymns and so
 ngs\nAll welcome
GEO:-1.768233;52.718362
LOCATION:St Stephen's Fradley
URL:https://www.achurchnearyou.com/church/4123/service-and-events/events/4
 13094/
END:VEVENT
BEGIN:VEVENT
SUMMARY:Sunday Services
DTSTART;TZID=Europe/London:20260719T103000
DTEND;TZID=Europe/London:20260719T113000
DTSTAMP:20260422T113228Z
UID:4130941784453400.0achurchnearyou
CATEGORIES:
DESCRIPTION:A service of Communion from Common Worship\, with hymns and so
 ngs\nAll welcome
GEO:-1.768233;52.718362
LOCATION:St Stephen's Fradley
URL:https://www.achurchnearyou.com/church/4123/service-and-events/events/4
 13094/
END:VEVENT
BEGIN:VEVENT
SUMMARY:Sunday Services
DTSTART;TZID=Europe/London:20260726T103000
DTEND;TZID=Europe/London:20260726T113000
DTSTAMP:20260422T113228Z
UID:4130941785058200.0achurchnearyou
CATEGORIES:
DESCRIPTION:A service of Communion from Common Worship\, with hymns and so
 ngs\nAll welcome
GEO:-1.768233;52.718362
LOCATION:St Stephen's Fradley
URL:https://www.achurchnearyou.com/church/4123/service-and-events/events/4
 13094/
END:VEVENT
BEGIN:VEVENT
SUMMARY:Holy Communion
DTSTART;TZID=Europe/London:20260802T090000
DTEND;TZID=Europe/London:20260802T094500
DTSTAMP:20260422T113228Z
UID:4130981785657600.0achurchnearyou
CATEGORIES:
DESCRIPTION:A said service of Holy Communion following the Book of Common 
 Prayer
GEO:-1.768233;52.718362
LOCATION:St Stephen's Fradley
URL:https://www.achurchnearyou.com/church/4123/service-and-events/events/4
 13098/
END:VEVENT
BEGIN:VEVENT
SUMMARY:All-age Worship
DTSTART;TZID=Europe/London:20260802T103000
DTEND;TZID=Europe/London:20260802T112000
DTSTAMP:20260422T113228Z
UID:4131031785663000.0achurchnearyou
CATEGORIES:
DESCRIPTION:A more informal service with music led by the Music Group
GEO:-1.768233;52.718362
LOCATION:St Stephen's Fradley
URL:https://www.achurchnearyou.com/church/4123/service-and-events/events/4
 13103/
END:VEVENT
BEGIN:VEVENT
SUMMARY:Sunday Services
DTSTART;TZID=Europe/London:20260809T103000
DTEND;TZID=Europe/London:20260809T113000
DTSTAMP:20260422T113228Z
UID:4130941786267800.0achurchnearyou
CATEGORIES:
DESCRIPTION:A service of Communion from Common Worship\, with hymns and so
 ngs\nAll welcome
GEO:-1.768233;52.718362
LOCATION:St Stephen's Fradley
URL:https://www.achurchnearyou.com/church/4123/service-and-events/events/4
 13094/
END:VEVENT
BEGIN:VEVENT
SUMMARY:Sunday Services
DTSTART;TZID=Europe/London:20260816T103000
DTEND;TZID=Europe/London:20260816T113000
DTSTAMP:20260422T113228Z
UID:4130941786872600.0achurchnearyou
CATEGORIES:
DESCRIPTION:A service of Communion from Common Worship\, with hymns and so
 ngs\nAll welcome
GEO:-1.768233;52.718362
LOCATION:St Stephen's Fradley
URL:https://www.achurchnearyou.com/church/4123/service-and-events/events/4
 13094/
END:VEVENT
BEGIN:VEVENT
SUMMARY:Sunday Services
DTSTART;TZID=Europe/London:20260823T103000
DTEND;TZID=Europe/London:20260823T113000
DTSTAMP:20260422T113228Z
UID:4130941787477400.0achurchnearyou
CATEGORIES:
DESCRIPTION:A service of Communion from Common Worship\, with hymns and so
 ngs\nAll welcome
GEO:-1.768233;52.718362
LOCATION:St Stephen's Fradley
URL:https://www.achurchnearyou.com/church/4123/service-and-events/events/4
 13094/
END:VEVENT
BEGIN:VEVENT
SUMMARY:Sunday Services
DTSTART;TZID=Europe/London:20260830T103000
DTEND;TZID=Europe/London:20260830T113000
DTSTAMP:20260422T113228Z
UID:4130941788082200.0achurchnearyou
CATEGORIES:
DESCRIPTION:A service of Communion from Common Worship\, with hymns and so
 ngs\nAll welcome
GEO:-1.768233;52.718362
LOCATION:St Stephen's Fradley
URL:https://www.achurchnearyou.com/church/4123/service-and-events/events/4
 13094/
END:VEVENT
BEGIN:VEVENT
SUMMARY:Holy Communion
DTSTART;TZID=Europe/London:20260906T090000
DTEND;TZID=Europe/London:20260906T094500
DTSTAMP:20260422T113228Z
UID:4130981788681600.0achurchnearyou
CATEGORIES:
DESCRIPTION:A said service of Holy Communion following the Book of Common 
 Prayer
GEO:-1.768233;52.718362
LOCATION:St Stephen's Fradley
URL:https://www.achurchnearyou.com/church/4123/service-and-events/events/4
 13098/
END:VEVENT
BEGIN:VEVENT
SUMMARY:All-age Worship
DTSTART;TZID=Europe/London:20260906T103000
DTEND;TZID=Europe/London:20260906T112000
DTSTAMP:20260422T113228Z
UID:4131031788687000.0achurchnearyou
CATEGORIES:
DESCRIPTION:A more informal service with music led by the Music Group
GEO:-1.768233;52.718362
LOCATION:St Stephen's Fradley
URL:https://www.achurchnearyou.com/church/4123/service-and-events/events/4
 13103/
END:VEVENT
BEGIN:VEVENT
SUMMARY:Sunday Services
DTSTART;TZID=Europe/London:20260913T103000
DTEND;TZID=Europe/London:20260913T113000
DTSTAMP:20260422T113228Z
UID:4130941789291800.0achurchnearyou
CATEGORIES:
DESCRIPTION:A service of Communion from Common Worship\, with hymns and so
 ngs\nAll welcome
GEO:-1.768233;52.718362
LOCATION:St Stephen's Fradley
URL:https://www.achurchnearyou.com/church/4123/service-and-events/events/4
 13094/
END:VEVENT
BEGIN:VEVENT
SUMMARY:Sunday Services
DTSTART;TZID=Europe/London:20260920T103000
DTEND;TZID=Europe/London:20260920T113000
DTSTAMP:20260422T113228Z
UID:4130941789896600.0achurchnearyou
CATEGORIES:
DESCRIPTION:A service of Communion from Common Worship\, with hymns and so
 ngs\nAll welcome
GEO:-1.768233;52.718362
LOCATION:St Stephen's Fradley
URL:https://www.achurchnearyou.com/church/4123/service-and-events/events/4
 13094/
END:VEVENT
BEGIN:VEVENT
SUMMARY:Sunday Services
DTSTART;TZID=Europe/London:20260927T103000
DTEND;TZID=Europe/London:20260927T113000
DTSTAMP:20260422T113228Z
UID:4130941790501400.0achurchnearyou
CATEGORIES:
DESCRIPTION:A service of Communion from Common Worship\, with hymns and so
 ngs\nAll welcome
GEO:-1.768233;52.718362
LOCATION:St Stephen's Fradley
URL:https://www.achurchnearyou.com/church/4123/service-and-events/events/4
 13094/
END:VEVENT
END:VCALENDAR
