BEGIN:VCALENDAR
VERSION:2.0
PRODID:-//achurchnearyou.com//eventfeed//EN
CALSCALE:GREGORIAN
METHOD:PUBLISH
X-WR-TIMEZONE:UTC
BEGIN:VEVENT
SUMMARY:Morning Worship or Holy Communion
DTSTART:20250209T103000Z
DTEND:20250209T113000Z
DTSTAMP:20260420T134255Z
UID:11509372025-02-09 10:30:00+00:00achurchnearyou
CATEGORIES:
DESCRIPTION:A Morning Worship or Holy Communion.
LOCATION:Ilam Holy Cross
URL:https://www.achurchnearyou.com/church/4127/service-and-events/events/1
 150937/
END:VEVENT
END:VCALENDAR
