BEGIN:VCALENDAR
VERSION:2.0
PRODID:-//achurchnearyou.com//eventfeed//EN
CALSCALE:GREGORIAN
METHOD:PUBLISH
X-WR-TIMEZONE:UTC
BEGIN:VEVENT
SUMMARY:Holy Communion service
DTSTART:20250420T100000Z
DTEND:20250420T111500Z
DTSTAMP:20260420T094731Z
UID:11798762025-04-20 10:00:00+00:00achurchnearyou
CATEGORIES:
DESCRIPTION:Holy Communion Service for Easter Day.\nFollowed by Refreshmen
 ts.
LOCATION:Wetton St Margaret
URL:https://www.achurchnearyou.com/church/4127/service-and-events/events/1
 179876/
END:VEVENT
END:VCALENDAR
