BEGIN:VCALENDAR
VERSION:2.0
PRODID:-//achurchnearyou.com//eventfeed//EN
CALSCALE:GREGORIAN
METHOD:PUBLISH
X-WR-TIMEZONE:UTC
BEGIN:VEVENT
SUMMARY:Christmas All-Age Communion
DTSTART:20251225T100000Z
DTEND:20251225T104500Z
DTSTAMP:20260422T173431Z
UID:12484812025-12-25 10:00:00+00:00achurchnearyou
CATEGORIES:
DESCRIPTION:10 am Christmas Day service at St Mary's Church\, Twyford.
GEO:-0.866134;51.476402
LOCATION:Twyford: St Mary's
URL:https://www.achurchnearyou.com/church/415/service-and-events/events/12
 48481/
END:VEVENT
END:VCALENDAR
