BEGIN:VCALENDAR
VERSION:2.0
PRODID:-//achurchnearyou.com//eventfeed//EN
CALSCALE:GREGORIAN
METHOD:PUBLISH
X-WR-TIMEZONE:UTC
BEGIN:VEVENT
SUMMARY:Service of the Word
DTSTART;TZID=Europe/London:20260426T093000
DTEND;TZID=Europe/London:20260426T103000
DTSTAMP:20260423T020755Z
UID:12334392026-04-26 09:30:00+01:00achurchnearyou
CATEGORIES:
DESCRIPTION:A non-communion service normally held on the 4th Sunday of eac
 h month
GEO:-0.746755;51.415554
LOCATION:Holy Trinity
URL:https://www.achurchnearyou.com/church/42/service-and-events/events/123
 3439/
END:VEVENT
BEGIN:VEVENT
SUMMARY:Service of the Word
DTSTART;TZID=Europe/London:20260524T093000
DTEND;TZID=Europe/London:20260524T103000
DTSTAMP:20260423T020755Z
UID:12334392026-05-24 09:30:00+01:00achurchnearyou
CATEGORIES:
DESCRIPTION:A non-communion service normally held on the 4th Sunday of eac
 h month
GEO:-0.746755;51.415554
LOCATION:Holy Trinity
URL:https://www.achurchnearyou.com/church/42/service-and-events/events/123
 3439/
END:VEVENT
BEGIN:VEVENT
SUMMARY:Service of the Word
DTSTART;TZID=Europe/London:20260628T093000
DTEND;TZID=Europe/London:20260628T103000
DTSTAMP:20260423T020755Z
UID:12334392026-06-28 09:30:00+01:00achurchnearyou
CATEGORIES:
DESCRIPTION:A non-communion service normally held on the 4th Sunday of eac
 h month
GEO:-0.746755;51.415554
LOCATION:Holy Trinity
URL:https://www.achurchnearyou.com/church/42/service-and-events/events/123
 3439/
END:VEVENT
BEGIN:VEVENT
SUMMARY:Service of the Word
DTSTART;TZID=Europe/London:20260726T093000
DTEND;TZID=Europe/London:20260726T103000
DTSTAMP:20260423T020755Z
UID:12334392026-07-26 09:30:00+01:00achurchnearyou
CATEGORIES:
DESCRIPTION:A non-communion service normally held on the 4th Sunday of eac
 h month
GEO:-0.746755;51.415554
LOCATION:Holy Trinity
URL:https://www.achurchnearyou.com/church/42/service-and-events/events/123
 3439/
END:VEVENT
BEGIN:VEVENT
SUMMARY:Service of the Word
DTSTART;TZID=Europe/London:20260823T093000
DTEND;TZID=Europe/London:20260823T103000
DTSTAMP:20260423T020755Z
UID:12334392026-08-23 09:30:00+01:00achurchnearyou
CATEGORIES:
DESCRIPTION:A non-communion service normally held on the 4th Sunday of eac
 h month
GEO:-0.746755;51.415554
LOCATION:Holy Trinity
URL:https://www.achurchnearyou.com/church/42/service-and-events/events/123
 3439/
END:VEVENT
BEGIN:VEVENT
SUMMARY:Service of the Word
DTSTART;TZID=Europe/London:20260927T093000
DTEND;TZID=Europe/London:20260927T103000
DTSTAMP:20260423T020755Z
UID:12334392026-09-27 09:30:00+01:00achurchnearyou
CATEGORIES:
DESCRIPTION:A non-communion service normally held on the 4th Sunday of eac
 h month
GEO:-0.746755;51.415554
LOCATION:Holy Trinity
URL:https://www.achurchnearyou.com/church/42/service-and-events/events/123
 3439/
END:VEVENT
BEGIN:VEVENT
SUMMARY:Service of the Word
DTSTART;TZID=Europe/London:20261025T093000
DTEND;TZID=Europe/London:20261025T103000
DTSTAMP:20260423T020755Z
UID:12334392026-10-25 09:30:00+00:00achurchnearyou
CATEGORIES:
DESCRIPTION:A non-communion service normally held on the 4th Sunday of eac
 h month
GEO:-0.746755;51.415554
LOCATION:Holy Trinity
URL:https://www.achurchnearyou.com/church/42/service-and-events/events/123
 3439/
END:VEVENT
BEGIN:VEVENT
SUMMARY:Service of the Word
DTSTART;TZID=Europe/London:20261122T093000
DTEND;TZID=Europe/London:20261122T103000
DTSTAMP:20260423T020755Z
UID:12334392026-11-22 09:30:00+00:00achurchnearyou
CATEGORIES:
DESCRIPTION:A non-communion service normally held on the 4th Sunday of eac
 h month
GEO:-0.746755;51.415554
LOCATION:Holy Trinity
URL:https://www.achurchnearyou.com/church/42/service-and-events/events/123
 3439/
END:VEVENT
BEGIN:VEVENT
SUMMARY:Service of the Word
DTSTART;TZID=Europe/London:20261227T093000
DTEND;TZID=Europe/London:20261227T103000
DTSTAMP:20260423T020755Z
UID:12334392026-12-27 09:30:00+00:00achurchnearyou
CATEGORIES:
DESCRIPTION:A non-communion service normally held on the 4th Sunday of eac
 h month
GEO:-0.746755;51.415554
LOCATION:Holy Trinity
URL:https://www.achurchnearyou.com/church/42/service-and-events/events/123
 3439/
END:VEVENT
BEGIN:VEVENT
SUMMARY:Service of the Word
DTSTART;TZID=Europe/London:20270124T093000
DTEND;TZID=Europe/London:20270124T103000
DTSTAMP:20260423T020755Z
UID:12334392027-01-24 09:30:00+00:00achurchnearyou
CATEGORIES:
DESCRIPTION:A non-communion service normally held on the 4th Sunday of eac
 h month
GEO:-0.746755;51.415554
LOCATION:Holy Trinity
URL:https://www.achurchnearyou.com/church/42/service-and-events/events/123
 3439/
END:VEVENT
BEGIN:VEVENT
SUMMARY:Service of the Word
DTSTART;TZID=Europe/London:20270228T093000
DTEND;TZID=Europe/London:20270228T103000
DTSTAMP:20260423T020755Z
UID:12334392027-02-28 09:30:00+00:00achurchnearyou
CATEGORIES:
DESCRIPTION:A non-communion service normally held on the 4th Sunday of eac
 h month
GEO:-0.746755;51.415554
LOCATION:Holy Trinity
URL:https://www.achurchnearyou.com/church/42/service-and-events/events/123
 3439/
END:VEVENT
BEGIN:VEVENT
SUMMARY:Service of the Word
DTSTART;TZID=Europe/London:20270328T093000
DTEND;TZID=Europe/London:20270328T103000
DTSTAMP:20260423T020755Z
UID:12334392027-03-28 09:30:00+01:00achurchnearyou
CATEGORIES:
DESCRIPTION:A non-communion service normally held on the 4th Sunday of eac
 h month
GEO:-0.746755;51.415554
LOCATION:Holy Trinity
URL:https://www.achurchnearyou.com/church/42/service-and-events/events/123
 3439/
END:VEVENT
END:VCALENDAR
