BEGIN:VCALENDAR
VERSION:2.0
PRODID:-//achurchnearyou.com//eventfeed//EN
CALSCALE:GREGORIAN
METHOD:PUBLISH
X-WR-TIMEZONE:UTC
BEGIN:VEVENT
SUMMARY:Images of Christ's Passion
DTSTART:20260403T110000Z
DTEND:20260403T120000Z
DTSTAMP:20260423T162208Z
UID:13144372026-04-03 11:00:00+00:00achurchnearyou
CATEGORIES:
DESCRIPTION:Good Friday event
GEO:-0.746755;51.415554
LOCATION:Holy Trinity
URL:https://www.achurchnearyou.com/church/42/service-and-events/events/131
 4437/
END:VEVENT
END:VCALENDAR
