BEGIN:VCALENDAR
VERSION:2.0
PRODID:-//achurchnearyou.com//eventfeed//EN
CALSCALE:GREGORIAN
METHOD:PUBLISH
X-WR-TIMEZONE:UTC
BEGIN:VEVENT
SUMMARY:Maundy Thursday - Holy Communion with foot washing & watch
DTSTART:20260402T180000Z
DTEND:20260402T190000Z
DTSTAMP:20260420T054548Z
UID:11736982026-04-02 18:00:00+00:00achurchnearyou
CATEGORIES:
DESCRIPTION:Join us in church at 7:30pm.
GEO:-2.027629;52.702961
LOCATION:Cannock St. Aidan\, West Chadsmoor
URL:https://www.achurchnearyou.com/church/4203/service-and-events/events/1
 173698/
END:VEVENT
END:VCALENDAR
