BEGIN:VCALENDAR
VERSION:2.0
PRODID:-//achurchnearyou.com//eventfeed//EN
CALSCALE:GREGORIAN
METHOD:PUBLISH
X-WR-TIMEZONE:UTC
BEGIN:VEVENT
SUMMARY:The Chrism Mass at Lichfield Cathedral
DTSTART:20250417T100000Z
DTEND:20250417T120000Z
DTSTAMP:20260421T045358Z
UID:11822112025-04-17 10:00:00+00:00achurchnearyou
CATEGORIES:
DESCRIPTION:Includes the Renewal of Commitment to Ministry and the Consecr
 ation of Holy Oil for the year ahead. \nSoup and rolls will be served afte
 r the service - please let the Vicar know you wish to attend/stay for lunc
 h by Sunday 6th April
LOCATION:Lichfield Cathedral
URL:https://www.achurchnearyou.com/church/4203/service-and-events/events/1
 182211/
END:VEVENT
END:VCALENDAR
