BEGIN:VCALENDAR
VERSION:2.0
PRODID:-//achurchnearyou.com//eventfeed//EN
CALSCALE:GREGORIAN
METHOD:PUBLISH
X-WR-TIMEZONE:UTC
BEGIN:VEVENT
SUMMARY:Christmas Eve Holy Communion
DTSTART:20251224T193000Z
DTEND:20251224T203000Z
DTSTAMP:20260420T131742Z
UID:12681662025-12-24 19:30:00+00:00achurchnearyou
CATEGORIES:
DESCRIPTION:Join us at 7:30pm for Holy Communion with carols.
GEO:-2.027629;52.702961
LOCATION:Cannock St. Aidan\, West Chadsmoor
URL:https://www.achurchnearyou.com/church/4203/service-and-events/events/1
 268166/
END:VEVENT
END:VCALENDAR
