BEGIN:VCALENDAR
VERSION:2.0
PRODID:-//achurchnearyou.com//eventfeed//EN
CALSCALE:GREGORIAN
METHOD:PUBLISH
X-WR-TIMEZONE:UTC
BEGIN:VEVENT
SUMMARY:Christmas Day Morning Worship
DTSTART:20251225T100000Z
DTEND:20251225T104500Z
DTSTAMP:20260420T131758Z
UID:12681692025-12-25 10:00:00+00:00achurchnearyou
CATEGORIES:
DESCRIPTION:A warm welcome to worship at 10:00 on this special day
GEO:-2.027629;52.702961
LOCATION:Cannock St. Aidan\, West Chadsmoor
URL:https://www.achurchnearyou.com/church/4203/service-and-events/events/1
 268169/
END:VEVENT
END:VCALENDAR
