BEGIN:VCALENDAR
VERSION:2.0
PRODID:-//achurchnearyou.com//eventfeed//EN
CALSCALE:GREGORIAN
METHOD:PUBLISH
X-WR-TIMEZONE:UTC
BEGIN:VEVENT
SUMMARY:2pm Good Friday - An Hour at the Cross
DTSTART:20260403T130000Z
DTEND:20260403T140000Z
DTSTAMP:20260421T195300Z
UID:13009492026-04-03 13:00:00+00:00achurchnearyou
CATEGORIES:
DESCRIPTION:An opportunity to reflect on Jesus’ crucifixion\, through mu
 sic\, silence\, prayer & led meditations...
GEO:-1.937582;52.687701
LOCATION:St John's Community Church\, Chase Terrace\, Burntwood
URL:https://www.achurchnearyou.com/church/4215/service-and-events/events/1
 300949/
END:VEVENT
END:VCALENDAR
