BEGIN:VCALENDAR
VERSION:2.0
PRODID:-//achurchnearyou.com//eventfeed//EN
CALSCALE:GREGORIAN
METHOD:PUBLISH
X-WR-TIMEZONE:UTC
BEGIN:VEVENT
SUMMARY:Family Nativity Service
DTSTART:20251224T163000Z
DTEND:20251224T173000Z
DTSTAMP:20260422T143810Z
UID:12522102025-12-24 16:30:00+00:00achurchnearyou
CATEGORIES:
DESCRIPTION:A Christmas Eve Service for all the family - with a re-telling
  of the Christmas Story and a chance to play a part... anyone who wants to
  can come dressed as a character from the story of Jesus' birth
GEO:-1.93709;52.669748
LOCATION:St Anne's Church Chasetown
URL:https://stanneschasetown.com/christmas-2025-at-st-annes/
END:VEVENT
END:VCALENDAR
