BEGIN:VCALENDAR
VERSION:2.0
PRODID:-//achurchnearyou.com//eventfeed//EN
CALSCALE:GREGORIAN
METHOD:PUBLISH
X-WR-TIMEZONE:UTC
BEGIN:VEVENT
SUMMARY:The Last Hour
DTSTART:20260403T130000Z
DTEND:20260403T140000Z
DTSTAMP:20260424T065949Z
UID:10407102026-04-03 13:00:00+00:00achurchnearyou
CATEGORIES:
DESCRIPTION:Join us for this service of Reflection
GEO:-2.416074;52.770494
LOCATION:St Peter's Edgmond
URL:https://www.achurchnearyou.com/church/4268/service-and-events/events/1
 040710/
END:VEVENT
END:VCALENDAR
