BEGIN:VCALENDAR
VERSION:2.0
PRODID:-//achurchnearyou.com//eventfeed//EN
CALSCALE:GREGORIAN
METHOD:PUBLISH
X-WR-TIMEZONE:UTC
BEGIN:VEVENT
SUMMARY:Carol Service
DTSTART:20251218T190000Z
DTEND:20251218T200000Z
DTSTAMP:20260419T144943Z
UID:9921392025-12-18 19:00:00+00:00achurchnearyou
CATEGORIES:
DESCRIPTION:Family friendly service of carols and readings
GEO:-2.474091;52.735198
LOCATION:St Lawrence's Church\, Preston upon the Weald Moors.
URL:https://www.achurchnearyou.com/church/4270/service-and-events/events/9
 92139/
END:VEVENT
END:VCALENDAR
