BEGIN:VCALENDAR
VERSION:2.0
PRODID:-//achurchnearyou.com//eventfeed//EN
CALSCALE:GREGORIAN
METHOD:PUBLISH
X-WR-TIMEZONE:UTC
BEGIN:VEVENT
SUMMARY:Holy Saturday
DTSTART;TZID=Europe/London:20260404T200000
DTEND;TZID=Europe/London:20260404T210000
DTSTAMP:20260425T030531Z
UID:13132761775329200.0achurchnearyou
CATEGORIES:
DESCRIPTION:Easter Vigil & Holy Communion\nRevd Debbie Lovatt
LOCATION:Horton Church
URL:https://www.achurchnearyou.com/church/4274/service-and-events/events/1
 313276/
END:VEVENT
BEGIN:VEVENT
SUMMARY:Morning Prayer
DTSTART;TZID=Europe/London:20260405T091500
DTEND;TZID=Europe/London:20260405T101500
DTSTAMP:20260425T030531Z
UID:4053421775376900.0achurchnearyou
CATEGORIES:
DESCRIPTION:A
GEO:-2.10877;53.081418
LOCATION:Endon S.Luke
URL:https://www.achurchnearyou.com/church/4274/service-and-events/events/4
 05342/
END:VEVENT
BEGIN:VEVENT
SUMMARY:Connections\, St. Luke's All Age Service
DTSTART;TZID=Europe/London:20260405T110000
DTEND;TZID=Europe/London:20260405T114000
DTSTAMP:20260425T030531Z
UID:4053531775383200.0achurchnearyou
CATEGORIES:
DESCRIPTION:This service is held in the local primary school St. Luke's C 
 of E Primary\, Leek Road Endon ST9 9EB.\nThis is an all age service in a r
 elaxed and friendly atmosphere\, with time for a cuppa and a chat with act
 ivities for the children after the service\,
LOCATION:St. Luke's Primary School
URL:https://www.achurchnearyou.com/church/4274/service-and-events/events/4
 05353/
END:VEVENT
BEGIN:VEVENT
SUMMARY:Holy Communion
DTSTART;TZID=Europe/London:20260412T091500
DTEND;TZID=Europe/London:20260412T101500
DTSTAMP:20260425T030531Z
UID:4053411775981700.0achurchnearyou
CATEGORIES:
DESCRIPTION:A Common Worship Service held on the 2nd and 4th Sundays of th
 e month.
GEO:-2.10877;53.081418
LOCATION:Endon S.Luke
URL:https://www.achurchnearyou.com/church/4274/service-and-events/events/4
 05341/
END:VEVENT
BEGIN:VEVENT
SUMMARY:Connections\, St. Luke's All Age Service
DTSTART;TZID=Europe/London:20260412T110000
DTEND;TZID=Europe/London:20260412T114000
DTSTAMP:20260425T030531Z
UID:4053531775988000.0achurchnearyou
CATEGORIES:
DESCRIPTION:This service is held in the local primary school St. Luke's C 
 of E Primary\, Leek Road Endon ST9 9EB.\nThis is an all age service in a r
 elaxed and friendly atmosphere\, with time for a cuppa and a chat with act
 ivities for the children after the service\,
LOCATION:St. Luke's Primary School
URL:https://www.achurchnearyou.com/church/4274/service-and-events/events/4
 05353/
END:VEVENT
BEGIN:VEVENT
SUMMARY:Morning Prayer
DTSTART;TZID=Europe/London:20260419T091500
DTEND;TZID=Europe/London:20260419T101500
DTSTAMP:20260425T030531Z
UID:4053421776586500.0achurchnearyou
CATEGORIES:
DESCRIPTION:A
GEO:-2.10877;53.081418
LOCATION:Endon S.Luke
URL:https://www.achurchnearyou.com/church/4274/service-and-events/events/4
 05342/
END:VEVENT
BEGIN:VEVENT
SUMMARY:Connections\, St. Luke's All Age Service
DTSTART;TZID=Europe/London:20260419T110000
DTEND;TZID=Europe/London:20260419T114000
DTSTAMP:20260425T030531Z
UID:4053531776592800.0achurchnearyou
CATEGORIES:
DESCRIPTION:This service is held in the local primary school St. Luke's C 
 of E Primary\, Leek Road Endon ST9 9EB.\nThis is an all age service in a r
 elaxed and friendly atmosphere\, with time for a cuppa and a chat with act
 ivities for the children after the service\,
LOCATION:St. Luke's Primary School
URL:https://www.achurchnearyou.com/church/4274/service-and-events/events/4
 05353/
END:VEVENT
BEGIN:VEVENT
SUMMARY:Holy Communion
DTSTART;TZID=Europe/London:20260426T091500
DTEND;TZID=Europe/London:20260426T101500
DTSTAMP:20260425T030531Z
UID:4053411777191300.0achurchnearyou
CATEGORIES:
DESCRIPTION:A Common Worship Service held on the 2nd and 4th Sundays of th
 e month.
GEO:-2.10877;53.081418
LOCATION:Endon S.Luke
URL:https://www.achurchnearyou.com/church/4274/service-and-events/events/4
 05341/
END:VEVENT
BEGIN:VEVENT
SUMMARY:Connections\, St. Luke's All Age Service
DTSTART;TZID=Europe/London:20260426T110000
DTEND;TZID=Europe/London:20260426T114000
DTSTAMP:20260425T030531Z
UID:4053531777197600.0achurchnearyou
CATEGORIES:
DESCRIPTION:This service is held in the local primary school St. Luke's C 
 of E Primary\, Leek Road Endon ST9 9EB.\nThis is an all age service in a r
 elaxed and friendly atmosphere\, with time for a cuppa and a chat with act
 ivities for the children after the service\,
LOCATION:St. Luke's Primary School
URL:https://www.achurchnearyou.com/church/4274/service-and-events/events/4
 05353/
END:VEVENT
BEGIN:VEVENT
SUMMARY:Morning Prayer
DTSTART;TZID=Europe/London:20260503T091500
DTEND;TZID=Europe/London:20260503T101500
DTSTAMP:20260425T030531Z
UID:4053421777796100.0achurchnearyou
CATEGORIES:
DESCRIPTION:A
GEO:-2.10877;53.081418
LOCATION:Endon S.Luke
URL:https://www.achurchnearyou.com/church/4274/service-and-events/events/4
 05342/
END:VEVENT
BEGIN:VEVENT
SUMMARY:Connections\, St. Luke's All Age Service
DTSTART;TZID=Europe/London:20260503T110000
DTEND;TZID=Europe/London:20260503T114000
DTSTAMP:20260425T030531Z
UID:4053531777802400.0achurchnearyou
CATEGORIES:
DESCRIPTION:This service is held in the local primary school St. Luke's C 
 of E Primary\, Leek Road Endon ST9 9EB.\nThis is an all age service in a r
 elaxed and friendly atmosphere\, with time for a cuppa and a chat with act
 ivities for the children after the service\,
LOCATION:St. Luke's Primary School
URL:https://www.achurchnearyou.com/church/4274/service-and-events/events/4
 05353/
END:VEVENT
BEGIN:VEVENT
SUMMARY:Holy Communion
DTSTART;TZID=Europe/London:20260510T091500
DTEND;TZID=Europe/London:20260510T101500
DTSTAMP:20260425T030531Z
UID:4053411778400900.0achurchnearyou
CATEGORIES:
DESCRIPTION:A Common Worship Service held on the 2nd and 4th Sundays of th
 e month.
GEO:-2.10877;53.081418
LOCATION:Endon S.Luke
URL:https://www.achurchnearyou.com/church/4274/service-and-events/events/4
 05341/
END:VEVENT
BEGIN:VEVENT
SUMMARY:Connections\, St. Luke's All Age Service
DTSTART;TZID=Europe/London:20260510T110000
DTEND;TZID=Europe/London:20260510T114000
DTSTAMP:20260425T030531Z
UID:4053531778407200.0achurchnearyou
CATEGORIES:
DESCRIPTION:This service is held in the local primary school St. Luke's C 
 of E Primary\, Leek Road Endon ST9 9EB.\nThis is an all age service in a r
 elaxed and friendly atmosphere\, with time for a cuppa and a chat with act
 ivities for the children after the service\,
LOCATION:St. Luke's Primary School
URL:https://www.achurchnearyou.com/church/4274/service-and-events/events/4
 05353/
END:VEVENT
BEGIN:VEVENT
SUMMARY:Morning Prayer
DTSTART;TZID=Europe/London:20260517T091500
DTEND;TZID=Europe/London:20260517T101500
DTSTAMP:20260425T030531Z
UID:4053421779005700.0achurchnearyou
CATEGORIES:
DESCRIPTION:A
GEO:-2.10877;53.081418
LOCATION:Endon S.Luke
URL:https://www.achurchnearyou.com/church/4274/service-and-events/events/4
 05342/
END:VEVENT
BEGIN:VEVENT
SUMMARY:Connections\, St. Luke's All Age Service
DTSTART;TZID=Europe/London:20260517T110000
DTEND;TZID=Europe/London:20260517T114000
DTSTAMP:20260425T030531Z
UID:4053531779012000.0achurchnearyou
CATEGORIES:
DESCRIPTION:This service is held in the local primary school St. Luke's C 
 of E Primary\, Leek Road Endon ST9 9EB.\nThis is an all age service in a r
 elaxed and friendly atmosphere\, with time for a cuppa and a chat with act
 ivities for the children after the service\,
LOCATION:St. Luke's Primary School
URL:https://www.achurchnearyou.com/church/4274/service-and-events/events/4
 05353/
END:VEVENT
BEGIN:VEVENT
SUMMARY:Holy Communion
DTSTART;TZID=Europe/London:20260524T091500
DTEND;TZID=Europe/London:20260524T101500
DTSTAMP:20260425T030531Z
UID:4053411779610500.0achurchnearyou
CATEGORIES:
DESCRIPTION:A Common Worship Service held on the 2nd and 4th Sundays of th
 e month.
GEO:-2.10877;53.081418
LOCATION:Endon S.Luke
URL:https://www.achurchnearyou.com/church/4274/service-and-events/events/4
 05341/
END:VEVENT
BEGIN:VEVENT
SUMMARY:Connections\, St. Luke's All Age Service
DTSTART;TZID=Europe/London:20260524T110000
DTEND;TZID=Europe/London:20260524T114000
DTSTAMP:20260425T030531Z
UID:4053531779616800.0achurchnearyou
CATEGORIES:
DESCRIPTION:This service is held in the local primary school St. Luke's C 
 of E Primary\, Leek Road Endon ST9 9EB.\nThis is an all age service in a r
 elaxed and friendly atmosphere\, with time for a cuppa and a chat with act
 ivities for the children after the service\,
LOCATION:St. Luke's Primary School
URL:https://www.achurchnearyou.com/church/4274/service-and-events/events/4
 05353/
END:VEVENT
BEGIN:VEVENT
SUMMARY:Connections\, St. Luke's All Age Service
DTSTART;TZID=Europe/London:20260531T110000
DTEND;TZID=Europe/London:20260531T114000
DTSTAMP:20260425T030531Z
UID:4053531780221600.0achurchnearyou
CATEGORIES:
DESCRIPTION:This service is held in the local primary school St. Luke's C 
 of E Primary\, Leek Road Endon ST9 9EB.\nThis is an all age service in a r
 elaxed and friendly atmosphere\, with time for a cuppa and a chat with act
 ivities for the children after the service\,
LOCATION:St. Luke's Primary School
URL:https://www.achurchnearyou.com/church/4274/service-and-events/events/4
 05353/
END:VEVENT
BEGIN:VEVENT
SUMMARY:Morning Prayer
DTSTART;TZID=Europe/London:20260607T091500
DTEND;TZID=Europe/London:20260607T101500
DTSTAMP:20260425T030531Z
UID:4053421780820100.0achurchnearyou
CATEGORIES:
DESCRIPTION:A
GEO:-2.10877;53.081418
LOCATION:Endon S.Luke
URL:https://www.achurchnearyou.com/church/4274/service-and-events/events/4
 05342/
END:VEVENT
BEGIN:VEVENT
SUMMARY:Connections\, St. Luke's All Age Service
DTSTART;TZID=Europe/London:20260607T110000
DTEND;TZID=Europe/London:20260607T114000
DTSTAMP:20260425T030531Z
UID:4053531780826400.0achurchnearyou
CATEGORIES:
DESCRIPTION:This service is held in the local primary school St. Luke's C 
 of E Primary\, Leek Road Endon ST9 9EB.\nThis is an all age service in a r
 elaxed and friendly atmosphere\, with time for a cuppa and a chat with act
 ivities for the children after the service\,
LOCATION:St. Luke's Primary School
URL:https://www.achurchnearyou.com/church/4274/service-and-events/events/4
 05353/
END:VEVENT
BEGIN:VEVENT
SUMMARY:Holy Communion
DTSTART;TZID=Europe/London:20260614T091500
DTEND;TZID=Europe/London:20260614T101500
DTSTAMP:20260425T030531Z
UID:4053411781424900.0achurchnearyou
CATEGORIES:
DESCRIPTION:A Common Worship Service held on the 2nd and 4th Sundays of th
 e month.
GEO:-2.10877;53.081418
LOCATION:Endon S.Luke
URL:https://www.achurchnearyou.com/church/4274/service-and-events/events/4
 05341/
END:VEVENT
BEGIN:VEVENT
SUMMARY:Connections\, St. Luke's All Age Service
DTSTART;TZID=Europe/London:20260614T110000
DTEND;TZID=Europe/London:20260614T114000
DTSTAMP:20260425T030531Z
UID:4053531781431200.0achurchnearyou
CATEGORIES:
DESCRIPTION:This service is held in the local primary school St. Luke's C 
 of E Primary\, Leek Road Endon ST9 9EB.\nThis is an all age service in a r
 elaxed and friendly atmosphere\, with time for a cuppa and a chat with act
 ivities for the children after the service\,
LOCATION:St. Luke's Primary School
URL:https://www.achurchnearyou.com/church/4274/service-and-events/events/4
 05353/
END:VEVENT
BEGIN:VEVENT
SUMMARY:Morning Prayer
DTSTART;TZID=Europe/London:20260621T091500
DTEND;TZID=Europe/London:20260621T101500
DTSTAMP:20260425T030531Z
UID:4053421782029700.0achurchnearyou
CATEGORIES:
DESCRIPTION:A
GEO:-2.10877;53.081418
LOCATION:Endon S.Luke
URL:https://www.achurchnearyou.com/church/4274/service-and-events/events/4
 05342/
END:VEVENT
BEGIN:VEVENT
SUMMARY:Connections\, St. Luke's All Age Service
DTSTART;TZID=Europe/London:20260621T110000
DTEND;TZID=Europe/London:20260621T114000
DTSTAMP:20260425T030531Z
UID:4053531782036000.0achurchnearyou
CATEGORIES:
DESCRIPTION:This service is held in the local primary school St. Luke's C 
 of E Primary\, Leek Road Endon ST9 9EB.\nThis is an all age service in a r
 elaxed and friendly atmosphere\, with time for a cuppa and a chat with act
 ivities for the children after the service\,
LOCATION:St. Luke's Primary School
URL:https://www.achurchnearyou.com/church/4274/service-and-events/events/4
 05353/
END:VEVENT
BEGIN:VEVENT
SUMMARY:Holy Communion
DTSTART;TZID=Europe/London:20260628T091500
DTEND;TZID=Europe/London:20260628T101500
DTSTAMP:20260425T030531Z
UID:4053411782634500.0achurchnearyou
CATEGORIES:
DESCRIPTION:A Common Worship Service held on the 2nd and 4th Sundays of th
 e month.
GEO:-2.10877;53.081418
LOCATION:Endon S.Luke
URL:https://www.achurchnearyou.com/church/4274/service-and-events/events/4
 05341/
END:VEVENT
BEGIN:VEVENT
SUMMARY:Connections\, St. Luke's All Age Service
DTSTART;TZID=Europe/London:20260628T110000
DTEND;TZID=Europe/London:20260628T114000
DTSTAMP:20260425T030531Z
UID:4053531782640800.0achurchnearyou
CATEGORIES:
DESCRIPTION:This service is held in the local primary school St. Luke's C 
 of E Primary\, Leek Road Endon ST9 9EB.\nThis is an all age service in a r
 elaxed and friendly atmosphere\, with time for a cuppa and a chat with act
 ivities for the children after the service\,
LOCATION:St. Luke's Primary School
URL:https://www.achurchnearyou.com/church/4274/service-and-events/events/4
 05353/
END:VEVENT
BEGIN:VEVENT
SUMMARY:Morning Prayer
DTSTART;TZID=Europe/London:20260705T091500
DTEND;TZID=Europe/London:20260705T101500
DTSTAMP:20260425T030531Z
UID:4053421783239300.0achurchnearyou
CATEGORIES:
DESCRIPTION:A
GEO:-2.10877;53.081418
LOCATION:Endon S.Luke
URL:https://www.achurchnearyou.com/church/4274/service-and-events/events/4
 05342/
END:VEVENT
BEGIN:VEVENT
SUMMARY:Connections\, St. Luke's All Age Service
DTSTART;TZID=Europe/London:20260705T110000
DTEND;TZID=Europe/London:20260705T114000
DTSTAMP:20260425T030531Z
UID:4053531783245600.0achurchnearyou
CATEGORIES:
DESCRIPTION:This service is held in the local primary school St. Luke's C 
 of E Primary\, Leek Road Endon ST9 9EB.\nThis is an all age service in a r
 elaxed and friendly atmosphere\, with time for a cuppa and a chat with act
 ivities for the children after the service\,
LOCATION:St. Luke's Primary School
URL:https://www.achurchnearyou.com/church/4274/service-and-events/events/4
 05353/
END:VEVENT
BEGIN:VEVENT
SUMMARY:Holy Communion
DTSTART;TZID=Europe/London:20260712T091500
DTEND;TZID=Europe/London:20260712T101500
DTSTAMP:20260425T030531Z
UID:4053411783844100.0achurchnearyou
CATEGORIES:
DESCRIPTION:A Common Worship Service held on the 2nd and 4th Sundays of th
 e month.
GEO:-2.10877;53.081418
LOCATION:Endon S.Luke
URL:https://www.achurchnearyou.com/church/4274/service-and-events/events/4
 05341/
END:VEVENT
BEGIN:VEVENT
SUMMARY:Connections\, St. Luke's All Age Service
DTSTART;TZID=Europe/London:20260712T110000
DTEND;TZID=Europe/London:20260712T114000
DTSTAMP:20260425T030531Z
UID:4053531783850400.0achurchnearyou
CATEGORIES:
DESCRIPTION:This service is held in the local primary school St. Luke's C 
 of E Primary\, Leek Road Endon ST9 9EB.\nThis is an all age service in a r
 elaxed and friendly atmosphere\, with time for a cuppa and a chat with act
 ivities for the children after the service\,
LOCATION:St. Luke's Primary School
URL:https://www.achurchnearyou.com/church/4274/service-and-events/events/4
 05353/
END:VEVENT
BEGIN:VEVENT
SUMMARY:Morning Prayer
DTSTART;TZID=Europe/London:20260719T091500
DTEND;TZID=Europe/London:20260719T101500
DTSTAMP:20260425T030531Z
UID:4053421784448900.0achurchnearyou
CATEGORIES:
DESCRIPTION:A
GEO:-2.10877;53.081418
LOCATION:Endon S.Luke
URL:https://www.achurchnearyou.com/church/4274/service-and-events/events/4
 05342/
END:VEVENT
BEGIN:VEVENT
SUMMARY:Connections\, St. Luke's All Age Service
DTSTART;TZID=Europe/London:20260719T110000
DTEND;TZID=Europe/London:20260719T114000
DTSTAMP:20260425T030531Z
UID:4053531784455200.0achurchnearyou
CATEGORIES:
DESCRIPTION:This service is held in the local primary school St. Luke's C 
 of E Primary\, Leek Road Endon ST9 9EB.\nThis is an all age service in a r
 elaxed and friendly atmosphere\, with time for a cuppa and a chat with act
 ivities for the children after the service\,
LOCATION:St. Luke's Primary School
URL:https://www.achurchnearyou.com/church/4274/service-and-events/events/4
 05353/
END:VEVENT
BEGIN:VEVENT
SUMMARY:Holy Communion
DTSTART;TZID=Europe/London:20260726T091500
DTEND;TZID=Europe/London:20260726T101500
DTSTAMP:20260425T030531Z
UID:4053411785053700.0achurchnearyou
CATEGORIES:
DESCRIPTION:A Common Worship Service held on the 2nd and 4th Sundays of th
 e month.
GEO:-2.10877;53.081418
LOCATION:Endon S.Luke
URL:https://www.achurchnearyou.com/church/4274/service-and-events/events/4
 05341/
END:VEVENT
BEGIN:VEVENT
SUMMARY:Connections\, St. Luke's All Age Service
DTSTART;TZID=Europe/London:20260726T110000
DTEND;TZID=Europe/London:20260726T114000
DTSTAMP:20260425T030531Z
UID:4053531785060000.0achurchnearyou
CATEGORIES:
DESCRIPTION:This service is held in the local primary school St. Luke's C 
 of E Primary\, Leek Road Endon ST9 9EB.\nThis is an all age service in a r
 elaxed and friendly atmosphere\, with time for a cuppa and a chat with act
 ivities for the children after the service\,
LOCATION:St. Luke's Primary School
URL:https://www.achurchnearyou.com/church/4274/service-and-events/events/4
 05353/
END:VEVENT
BEGIN:VEVENT
SUMMARY:Morning Prayer
DTSTART;TZID=Europe/London:20260802T091500
DTEND;TZID=Europe/London:20260802T101500
DTSTAMP:20260425T030531Z
UID:4053421785658500.0achurchnearyou
CATEGORIES:
DESCRIPTION:A
GEO:-2.10877;53.081418
LOCATION:Endon S.Luke
URL:https://www.achurchnearyou.com/church/4274/service-and-events/events/4
 05342/
END:VEVENT
BEGIN:VEVENT
SUMMARY:Connections\, St. Luke's All Age Service
DTSTART;TZID=Europe/London:20260802T110000
DTEND;TZID=Europe/London:20260802T114000
DTSTAMP:20260425T030531Z
UID:4053531785664800.0achurchnearyou
CATEGORIES:
DESCRIPTION:This service is held in the local primary school St. Luke's C 
 of E Primary\, Leek Road Endon ST9 9EB.\nThis is an all age service in a r
 elaxed and friendly atmosphere\, with time for a cuppa and a chat with act
 ivities for the children after the service\,
LOCATION:St. Luke's Primary School
URL:https://www.achurchnearyou.com/church/4274/service-and-events/events/4
 05353/
END:VEVENT
BEGIN:VEVENT
SUMMARY:Holy Communion
DTSTART;TZID=Europe/London:20260809T091500
DTEND;TZID=Europe/London:20260809T101500
DTSTAMP:20260425T030531Z
UID:4053411786263300.0achurchnearyou
CATEGORIES:
DESCRIPTION:A Common Worship Service held on the 2nd and 4th Sundays of th
 e month.
GEO:-2.10877;53.081418
LOCATION:Endon S.Luke
URL:https://www.achurchnearyou.com/church/4274/service-and-events/events/4
 05341/
END:VEVENT
BEGIN:VEVENT
SUMMARY:Connections\, St. Luke's All Age Service
DTSTART;TZID=Europe/London:20260809T110000
DTEND;TZID=Europe/London:20260809T114000
DTSTAMP:20260425T030531Z
UID:4053531786269600.0achurchnearyou
CATEGORIES:
DESCRIPTION:This service is held in the local primary school St. Luke's C 
 of E Primary\, Leek Road Endon ST9 9EB.\nThis is an all age service in a r
 elaxed and friendly atmosphere\, with time for a cuppa and a chat with act
 ivities for the children after the service\,
LOCATION:St. Luke's Primary School
URL:https://www.achurchnearyou.com/church/4274/service-and-events/events/4
 05353/
END:VEVENT
BEGIN:VEVENT
SUMMARY:Morning Prayer
DTSTART;TZID=Europe/London:20260816T091500
DTEND;TZID=Europe/London:20260816T101500
DTSTAMP:20260425T030531Z
UID:4053421786868100.0achurchnearyou
CATEGORIES:
DESCRIPTION:A
GEO:-2.10877;53.081418
LOCATION:Endon S.Luke
URL:https://www.achurchnearyou.com/church/4274/service-and-events/events/4
 05342/
END:VEVENT
BEGIN:VEVENT
SUMMARY:Connections\, St. Luke's All Age Service
DTSTART;TZID=Europe/London:20260816T110000
DTEND;TZID=Europe/London:20260816T114000
DTSTAMP:20260425T030531Z
UID:4053531786874400.0achurchnearyou
CATEGORIES:
DESCRIPTION:This service is held in the local primary school St. Luke's C 
 of E Primary\, Leek Road Endon ST9 9EB.\nThis is an all age service in a r
 elaxed and friendly atmosphere\, with time for a cuppa and a chat with act
 ivities for the children after the service\,
LOCATION:St. Luke's Primary School
URL:https://www.achurchnearyou.com/church/4274/service-and-events/events/4
 05353/
END:VEVENT
BEGIN:VEVENT
SUMMARY:Holy Communion
DTSTART;TZID=Europe/London:20260823T091500
DTEND;TZID=Europe/London:20260823T101500
DTSTAMP:20260425T030531Z
UID:4053411787472900.0achurchnearyou
CATEGORIES:
DESCRIPTION:A Common Worship Service held on the 2nd and 4th Sundays of th
 e month.
GEO:-2.10877;53.081418
LOCATION:Endon S.Luke
URL:https://www.achurchnearyou.com/church/4274/service-and-events/events/4
 05341/
END:VEVENT
BEGIN:VEVENT
SUMMARY:Connections\, St. Luke's All Age Service
DTSTART;TZID=Europe/London:20260823T110000
DTEND;TZID=Europe/London:20260823T114000
DTSTAMP:20260425T030531Z
UID:4053531787479200.0achurchnearyou
CATEGORIES:
DESCRIPTION:This service is held in the local primary school St. Luke's C 
 of E Primary\, Leek Road Endon ST9 9EB.\nThis is an all age service in a r
 elaxed and friendly atmosphere\, with time for a cuppa and a chat with act
 ivities for the children after the service\,
LOCATION:St. Luke's Primary School
URL:https://www.achurchnearyou.com/church/4274/service-and-events/events/4
 05353/
END:VEVENT
BEGIN:VEVENT
SUMMARY:Connections\, St. Luke's All Age Service
DTSTART;TZID=Europe/London:20260830T110000
DTEND;TZID=Europe/London:20260830T114000
DTSTAMP:20260425T030531Z
UID:4053531788084000.0achurchnearyou
CATEGORIES:
DESCRIPTION:This service is held in the local primary school St. Luke's C 
 of E Primary\, Leek Road Endon ST9 9EB.\nThis is an all age service in a r
 elaxed and friendly atmosphere\, with time for a cuppa and a chat with act
 ivities for the children after the service\,
LOCATION:St. Luke's Primary School
URL:https://www.achurchnearyou.com/church/4274/service-and-events/events/4
 05353/
END:VEVENT
BEGIN:VEVENT
SUMMARY:Morning Prayer
DTSTART;TZID=Europe/London:20260906T091500
DTEND;TZID=Europe/London:20260906T101500
DTSTAMP:20260425T030531Z
UID:4053421788682500.0achurchnearyou
CATEGORIES:
DESCRIPTION:A
GEO:-2.10877;53.081418
LOCATION:Endon S.Luke
URL:https://www.achurchnearyou.com/church/4274/service-and-events/events/4
 05342/
END:VEVENT
BEGIN:VEVENT
SUMMARY:Connections\, St. Luke's All Age Service
DTSTART;TZID=Europe/London:20260906T110000
DTEND;TZID=Europe/London:20260906T114000
DTSTAMP:20260425T030531Z
UID:4053531788688800.0achurchnearyou
CATEGORIES:
DESCRIPTION:This service is held in the local primary school St. Luke's C 
 of E Primary\, Leek Road Endon ST9 9EB.\nThis is an all age service in a r
 elaxed and friendly atmosphere\, with time for a cuppa and a chat with act
 ivities for the children after the service\,
LOCATION:St. Luke's Primary School
URL:https://www.achurchnearyou.com/church/4274/service-and-events/events/4
 05353/
END:VEVENT
BEGIN:VEVENT
SUMMARY:Holy Communion
DTSTART;TZID=Europe/London:20260913T091500
DTEND;TZID=Europe/London:20260913T101500
DTSTAMP:20260425T030531Z
UID:4053411789287300.0achurchnearyou
CATEGORIES:
DESCRIPTION:A Common Worship Service held on the 2nd and 4th Sundays of th
 e month.
GEO:-2.10877;53.081418
LOCATION:Endon S.Luke
URL:https://www.achurchnearyou.com/church/4274/service-and-events/events/4
 05341/
END:VEVENT
BEGIN:VEVENT
SUMMARY:Connections\, St. Luke's All Age Service
DTSTART;TZID=Europe/London:20260913T110000
DTEND;TZID=Europe/London:20260913T114000
DTSTAMP:20260425T030531Z
UID:4053531789293600.0achurchnearyou
CATEGORIES:
DESCRIPTION:This service is held in the local primary school St. Luke's C 
 of E Primary\, Leek Road Endon ST9 9EB.\nThis is an all age service in a r
 elaxed and friendly atmosphere\, with time for a cuppa and a chat with act
 ivities for the children after the service\,
LOCATION:St. Luke's Primary School
URL:https://www.achurchnearyou.com/church/4274/service-and-events/events/4
 05353/
END:VEVENT
BEGIN:VEVENT
SUMMARY:Morning Prayer
DTSTART;TZID=Europe/London:20260920T091500
DTEND;TZID=Europe/London:20260920T101500
DTSTAMP:20260425T030531Z
UID:4053421789892100.0achurchnearyou
CATEGORIES:
DESCRIPTION:A
GEO:-2.10877;53.081418
LOCATION:Endon S.Luke
URL:https://www.achurchnearyou.com/church/4274/service-and-events/events/4
 05342/
END:VEVENT
BEGIN:VEVENT
SUMMARY:Connections\, St. Luke's All Age Service
DTSTART;TZID=Europe/London:20260920T110000
DTEND;TZID=Europe/London:20260920T114000
DTSTAMP:20260425T030531Z
UID:4053531789898400.0achurchnearyou
CATEGORIES:
DESCRIPTION:This service is held in the local primary school St. Luke's C 
 of E Primary\, Leek Road Endon ST9 9EB.\nThis is an all age service in a r
 elaxed and friendly atmosphere\, with time for a cuppa and a chat with act
 ivities for the children after the service\,
LOCATION:St. Luke's Primary School
URL:https://www.achurchnearyou.com/church/4274/service-and-events/events/4
 05353/
END:VEVENT
BEGIN:VEVENT
SUMMARY:Holy Communion
DTSTART;TZID=Europe/London:20260927T091500
DTEND;TZID=Europe/London:20260927T101500
DTSTAMP:20260425T030531Z
UID:4053411790496900.0achurchnearyou
CATEGORIES:
DESCRIPTION:A Common Worship Service held on the 2nd and 4th Sundays of th
 e month.
GEO:-2.10877;53.081418
LOCATION:Endon S.Luke
URL:https://www.achurchnearyou.com/church/4274/service-and-events/events/4
 05341/
END:VEVENT
BEGIN:VEVENT
SUMMARY:Connections\, St. Luke's All Age Service
DTSTART;TZID=Europe/London:20260927T110000
DTEND;TZID=Europe/London:20260927T114000
DTSTAMP:20260425T030531Z
UID:4053531790503200.0achurchnearyou
CATEGORIES:
DESCRIPTION:This service is held in the local primary school St. Luke's C 
 of E Primary\, Leek Road Endon ST9 9EB.\nThis is an all age service in a r
 elaxed and friendly atmosphere\, with time for a cuppa and a chat with act
 ivities for the children after the service\,
LOCATION:St. Luke's Primary School
URL:https://www.achurchnearyou.com/church/4274/service-and-events/events/4
 05353/
END:VEVENT
END:VCALENDAR
